Workbook

Sheet Исходные данные
A2: Зимнее удорожание: исходные данные
A3: Жёлтые поля заполняет сметчик. Формулы пересчитываются при открытии в Excel. | B3: Методика № 325/пр, редакция от 30.03.2026
A4: Показатель | B4: Значение | C4: Основание или пояснение
A5: Объект
A6: Номер расчёта
A7: Дата расчёта
A8: Вид строительства
A9: Адрес и часть территории
A10: Проект организации строительства
A11: Календарный план
A12: Строительство исключительно летом
A13: Пусконаладочные работы
A14: Работы подпунктов 3.4, 3.5, 3.6 приложения 2 в отапливаемом помещении при условиях пункта 9
A15: Приложение с НДЗ
A16: Строка НДЗ
... A25: Документ проверки применимости и выбора НДЗ
A27: Применимость по пункту 9 | B27: =IF(OR(B12="",B13="",B14="",C12="",C13="",C14=""),"Требуется проверка применимости",IF(OR(B12="Да",B13="Да",B14="Да"),"НДЗ не применяется",IF(AND(B12="Нет",B13="Нет",B14="Нет"),"Применимо по исходным данным","Требуется проверка применимости"))) -> Требуется проверка применимости | C27: Не выводит результат без ответов и оснований
A28: Полнота исходных данных | B28: =IF(OR(B5="",B6="",B7="",B8="",B9="",B10="",B11="",B15="",B16="",B17="",B18="",B24="",B25="",C15="",C16="",C17="",C18="",C19="",C20="",C21="",C22="",C23="",C24="",C25="",COUNT(B19:B23)<>5,B19<=0,MIN(B20:B23)<=0),"Требуется заполнить данные и основания","Исходные данные заполнены") -> Требуется заполнить данные и основания | C28: Проверяются документы, числовой НДЗ и основания коэффициентов

Sheet База
A2: База начисления, руб.
A3: Жёлтые поля заполняет сметчик. Формулы пересчитываются при открытии в Excel. | B3: Методика № 325/пр, редакция от 30.03.2026
A4: Показатель | B4: Значение | C4: Основание или пояснение
A5: Номер объекта
A6: Наименование объекта
A7: Глава ССРСС для объекта
A8: Исходная объектная или локальная смета
A9: Единый уровень цен, без НДС
A10: Строительные работы, руб.
A11: Монтажные работы, руб.
A12: ВЗиС по строительным работам, руб.
A13: ВЗиС по монтажным работам, руб.
A14: Оборудование, руб., вне базы
A15: ВЗиС уже включены в суммы работ
A16: Основание распределения ВЗиС
A17: Исходные суммы уже содержат зимние затраты
A20: Полнота и повторное начисление | B20: =IF(B17="Да","Требуется исключить повторное начисление",IF(OR(B5="",B6="",B7="",B8="",B9="",B16="",COUNT(B10:B14)<>5,MIN(B10:B14)<0,NOT(ISNUMBER(B7)),B7<1,B7>7,AND(B15<>"Да",B15<>"Нет"),B17<>"Нет",C10="",C11="",C12="",C13="",C14="",C15="",C16="",C17=""),"Требуется заполнить базу и основания","База заполнена")) -> Требуется заполнить базу и основания | C20: Оборудование показано для контроля, в формуле базы отсутствует
A21: База графы 4, руб. | B21: =IF(B20="База заполнена",B10+IF(B15="Да",0,B12),"") | C21: Строительные работы + ВЗиС, если они не включены
A22: База графы 5, руб. | B22: =IF(B20="База заполнена",B11+IF(B15="Да",0,B13),"") | C22: Монтажные работы + ВЗиС, если они не включены

Sheet Расчёт
A2: Расчёт зимних затрат
A3: Жёлтые поля заполняет сметчик. Формулы пересчитываются при открытии в Excel. | B3: Методика № 325/пр, редакция от 30.03.2026
A4: Показатель | B4: Значение | C4: Основание или пояснение
A5: Статус расчёта | B5: =IF('Исходные данные'!B27<>"Применимо по исходным данным",'Исходные данные'!B27,IF('Исходные данные'!B28<>"Исходные данные заполнены",'Исходные данные'!B28,IF('База'!B20<>"База заполнена",'База'!B20,"Расчёт выполнен"))) -> Требуется проверка применимости | C5: Итог выводится после заполнения исходных данных и базы
A7: База графы 4, руб. | B7: =IF(B5="Расчёт выполнен",'База'!B21,"") | C7: Из исходных данных или базы
A8: База графы 5, руб. | B8: =IF(B5="Расчёт выполнен",'База'!B22,"") | C8: Из исходных данных или базы
A9: НДЗ | B9: =IF(B5="Расчёт выполнен",'Исходные данные'!B19,"") | C9: Из исходных данных или базы
A10: Территориальный коэффициент | B10: =IF(B5="Расчёт выполнен",'Исходные данные'!B20,"") | C10: Из исходных данных или базы
A11: Жилищный коэффициент | B11: =IF(B5="Расчёт выполнен",'Исходные данные'!B21,"") | C11: Из исходных данных или базы
A12: Ветровой коэффициент | B12: =IF(B5="Расчёт выполнен",'Исходные данные'!B22,"") | C12: Из исходных данных или базы
A13: Другой коэффициент | B13: =IF(B5="Расчёт выполнен",'Исходные данные'!B23,"") | C13: Из исходных данных или базы
A14: НДЗ с поправками | B14: =IF(B5="Расчёт выполнен",B9*B10*B11*B12*B13,"") | C14: НДЗ × применимые коэффициенты
A15: Зимние затраты, графа 4, руб. | B15: =IF(B5="Расчёт выполнен",ROUND(B7*B14,2),"") | C15: База строительных работ × НДЗ с поправками
A16: Зимние затраты, графа 5, руб. | B16: =IF(B5="Расчёт выполнен",ROUND(B8*B14,2),"") | C16: База монтажных работ × НДЗ с поправками
A17: Всего, графа 8, руб. | B17: =IF(B5="Расчёт выполнен",SUM(B15:B16),"") | C17: Сумма граф 4 и 5
A19: Графа 4, тыс. руб. | B19: =IF(B5="Расчёт выполнен",ROUND(B15/1000,2),"") | C19: Для строки главы 9 ССРСС
A20: Графа 5, тыс. руб. | B20: =IF(B5="Расчёт выполнен",ROUND(B16/1000,2),"") | C20: Для строки главы 9 ССРСС
A21: Графа 8, тыс. руб. | B21: =IF(B5="Расчёт выполнен",SUM(B19:B20),"") | C21: Сумма показанных граф 4 и 5
A23: Контроль ошибок | C23: Следующие суммы не входят в итог расчёта
A25: Ошибочный вариант без ВЗиС, руб. | B25: =IF(B5="Расчёт выполнен",ROUND(('База'!B10+'База'!B11-IF('База'!B15="Да",'База'!B12+'База'!B13,0))*B14,2),"") | C25: Из исходных работ исключается уже включённая доля ВЗиС
A26: Недостающая сумма без ВЗиС, руб. | B26: =IF(B5="Расчёт выполнен",B17-B25,"") | C26: Верный итог минус ошибочный вариант
A27: Ошибка с добавлением оборудования, руб. | B27: =IF(B5="Расчёт выполнен",ROUND((SUM(B7:B8)+'База'!B14)*B14,2),"") | C27: Стоимость приобретения оборудования не входит в базу
A28: Завышение из-за оборудования, руб. | B28: =IF(B5="Расчёт выполнен",B27-B17,"") | C28: Ошибочный вариант минус верный итог

Sheet Проверка
A2: Проверка расчёта и подписи
A3: Жёлтые поля заполняет сметчик. Формулы пересчитываются при открытии в Excel. | B3: Методика № 325/пр, редакция от 30.03.2026
A4: Показатель | B4: Значение | C4: Основание или пояснение
A5: Применимость по пункту 9 | B5: ='Исходные данные'!B27 -> Требуется проверка применимости | C5: Проверьте соответствующие исходные поля
A6: Документы, норматив и коэффициенты | B6: ='Исходные данные'!B28 -> Требуется заполнить данные и основания | C6: Проверьте соответствующие исходные поля
A7: Исходная база и повторное начисление | B7: ='База'!B20 -> Требуется заполнить базу и основания | C7: Проверьте соответствующие исходные поля
A8: ВЗиС учтены один раз | B8: =IF('База'!B15="","Требуется проверка",IF('База'!B15="Да","ВЗиС повторно не прибавляются","ВЗиС прибавляются отдельно")) -> Требуется проверка | C8: Флаг на листе База определяет, нужно ли прибавлять ВЗиС
A9: Оборудование вне базы | B9: =IF('Расчёт'!B5="Расчёт выполнен","Оборудование не включено в базу","Требуется заполнить расчёт") -> Требуется заполнить расчёт | C9: Осмотрите формулы базы: ссылка на стоимость оборудования отсутствует
A10: Отдельные расходы: снег, тепляки, отопление
A11: Проверка строки главы 9
A12: Сверка суммы граф 4 и 5 с графой 8 | B12: =IF('Расчёт'!B5="Расчёт выполнен",'Расчёт'!B17-SUM('Расчёт'!B15:B16),"Требуется заполнить расчёт") -> Требуется заполнить расчёт | C12: Контроль в рублях
A14: Составил
A15: Проверил
A16: Дата проверки

Sheet Источники
A2: Нормативные основания
A3: Жёлтые поля заполняет сметчик. Формулы пересчитываются при открытии в Excel. | B3: Методика № 325/пр, редакция от 30.03.2026
A4: Показатель | B4: Значение | C4: Основание или пояснение
A5: Приказ Минстроя России от 25.05.2021 № 325/пр | B5: Пункты 9, 11, 13, 17, 18 «г»; приложение 1, строка 82, графа 5; приложение 4, строка 54 | C5: http://publication.pravo.gov.ru/Document/View/0001202107280029
A6: Приказ Минстроя России от 21.03.2025 № 170/пр | B6: Изменения к Методике № 325/пр: база, снос, снег, расчётный метод | C6: http://publication.pravo.gov.ru/Document/View/0001202509120004
A7: Приказ Минстроя России от 30.03.2026 № 192/пр | B7: Изменения к приложению 1, строка 55(5), и приложению 4, строка 83(1) | C7: http://publication.pravo.gov.ru/Document/View/0001202605040026
A8: Редакция методики | B8: 30.03.2026 | C8: Проверено 05.10.2026
A9: Исходные суммы | B9: Заполните суммы по своим сметным документам | C9: Все исходные итоги без НДС, в одном уровне цен; ВЗиС задаются раздельно
A10: Назначение ведомости | B10: Нормативный метод, один объект на расчёт | C10: Выбор НДЗ и условий подтверждает сметчик; для разных нормативов составляют отдельные расчёты
A11: Процент Excel | B11: Введите, например, 1,2% | C11: Значение хранится как 0,012; повторное деление на 100 в формулах не выполняется
A12: Жилищный коэффициент | B12: Не применяется без условий пункта 18 «г» | C12: При неприменимости впишите 1 и основание этого решения
A13: Расчётный метод | B13: Пункты 27, 28, 29, 30 и 31 | C13: Эта ведомость не рассчитывает НДЗ по приложению 3; используйте отдельное обоснование
