Workbook

Sheet Инструкция
A2: Ведомость карт ямочного ремонта
A5: Порядок | B5: Действие | C5: Условие
A6: 1 | B6: Заполните объект, адрес, основание и дату обследования на листе «Карты». | C6: Жёлтые ячейки предназначены для исходных данных.
A7: 2 | B7: Запишите размеры и число карт с одинаковыми условиями. Формулы рассчитаны для прямоугольных карт. | C7: Для сложной формы разбейте карту на непересекающиеся прямоугольные участки. При выборе шифра учитывайте площадь целого места ремонта.
A8: 3 | B8: Укажите толщину, технологию, основание, материал, движение, отходы и маршрут. | C8: Не объединяйте карты, если толщина или технология различаются.
A9: 4 | B9: Сметчик выбирает шифр в графе «Проверенный шифр». Автоматического утверждения нет. | C9: Выбор по таблице 68-02-007 допустим при совпадении технологии и параметров. При 60 мм или площади больше 25 м² требуется отдельное решение.
A10: 5 | B10: Проверьте сообщение в последней графе и итоговые площади на листе «Подбор». | C10: Сообщение «Сверить и утвердить» означает только совпадение заполненных параметров. Подбор утверждает сметчик.
A11: 6 | B11: Откройте «Ресурсы»: формулы связывают количество с нормативным расходом. | C11: Расход смеси и битума взят из официальной таблицы ГЭСНр 68-02-007. Цены и итоговая стоимость здесь не рассчитываются.
A12: 7 | B12: Перед сметой сверяйте принятые изменения базы, ресурсы и дополнительные работы. | C12: Не дублируйте разломку, проливку, укладку и укатку. Массу отходов и условия перевозки подтверждайте документацией.
A13: 8 | B13: Бланк: заполните строки 8 по 37. При добавлении строк расширьте диапазоны формул. | C13: Форма предназначена для подготовки ведомости, не является нормативно утверждённым бланком.
A15: База | B15: ГЭСНр ФСНБ-2022 | C15: Источники проверены 07.10.2026.
A16: Редакция | C16: Укажите изменения базы для вашей сметы.

Sheet Карты
A2: Карты: исходные данные
A3: Объект
A4: Адрес
A5: Документ-основание
A6: Дата обследования
A7: Группа | B7: Карты | C7: Длина, м | D7: Ширина, м | E7: Карт, шт. | F7: Одна карта, м² | G7: Площадь, м² | H7: Слой, мм | I7: Технология | J7: Основание / дефект | K7: Материал | L7: Движение | M7: Отходы, т | N7: Погрузка | O7: Маршрут / дальность | P7: Примечание | Q7: Проверенный шифр | R7: Проверка параметров
A8: 1 | F8: =IF(COUNT(C8:E8)<3,"",C8*D8) | G8: =IF(F8="","",F8*E8) | R8: =IF(G8="","",IF(OR(C8<=0,D8<=0,E8<=0,MOD(E8,1)<>0,F8>25,AND(H8<>50,H8<>70,H8<>80),I8<>"Разломка, обработка краёв, укладка, укатка"),"Проверка сметчика",IF(Q8="","Выберите шифр",IF(OR(AND(Q8="68-02-007-01",H8=50,F8<=5),AND(Q8="68-02-007-02",H8=50,F8<=25,F8>5),AND(Q8="68-02-007-03",H8=70,F8<=5),AND(Q8="68-02-007-04",H8=70,F8<=25,F8>5),AND(Q8="68-02-007-05",H8=80,F8<=5),AND(Q8="68-02-007-06",H8=80,F8<=25,F8>5)),"Сверить и утвердить","Проверка сметчика"))))
A9: 2 | F9: =IF(COUNT(C9:E9)<3,"",C9*D9) | G9: =IF(F9="","",F9*E9) | R9: =IF(G9="","",IF(OR(C9<=0,D9<=0,E9<=0,MOD(E9,1)<>0,F9>25,AND(H9<>50,H9<>70,H9<>80),I9<>"Разломка, обработка краёв, укладка, укатка"),"Проверка сметчика",IF(Q9="","Выберите шифр",IF(OR(AND(Q9="68-02-007-01",H9=50,F9<=5),AND(Q9="68-02-007-02",H9=50,F9<=25,F9>5),AND(Q9="68-02-007-03",H9=70,F9<=5),AND(Q9="68-02-007-04",H9=70,F9<=25,F9>5),AND(Q9="68-02-007-05",H9=80,F9<=5),AND(Q9="68-02-007-06",H9=80,F9<=25,F9>5)),"Сверить и утвердить","Проверка сметчика"))))
A10: 3 | F10: =IF(COUNT(C10:E10)<3,"",C10*D10) | G10: =IF(F10="","",F10*E10) | R10: =IF(G10="","",IF(OR(C10<=0,D10<=0,E10<=0,MOD(E10,1)<>0,F10>25,AND(H10<>50,H10<>70,H10<>80),I10<>"Разломка, обработка краёв, укладка, укатка"),"Проверка сметчика",IF(Q10="","Выберите шифр",IF(OR(AND(Q10="68-02-007-01",H10=50,F10<=5),AND(Q10="68-02-007-02",H10=50,F10<=25,F10>5),AND(Q10="68-02-007-03",H10=70,F10<=5),AND(Q10="68-02-007-04",H10=70,F10<=25,F10>5),AND(Q10="68-02-007-05",H10=80,F10<=5),AND(Q10="68-02-007-06",H10=80,F10<=25,F10>5)),"Сверить и утвердить","Проверка сметчика"))))
A11: 4 | F11: =IF(COUNT(C11:E11)<3,"",C11*D11) | G11: =IF(F11="","",F11*E11) | R11: =IF(G11="","",IF(OR(C11<=0,D11<=0,E11<=0,MOD(E11,1)<>0,F11>25,AND(H11<>50,H11<>70,H11<>80),I11<>"Разломка, обработка краёв, укладка, укатка"),"Проверка сметчика",IF(Q11="","Выберите шифр",IF(OR(AND(Q11="68-02-007-01",H11=50,F11<=5),AND(Q11="68-02-007-02",H11=50,F11<=25,F11>5),AND(Q11="68-02-007-03",H11=70,F11<=5),AND(Q11="68-02-007-04",H11=70,F11<=25,F11>5),AND(Q11="68-02-007-05",H11=80,F11<=5),AND(Q11="68-02-007-06",H11=80,F11<=25,F11>5)),"Сверить и утвердить","Проверка сметчика"))))
A12: 5 | F12: =IF(COUNT(C12:E12)<3,"",C12*D12) | G12: =IF(F12="","",F12*E12) | R12: =IF(G12="","",IF(OR(C12<=0,D12<=0,E12<=0,MOD(E12,1)<>0,F12>25,AND(H12<>50,H12<>70,H12<>80),I12<>"Разломка, обработка краёв, укладка, укатка"),"Проверка сметчика",IF(Q12="","Выберите шифр",IF(OR(AND(Q12="68-02-007-01",H12=50,F12<=5),AND(Q12="68-02-007-02",H12=50,F12<=25,F12>5),AND(Q12="68-02-007-03",H12=70,F12<=5),AND(Q12="68-02-007-04",H12=70,F12<=25,F12>5),AND(Q12="68-02-007-05",H12=80,F12<=5),AND(Q12="68-02-007-06",H12=80,F12<=25,F12>5)),"Сверить и утвердить","Проверка сметчика"))))
A13: 6 | F13: =IF(COUNT(C13:E13)<3,"",C13*D13) | G13: =IF(F13="","",F13*E13) | R13: =IF(G13="","",IF(OR(C13<=0,D13<=0,E13<=0,MOD(E13,1)<>0,F13>25,AND(H13<>50,H13<>70,H13<>80),I13<>"Разломка, обработка краёв, укладка, укатка"),"Проверка сметчика",IF(Q13="","Выберите шифр",IF(OR(AND(Q13="68-02-007-01",H13=50,F13<=5),AND(Q13="68-02-007-02",H13=50,F13<=25,F13>5),AND(Q13="68-02-007-03",H13=70,F13<=5),AND(Q13="68-02-007-04",H13=70,F13<=25,F13>5),AND(Q13="68-02-007-05",H13=80,F13<=5),AND(Q13="68-02-007-06",H13=80,F13<=25,F13>5)),"Сверить и утвердить","Проверка сметчика"))))
A14: 7 | F14: =IF(COUNT(C14:E14)<3,"",C14*D14) | G14: =IF(F14="","",F14*E14) | R14: =IF(G14="","",IF(OR(C14<=0,D14<=0,E14<=0,MOD(E14,1)<>0,F14>25,AND(H14<>50,H14<>70,H14<>80),I14<>"Разломка, обработка краёв, укладка, укатка"),"Проверка сметчика",IF(Q14="","Выберите шифр",IF(OR(AND(Q14="68-02-007-01",H14=50,F14<=5),AND(Q14="68-02-007-02",H14=50,F14<=25,F14>5),AND(Q14="68-02-007-03",H14=70,F14<=5),AND(Q14="68-02-007-04",H14=70,F14<=25,F14>5),AND(Q14="68-02-007-05",H14=80,F14<=5),AND(Q14="68-02-007-06",H14=80,F14<=25,F14>5)),"Сверить и утвердить","Проверка сметчика"))))
A15: 8 | F15: =IF(COUNT(C15:E15)<3,"",C15*D15) | G15: =IF(F15="","",F15*E15) | R15: =IF(G15="","",IF(OR(C15<=0,D15<=0,E15<=0,MOD(E15,1)<>0,F15>25,AND(H15<>50,H15<>70,H15<>80),I15<>"Разломка, обработка краёв, укладка, укатка"),"Проверка сметчика",IF(Q15="","Выберите шифр",IF(OR(AND(Q15="68-02-007-01",H15=50,F15<=5),AND(Q15="68-02-007-02",H15=50,F15<=25,F15>5),AND(Q15="68-02-007-03",H15=70,F15<=5),AND(Q15="68-02-007-04",H15=70,F15<=25,F15>5),AND(Q15="68-02-007-05",H15=80,F15<=5),AND(Q15="68-02-007-06",H15=80,F15<=25,F15>5)),"Сверить и утвердить","Проверка сметчика"))))
A16: 9 | F16: =IF(COUNT(C16:E16)<3,"",C16*D16) | G16: =IF(F16="","",F16*E16) | R16: =IF(G16="","",IF(OR(C16<=0,D16<=0,E16<=0,MOD(E16,1)<>0,F16>25,AND(H16<>50,H16<>70,H16<>80),I16<>"Разломка, обработка краёв, укладка, укатка"),"Проверка сметчика",IF(Q16="","Выберите шифр",IF(OR(AND(Q16="68-02-007-01",H16=50,F16<=5),AND(Q16="68-02-007-02",H16=50,F16<=25,F16>5),AND(Q16="68-02-007-03",H16=70,F16<=5),AND(Q16="68-02-007-04",H16=70,F16<=25,F16>5),AND(Q16="68-02-007-05",H16=80,F16<=5),AND(Q16="68-02-007-06",H16=80,F16<=25,F16>5)),"Сверить и утвердить","Проверка сметчика"))))
A17: 10 | F17: =IF(COUNT(C17:E17)<3,"",C17*D17) | G17: =IF(F17="","",F17*E17) | R17: =IF(G17="","",IF(OR(C17<=0,D17<=0,E17<=0,MOD(E17,1)<>0,F17>25,AND(H17<>50,H17<>70,H17<>80),I17<>"Разломка, обработка краёв, укладка, укатка"),"Проверка сметчика",IF(Q17="","Выберите шифр",IF(OR(AND(Q17="68-02-007-01",H17=50,F17<=5),AND(Q17="68-02-007-02",H17=50,F17<=25,F17>5),AND(Q17="68-02-007-03",H17=70,F17<=5),AND(Q17="68-02-007-04",H17=70,F17<=25,F17>5),AND(Q17="68-02-007-05",H17=80,F17<=5),AND(Q17="68-02-007-06",H17=80,F17<=25,F17>5)),"Сверить и утвердить","Проверка сметчика"))))
A18: 11 | F18: =IF(COUNT(C18:E18)<3,"",C18*D18) | G18: =IF(F18="","",F18*E18) | R18: =IF(G18="","",IF(OR(C18<=0,D18<=0,E18<=0,MOD(E18,1)<>0,F18>25,AND(H18<>50,H18<>70,H18<>80),I18<>"Разломка, обработка краёв, укладка, укатка"),"Проверка сметчика",IF(Q18="","Выберите шифр",IF(OR(AND(Q18="68-02-007-01",H18=50,F18<=5),AND(Q18="68-02-007-02",H18=50,F18<=25,F18>5),AND(Q18="68-02-007-03",H18=70,F18<=5),AND(Q18="68-02-007-04",H18=70,F18<=25,F18>5),AND(Q18="68-02-007-05",H18=80,F18<=5),AND(Q18="68-02-007-06",H18=80,F18<=25,F18>5)),"Сверить и утвердить","Проверка сметчика"))))
A19: 12 | F19: =IF(COUNT(C19:E19)<3,"",C19*D19) | G19: =IF(F19="","",F19*E19) | R19: =IF(G19="","",IF(OR(C19<=0,D19<=0,E19<=0,MOD(E19,1)<>0,F19>25,AND(H19<>50,H19<>70,H19<>80),I19<>"Разломка, обработка краёв, укладка, укатка"),"Проверка сметчика",IF(Q19="","Выберите шифр",IF(OR(AND(Q19="68-02-007-01",H19=50,F19<=5),AND(Q19="68-02-007-02",H19=50,F19<=25,F19>5),AND(Q19="68-02-007-03",H19=70,F19<=5),AND(Q19="68-02-007-04",H19=70,F19<=25,F19>5),AND(Q19="68-02-007-05",H19=80,F19<=5),AND(Q19="68-02-007-06",H19=80,F19<=25,F19>5)),"Сверить и утвердить","Проверка сметчика"))))
... A37: 30 | F37: =IF(COUNT(C37:E37)<3,"",C37*D37) | G37: =IF(F37="","",F37*E37) | R37: =IF(G37="","",IF(OR(C37<=0,D37<=0,E37<=0,MOD(E37,1)<>0,F37>25,AND(H37<>50,H37<>70,H37<>80),I37<>"Разломка, обработка краёв, укладка, укатка"),"Проверка сметчика",IF(Q37="","Выберите шифр",IF(OR(AND(Q37="68-02-007-01",H37=50,F37<=5),AND(Q37="68-02-007-02",H37=50,F37<=25,F37>5),AND(Q37="68-02-007-03",H37=70,F37<=5),AND(Q37="68-02-007-04",H37=70,F37<=25,F37>5),AND(Q37="68-02-007-05",H37=80,F37<=5),AND(Q37="68-02-007-06",H37=80,F37<=25,F37>5)),"Сверить и утвердить","Проверка сметчика"))))
A38: Итого | E38: =SUM(E8:E37) -> 0 | G38: =SUM(G8:G37) -> 0

Sheet Подбор
A2: Подбор по группам карт
A4: Только строки с проверенным шифром и совпадающими параметрами. Сметчик сверяет и утверждает подбор.
A5: ГЭСНр | B5: База | C5: Название нормы | D5: Измеритель | E5: Площадь, м² | F5: Количество | G5: Труд на 100 м², чел.-ч | H5: Труд на объём, чел.-ч | I5: Каток на 100 м², маш.-ч | J5: Каток на объём, маш.-ч | K5: Учтённые операции | L5: Дополнительная работа | M5: Основание
A6: 68-02-007-01 | B6: ГЭСНр ФСНБ-2022 | C6: Ремонт асфальтобетонного покрытия дорог однослойного толщиной: 50 мм площадью ремонта до 5 м2 | D6: 100 м² | E6: =SUMIFS('Карты'!$G$8:$G$37,'Карты'!$Q$8:$Q$37,A6,'Карты'!$R$8:$R$37,"Сверить и утвердить") -> 0 | F6: =E6/100 -> 0 | G6: 100.1 | H6: =ROUND(F6*G6,3) -> 0 | I6: 2.9 | J6: =ROUND(F6*I6,3) -> 0 | K6: Разломка и обрубка краев асфальтобетона. Очистка основания. Проливка битумом и смазка краев обрубленных мест. Укладка и разравнивание асфальтобетонной смеси. Укатка катком.
A7: 68-02-007-02 | B7: ГЭСНр ФСНБ-2022 | C7: Ремонт асфальтобетонного покрытия дорог однослойного толщиной: 50 мм площадью ремонта до 25 м2 | D7: 100 м² | E7: =SUMIFS('Карты'!$G$8:$G$37,'Карты'!$Q$8:$Q$37,A7,'Карты'!$R$8:$R$37,"Сверить и утвердить") -> 0 | F7: =E7/100 -> 0 | G7: 62.3 | H7: =ROUND(F7*G7,3) -> 0 | I7: 2.9 | J7: =ROUND(F7*I7,3) -> 0 | K7: Разломка и обрубка краев асфальтобетона. Очистка основания. Проливка битумом и смазка краев обрубленных мест. Укладка и разравнивание асфальтобетонной смеси. Укатка катком.
A8: 68-02-007-03 | B8: ГЭСНр ФСНБ-2022 | C8: Ремонт асфальтобетонного покрытия дорог однослойного толщиной: 70 мм площадью ремонта до 5 м2 | D8: 100 м² | E8: =SUMIFS('Карты'!$G$8:$G$37,'Карты'!$Q$8:$Q$37,A8,'Карты'!$R$8:$R$37,"Сверить и утвердить") -> 0 | F8: =E8/100 -> 0 | G8: 129.8 | H8: =ROUND(F8*G8,3) -> 0 | I8: 2.9 | J8: =ROUND(F8*I8,3) -> 0 | K8: Разломка и обрубка краев асфальтобетона. Очистка основания. Проливка битумом и смазка краев обрубленных мест. Укладка и разравнивание асфальтобетонной смеси. Укатка катком.
A9: 68-02-007-04 | B9: ГЭСНр ФСНБ-2022 | C9: Ремонт асфальтобетонного покрытия дорог однослойного толщиной: 70 мм площадью ремонта до 25 м2 | D9: 100 м² | E9: =SUMIFS('Карты'!$G$8:$G$37,'Карты'!$Q$8:$Q$37,A9,'Карты'!$R$8:$R$37,"Сверить и утвердить") -> 0 | F9: =E9/100 -> 0 | G9: 79.9 | H9: =ROUND(F9*G9,3) -> 0 | I9: 2.9 | J9: =ROUND(F9*I9,3) -> 0 | K9: Разломка и обрубка краев асфальтобетона. Очистка основания. Проливка битумом и смазка краев обрубленных мест. Укладка и разравнивание асфальтобетонной смеси. Укатка катком.
A10: 68-02-007-05 | B10: ГЭСНр ФСНБ-2022 | C10: Ремонт асфальтобетонного покрытия дорог однослойного толщиной: 80 мм площадью ремонта до 5 м2 | D10: 100 м² | E10: =SUMIFS('Карты'!$G$8:$G$37,'Карты'!$Q$8:$Q$37,A10,'Карты'!$R$8:$R$37,"Сверить и утвердить") -> 0 | F10: =E10/100 -> 0 | G10: 172.9 | H10: =ROUND(F10*G10,3) -> 0 | I10: 5.8 | J10: =ROUND(F10*I10,3) -> 0 | K10: Разломка и обрубка краев асфальтобетона. Очистка основания. Проливка битумом и смазка краев обрубленных мест. Укладка и разравнивание асфальтобетонной смеси. Укатка катком.
A11: 68-02-007-06 | B11: ГЭСНр ФСНБ-2022 | C11: Ремонт асфальтобетонного покрытия дорог однослойного толщиной: 80 мм площадью ремонта до 25 м2 | D11: 100 м² | E11: =SUMIFS('Карты'!$G$8:$G$37,'Карты'!$Q$8:$Q$37,A11,'Карты'!$R$8:$R$37,"Сверить и утвердить") -> 0 | F11: =E11/100 -> 0 | G11: 112.1 | H11: =ROUND(F11*G11,3) -> 0 | I11: 5.8 | J11: =ROUND(F11*I11,3) -> 0 | K11: Разломка и обрубка краев асфальтобетона. Очистка основания. Проливка битумом и смазка краев обрубленных мест. Укладка и разравнивание асфальтобетонной смеси. Укатка катком.
A12: Итого | E12: =SUM(E6:E11) -> 0 | H12: =SUM(H6:H11) -> 0 | J12: =SUM(J6:J11) -> 0
A14: Площадь ведомости без принятого шифра, м² | E14: ='Карты'!G38-E12 -> 0
A15: Ненулевое значение требует проверки нераспределённых карт.
A17: Составил | C17: Должность, ФИО, дата
A18: Проверил | C18: Должность, ФИО, дата

Sheet Ресурсы
A2: Контроль нормативного расхода
A4: Источник расходов: официальная таблица ГЭСНр 68-02-007. Проверить применяемые изменения перед сметой.
A5: ГЭСНр | B5: Слой, мм | C5: Количество, 100 м² | D5: Труд на 100 м², чел.-ч | E5: Каток на 100 м², маш.-ч | F5: Смесь на 100 м², т | G5: Битум на 100 м², т | H5: Машинисты на 100 м², чел.-ч | I5: Смесь на объём, т | J5: Битум на объём, т | K5: Машинисты на объём, чел.-ч | L5: Источник и полнота
A6: 68-02-007-01 | B6: 50 | C6: ='Подбор'!F6 -> 0 | D6: 100.1 | E6: 2.9 | F6: 11.9 | G6: 0.07 | H6: 5.95 | I6: =ROUND(C6*F6,3) -> 0 | J6: =ROUND(C6*G6,3) -> 0 | K6: =ROUND(C6*H6,3) -> 0 | L6: Таблица 68-02-007, с. 383 и 384. Это выборочная проверка труда и ресурсов, не полный ресурсный расчёт.
A7: 68-02-007-02 | B7: 50 | C7: ='Подбор'!F7 -> 0 | D7: 62.3 | E7: 2.9 | F7: 11.9 | G7: 0.07 | H7: 5.95 | I7: =ROUND(C7*F7,3) -> 0 | J7: =ROUND(C7*G7,3) -> 0 | K7: =ROUND(C7*H7,3) -> 0 | L7: Таблица 68-02-007, с. 383 и 384. Это выборочная проверка труда и ресурсов, не полный ресурсный расчёт.
A8: 68-02-007-03 | B8: 70 | C8: ='Подбор'!F8 -> 0 | D8: 129.8 | E8: 2.9 | F8: 16.6 | G8: 0.08 | H8: 7.14 | I8: =ROUND(C8*F8,3) -> 0 | J8: =ROUND(C8*G8,3) -> 0 | K8: =ROUND(C8*H8,3) -> 0 | L8: Таблица 68-02-007, с. 383 и 384. Это выборочная проверка труда и ресурсов, не полный ресурсный расчёт.
A9: 68-02-007-04 | B9: 70 | C9: ='Подбор'!F9 -> 0 | D9: 79.9 | E9: 2.9 | F9: 16.6 | G9: 0.08 | H9: 7.14 | I9: =ROUND(C9*F9,3) -> 0 | J9: =ROUND(C9*G9,3) -> 0 | K9: =ROUND(C9*H9,3) -> 0 | L9: Таблица 68-02-007, с. 383 и 384. Это выборочная проверка труда и ресурсов, не полный ресурсный расчёт.
A10: 68-02-007-05 | B10: 80 | C10: ='Подбор'!F10 -> 0 | D10: 172.9 | E10: 5.8 | F10: 19 | G10: 0.12 | H10: 10.67 | I10: =ROUND(C10*F10,3) -> 0 | J10: =ROUND(C10*G10,3) -> 0 | K10: =ROUND(C10*H10,3) -> 0 | L10: Таблица 68-02-007, с. 383 и 384. Это выборочная проверка труда и ресурсов, не полный ресурсный расчёт.
A11: 68-02-007-06 | B11: 80 | C11: ='Подбор'!F11 -> 0 | D11: 112.1 | E11: 5.8 | F11: 19 | G11: 0.12 | H11: 10.67 | I11: =ROUND(C11*F11,3) -> 0 | J11: =ROUND(C11*G11,3) -> 0 | K11: =ROUND(C11*H11,3) -> 0 | L11: Таблица 68-02-007, с. 383 и 384. Это выборочная проверка труда и ресурсов, не полный ресурсный расчёт.
A12: Итого | I12: =SUM(I6:I11) -> 0 | J12: =SUM(J6:J11) -> 0 | K12: =SUM(K6:K11) -> 0
A14: Смесь и битум оценивают один раз. Массу отходов, плотность и цены не подставляют предположениями.

Sheet Источники
A2: Источники нормативных расходов
A5: Документ | B5: Таблица / пункт | C5: Адрес первоисточника | D5: Дата проверки
A6: ГЭСНр 81-02-68-2022, приказ Минстроя России от 30.12.2021 № 1046/пр | B6: Таблица 68-02-007: состав, измеритель, труд, машины и материалы. Печатные страницы 383 и 384. | C6: https://fgiscs.minstroyrf.ru/api/values/GetFileContent/7a4cc4a0-e095-41a0-b795-a051ddca6798 | D6: 46302
A7: Методика применения сметных норм, приказ Минстроя России от 14.07.2022 № 571/пр | B7: Пункты 2, 7 и 66 по 69: измеритель, правила своего сборника и применение ГЭСНр. | C7: https://fgiscs.minstroyrf.ru/api/FrsnDocument/DocDataByGuid/f1a96b87-242c-466c-b10c-115bb92d43ea | D7: 46302
A8: ГЭСНр ФСНБ-2022 | B8: Для своей сметы укажите применяемые изменения и проверьте общие положения, ресурсы и условия.
