Workbook

Sheet ВОР
A1: Оконные работы: исходная ведомость
A2: Проверка объёмов и подбора. Не полный сметный расчёт. Требует проверки сметчиком.
A3: Объект | B3: Учебный пример: новое общественное здание
A4: Документ-основание
A5: Редакция базы | B5: ГЭСН, ФСНБ-2022. Уточнить дополнение для своей сметы
A6: Дата проверки | B6: 46300
A7: Составил, ФИО
A8: Проверил, ФИО и подпись
A9: Жёлтые ячейки заполняются по проекту. Длина подоконника на один блок. Число сеток на группу, ноль означает отсутствие.
A10: Марка | B10: Открывание | C10: Створок | D10: Блоков, шт. | E10: Ширина, м | F10: Высота, м | G10: Стена | H10: Толщина стены, м | I10: Подоконник на блок, м | J10: Сеток, шт. | K10: Площадь блока, м² | L10: Площадь группы, м² | M10: Подоконники, м | N10: Данные для объёма
A11: ОК-1 | B11: Глухой | C11: 0 | D11: 4 | E11: 1.2 | F11: 1.5 | G11: Каменная | H11: 0.4 | I11: 1.4 | J11: 0 | K11: =IF(A11="","",IF(AND(ISNUMBER(E11),ISNUMBER(F11),E11>0,F11>0),E11*F11,"уточнить")) -> 1.8 | L11: =IF(A11="","",IF(AND(ISNUMBER(K11),ISNUMBER(D11),D11>0,D11=INT(D11)),D11*K11,"уточнить")) -> 7.2 | M11: =IF(A11="","",IF(AND(ISNUMBER(I11),I11>=0,ISNUMBER(D11),D11>0,D11=INT(D11)),D11*I11,"уточнить")) -> 5.6 | N11: =IF(A11="","",IF(OR(L11="уточнить",M11="уточнить",NOT(ISNUMBER(J11)),J11<0,J11<>INT(J11)),"уточнить","объёмы заданы")) -> объёмы заданы
A12: ОК-2 | B12: Поворотно-откидной | C12: 2 | D12: 6 | E12: 1.25 | F12: 1.6 | G12: Каменная | H12: 0.4 | I12: 1.4 | J12: 6 | K12: =IF(A12="","",IF(AND(ISNUMBER(E12),ISNUMBER(F12),E12>0,F12>0),E12*F12,"уточнить")) -> 2 | L12: =IF(A12="","",IF(AND(ISNUMBER(K12),ISNUMBER(D12),D12>0,D12=INT(D12)),D12*K12,"уточнить")) -> 12 | M12: =IF(A12="","",IF(AND(ISNUMBER(I12),I12>=0,ISNUMBER(D12),D12>0,D12=INT(D12)),D12*I12,"уточнить")) -> 8.4 | N12: =IF(A12="","",IF(OR(L12="уточнить",M12="уточнить",NOT(ISNUMBER(J12)),J12<0,J12<>INT(J12)),"уточнить","объёмы заданы")) -> объёмы заданы
A13: ОК-3 | B13: Поворотно-откидной | C13: 2 | D13: 3 | E13: 1.5 | F13: 1.8 | G13: Каменная | H13: 0.4 | I13: 1.7 | J13: 3 | K13: =IF(A13="","",IF(AND(ISNUMBER(E13),ISNUMBER(F13),E13>0,F13>0),E13*F13,"уточнить")) -> 2.7 | L13: =IF(A13="","",IF(AND(ISNUMBER(K13),ISNUMBER(D13),D13>0,D13=INT(D13)),D13*K13,"уточнить")) -> 8.1 | M13: =IF(A13="","",IF(AND(ISNUMBER(I13),I13>=0,ISNUMBER(D13),D13>0,D13=INT(D13)),D13*I13,"уточнить")) -> 5.1 | N13: =IF(A13="","",IF(OR(L13="уточнить",M13="уточнить",NOT(ISNUMBER(J13)),J13<0,J13<>INT(J13)),"уточнить","объёмы заданы")) -> объёмы заданы
K14: =IF(A14="","",IF(AND(ISNUMBER(E14),ISNUMBER(F14),E14>0,F14>0),E14*F14,"уточнить")) | L14: =IF(A14="","",IF(AND(ISNUMBER(K14),ISNUMBER(D14),D14>0,D14=INT(D14)),D14*K14,"уточнить")) | M14: =IF(A14="","",IF(AND(ISNUMBER(I14),I14>=0,ISNUMBER(D14),D14>0,D14=INT(D14)),D14*I14,"уточнить")) | N14: =IF(A14="","",IF(OR(L14="уточнить",M14="уточнить",NOT(ISNUMBER(J14)),J14<0,J14<>INT(J14)),"уточнить","объёмы заданы"))
K15: =IF(A15="","",IF(AND(ISNUMBER(E15),ISNUMBER(F15),E15>0,F15>0),E15*F15,"уточнить")) | L15: =IF(A15="","",IF(AND(ISNUMBER(K15),ISNUMBER(D15),D15>0,D15=INT(D15)),D15*K15,"уточнить")) | M15: =IF(A15="","",IF(AND(ISNUMBER(I15),I15>=0,ISNUMBER(D15),D15>0,D15=INT(D15)),D15*I15,"уточнить")) | N15: =IF(A15="","",IF(OR(L15="уточнить",M15="уточнить",NOT(ISNUMBER(J15)),J15<0,J15<>INT(J15)),"уточнить","объёмы заданы"))
K16: =IF(A16="","",IF(AND(ISNUMBER(E16),ISNUMBER(F16),E16>0,F16>0),E16*F16,"уточнить")) | L16: =IF(A16="","",IF(AND(ISNUMBER(K16),ISNUMBER(D16),D16>0,D16=INT(D16)),D16*K16,"уточнить")) | M16: =IF(A16="","",IF(AND(ISNUMBER(I16),I16>=0,ISNUMBER(D16),D16>0,D16=INT(D16)),D16*I16,"уточнить")) | N16: =IF(A16="","",IF(OR(L16="уточнить",M16="уточнить",NOT(ISNUMBER(J16)),J16<0,J16<>INT(J16)),"уточнить","объёмы заданы"))
K17: =IF(A17="","",IF(AND(ISNUMBER(E17),ISNUMBER(F17),E17>0,F17>0),E17*F17,"уточнить")) | L17: =IF(A17="","",IF(AND(ISNUMBER(K17),ISNUMBER(D17),D17>0,D17=INT(D17)),D17*K17,"уточнить")) | M17: =IF(A17="","",IF(AND(ISNUMBER(I17),I17>=0,ISNUMBER(D17),D17>0,D17=INT(D17)),D17*I17,"уточнить")) | N17: =IF(A17="","",IF(OR(L17="уточнить",M17="уточнить",NOT(ISNUMBER(J17)),J17<0,J17<>INT(J17)),"уточнить","объёмы заданы"))
K18: =IF(A18="","",IF(AND(ISNUMBER(E18),ISNUMBER(F18),E18>0,F18>0),E18*F18,"уточнить")) | L18: =IF(A18="","",IF(AND(ISNUMBER(K18),ISNUMBER(D18),D18>0,D18=INT(D18)),D18*K18,"уточнить")) | M18: =IF(A18="","",IF(AND(ISNUMBER(I18),I18>=0,ISNUMBER(D18),D18>0,D18=INT(D18)),D18*I18,"уточнить")) | N18: =IF(A18="","",IF(OR(L18="уточнить",M18="уточнить",NOT(ISNUMBER(J18)),J18<0,J18<>INT(J18)),"уточнить","объёмы заданы"))
K19: =IF(A19="","",IF(AND(ISNUMBER(E19),ISNUMBER(F19),E19>0,F19>0),E19*F19,"уточнить")) | L19: =IF(A19="","",IF(AND(ISNUMBER(K19),ISNUMBER(D19),D19>0,D19=INT(D19)),D19*K19,"уточнить")) | M19: =IF(A19="","",IF(AND(ISNUMBER(I19),I19>=0,ISNUMBER(D19),D19>0,D19=INT(D19)),D19*I19,"уточнить")) | N19: =IF(A19="","",IF(OR(L19="уточнить",M19="уточнить",NOT(ISNUMBER(J19)),J19<0,J19<>INT(J19)),"уточнить","объёмы заданы"))
K20: =IF(A20="","",IF(AND(ISNUMBER(E20),ISNUMBER(F20),E20>0,F20>0),E20*F20,"уточнить")) | L20: =IF(A20="","",IF(AND(ISNUMBER(K20),ISNUMBER(D20),D20>0,D20=INT(D20)),D20*K20,"уточнить")) | M20: =IF(A20="","",IF(AND(ISNUMBER(I20),I20>=0,ISNUMBER(D20),D20>0,D20=INT(D20)),D20*I20,"уточнить")) | N20: =IF(A20="","",IF(OR(L20="уточнить",M20="уточнить",NOT(ISNUMBER(J20)),J20<0,J20<>INT(J20)),"уточнить","объёмы заданы"))
A22: Всего по ВОР | D22: =IF(COUNTA(A11:A20)=0,"",IF(COUNTIF(N11:N20,"уточнить")>0,"уточнить",SUM(D11:D20))) -> 13 | J22: =IF(COUNTA(A11:A20)=0,"",IF(COUNTIF(N11:N20,"уточнить")>0,"уточнить",SUM(J11:J20))) -> 9 | L22: =IF(COUNTA(A11:A20)=0,"",IF(COUNTIF(N11:N20,"уточнить")>0,"уточнить",SUM(L11:L20))) -> 27.3 | M22: =IF(COUNTA(A11:A20)=0,"",IF(COUNTIF(N11:N20,"уточнить")>0,"уточнить",SUM(M11:M20))) -> 19.1
A24: Площади определяют по наружным размерам коробки, пункт 2.10.5 сборника 10. Размеры в метрах, не площадь стекла.

Sheet Выбор нормы
A1: Выбор шифра по признакам окна
A2: Проверка объёмов и подбора. Не полный сметный расчёт. Требует проверки сметчиком.
A5: Шифр ГЭСН-2022 | B5: Точное наименование нормы | C5: Измеритель | D5: Правило площади / стены | E5: Источник
A6: 10-01-034-01 | B6: Установка в жилых и общественных зданиях оконных блоков из ПВХ профилей: глухих с площадью проема до 2 м2 | C6: 100 м2 | D6: Площадь блока до 2 м² включительно | E6: Сборник 10
A7: 10-01-034-02 | B7: Установка в жилых и общественных зданиях оконных блоков из ПВХ профилей: глухих с площадью проема более 2 м2 | C7: 100 м2 | D7: Площадь блока более 2 м² | E7: Сборник 10
A8: 10-01-034-03 | B8: Установка в жилых и общественных зданиях оконных блоков из ПВХ профилей: поворотных (откидных, поворотно-откидных) с площадью проема до 2 м2 одностворчатых | C8: 100 м2 | D8: Площадь блока до 2 м² включительно | E8: Сборник 10
A9: 10-01-034-04 | B9: Установка в жилых и общественных зданиях оконных блоков из ПВХ профилей: поворотных (откидных, поворотно-откидных) с площадью проема более 2 м2 одностворчатых | C9: 100 м2 | D9: Площадь блока более 2 м² | E9: Сборник 10
A10: 10-01-034-05 | B10: Установка в жилых и общественных зданиях оконных блоков из ПВХ профилей: поворотных (откидных, поворотно-откидных) с площадью проема до 2 м2 двухстворчатых | C10: 100 м2 | D10: Площадь блока до 2 м² включительно | E10: Сборник 10
A11: 10-01-034-06 | B11: Установка в жилых и общественных зданиях оконных блоков из ПВХ профилей: поворотных (откидных, поворотно-откидных) с площадью проема более 2 м2 двухстворчатых | C11: 100 м2 | D11: Площадь блока более 2 м² | E11: Сборник 10
A12: 10-01-034-07 | B12: Установка в жилых и общественных зданиях оконных блоков из ПВХ профилей: поворотных (откидных, поворотно-откидных) с площадью проема до 2 м2 трехстворчатых, в том числе при наличии створок глухого остекления | C12: 100 м2 | D12: Площадь блока до 2 м² включительно | E12: Сборник 10
A13: 10-01-034-08 | B13: Установка в жилых и общественных зданиях оконных блоков из ПВХ профилей: поворотных (откидных, поворотно-откидных) с площадью проема более 2 м2 трехстворчатых, в том числе при наличии створок глухого остекления | C13: 100 м2 | D13: Площадь блока более 2 м² | E13: Сборник 10
A14: 10-01-035-01 | B14: Установка подоконных досок из ПВХ: в каменных стенах толщиной до 0,51 м | C14: 100 м | D14: Каменная стена до 0,51 м включительно | E14: Сборник 10
A15: 10-01-035-02 | B15: Установка подоконных досок из ПВХ: в панельных стенах | C15: 100 м | D15: Панельная стена | E15: Сборник 10
A16: 10-01-035-03 | B16: Установка подоконных досок из ПВХ: в каменных стенах толщиной свыше 0,51 м | C16: 100 м | D16: Каменная стена свыше 0,51 м | E16: Сборник 10
A18: «До» включает границу, пункт 1.10.14. Створки берут по конструкции, не по количеству стеклопакетов.
A21: Марка | B21: Площадь блока, м² | C21: Оконный шифр | D21: Подоконный шифр | E21: Проверка конструкции
A22: =IF('ВОР'!A11="","",'ВОР'!A11) -> ОК-1 | B22: =IF('ВОР'!A11="","",'ВОР'!K11) -> 1.8 | C22: =IF(A22="","",IF(NOT(AND(ISNUMBER(B22),B22>0,ISNUMBER('ВОР'!D11),'ВОР'!D11>0,'ВОР'!D11=INT('ВОР'!D11))),"уточнить",IF('ВОР'!B11="Глухой","10-01-034-"&IF(B22<=2,"01","02"),IF(AND(OR('ВОР'!B11="Поворотный",'ВОР'!B11="Откидной",'ВОР'!B11="Поворотно-откидной"),AND(ISNUMBER('ВОР'!C11),'ВОР'!C11>=1,'ВОР'!C11<=3,'ВОР'!C11=INT('ВОР'!C11))),"10-01-034-"&IF('ВОР'!C11=1,IF(B22<=2,"03","04"),IF('ВОР'!C11=2,IF(B22<=2,"05","06"),IF(B22<=2,"07","08"))),"уточнить")))) -> 10-01-034-01 | D22: =IF(A22="","",IF(OR(NOT(ISNUMBER('ВОР'!I11)),'ВОР'!I11<0),"уточнить",IF('ВОР'!I11=0,"нет подоконника",IF('ВОР'!G11="Панельная","10-01-035-02",IF(AND('ВОР'!G11="Каменная",ISNUMBER('ВОР'!H11),'ВОР'!H11>0),IF('ВОР'!H11<=0.51,"10-01-035-01","10-01-035-03"),"уточнить"))))) -> 10-01-035-01 | E22: =IF(A22="","",IF(OR(C22="уточнить",D22="уточнить"),"уточнить признаки","подбор проверяет сметчик")) -> подбор проверяет сметчик
A23: =IF('ВОР'!A12="","",'ВОР'!A12) -> ОК-2 | B23: =IF('ВОР'!A12="","",'ВОР'!K12) -> 2 | C23: =IF(A23="","",IF(NOT(AND(ISNUMBER(B23),B23>0,ISNUMBER('ВОР'!D12),'ВОР'!D12>0,'ВОР'!D12=INT('ВОР'!D12))),"уточнить",IF('ВОР'!B12="Глухой","10-01-034-"&IF(B23<=2,"01","02"),IF(AND(OR('ВОР'!B12="Поворотный",'ВОР'!B12="Откидной",'ВОР'!B12="Поворотно-откидной"),AND(ISNUMBER('ВОР'!C12),'ВОР'!C12>=1,'ВОР'!C12<=3,'ВОР'!C12=INT('ВОР'!C12))),"10-01-034-"&IF('ВОР'!C12=1,IF(B23<=2,"03","04"),IF('ВОР'!C12=2,IF(B23<=2,"05","06"),IF(B23<=2,"07","08"))),"уточнить")))) -> 10-01-034-05 | D23: =IF(A23="","",IF(OR(NOT(ISNUMBER('ВОР'!I12)),'ВОР'!I12<0),"уточнить",IF('ВОР'!I12=0,"нет подоконника",IF('ВОР'!G12="Панельная","10-01-035-02",IF(AND('ВОР'!G12="Каменная",ISNUMBER('ВОР'!H12),'ВОР'!H12>0),IF('ВОР'!H12<=0.51,"10-01-035-01","10-01-035-03"),"уточнить"))))) -> 10-01-035-01 | E23: =IF(A23="","",IF(OR(C23="уточнить",D23="уточнить"),"уточнить признаки","подбор проверяет сметчик")) -> подбор проверяет сметчик
A24: =IF('ВОР'!A13="","",'ВОР'!A13) -> ОК-3 | B24: =IF('ВОР'!A13="","",'ВОР'!K13) -> 2.7 | C24: =IF(A24="","",IF(NOT(AND(ISNUMBER(B24),B24>0,ISNUMBER('ВОР'!D13),'ВОР'!D13>0,'ВОР'!D13=INT('ВОР'!D13))),"уточнить",IF('ВОР'!B13="Глухой","10-01-034-"&IF(B24<=2,"01","02"),IF(AND(OR('ВОР'!B13="Поворотный",'ВОР'!B13="Откидной",'ВОР'!B13="Поворотно-откидной"),AND(ISNUMBER('ВОР'!C13),'ВОР'!C13>=1,'ВОР'!C13<=3,'ВОР'!C13=INT('ВОР'!C13))),"10-01-034-"&IF('ВОР'!C13=1,IF(B24<=2,"03","04"),IF('ВОР'!C13=2,IF(B24<=2,"05","06"),IF(B24<=2,"07","08"))),"уточнить")))) -> 10-01-034-06 | D24: =IF(A24="","",IF(OR(NOT(ISNUMBER('ВОР'!I13)),'ВОР'!I13<0),"уточнить",IF('ВОР'!I13=0,"нет подоконника",IF('ВОР'!G13="Панельная","10-01-035-02",IF(AND('ВОР'!G13="Каменная",ISNUMBER('ВОР'!H13),'ВОР'!H13>0),IF('ВОР'!H13<=0.51,"10-01-035-01","10-01-035-03"),"уточнить"))))) -> 10-01-035-01 | E24: =IF(A24="","",IF(OR(C24="уточнить",D24="уточнить"),"уточнить признаки","подбор проверяет сметчик")) -> подбор проверяет сметчик
A25: =IF('ВОР'!A14="","",'ВОР'!A14) | B25: =IF('ВОР'!A14="","",'ВОР'!K14) | C25: =IF(A25="","",IF(NOT(AND(ISNUMBER(B25),B25>0,ISNUMBER('ВОР'!D14),'ВОР'!D14>0,'ВОР'!D14=INT('ВОР'!D14))),"уточнить",IF('ВОР'!B14="Глухой","10-01-034-"&IF(B25<=2,"01","02"),IF(AND(OR('ВОР'!B14="Поворотный",'ВОР'!B14="Откидной",'ВОР'!B14="Поворотно-откидной"),AND(ISNUMBER('ВОР'!C14),'ВОР'!C14>=1,'ВОР'!C14<=3,'ВОР'!C14=INT('ВОР'!C14))),"10-01-034-"&IF('ВОР'!C14=1,IF(B25<=2,"03","04"),IF('ВОР'!C14=2,IF(B25<=2,"05","06"),IF(B25<=2,"07","08"))),"уточнить")))) | D25: =IF(A25="","",IF(OR(NOT(ISNUMBER('ВОР'!I14)),'ВОР'!I14<0),"уточнить",IF('ВОР'!I14=0,"нет подоконника",IF('ВОР'!G14="Панельная","10-01-035-02",IF(AND('ВОР'!G14="Каменная",ISNUMBER('ВОР'!H14),'ВОР'!H14>0),IF('ВОР'!H14<=0.51,"10-01-035-01","10-01-035-03"),"уточнить"))))) | E25: =IF(A25="","",IF(OR(C25="уточнить",D25="уточнить"),"уточнить признаки","подбор проверяет сметчик"))
A26: =IF('ВОР'!A15="","",'ВОР'!A15) | B26: =IF('ВОР'!A15="","",'ВОР'!K15) | C26: =IF(A26="","",IF(NOT(AND(ISNUMBER(B26),B26>0,ISNUMBER('ВОР'!D15),'ВОР'!D15>0,'ВОР'!D15=INT('ВОР'!D15))),"уточнить",IF('ВОР'!B15="Глухой","10-01-034-"&IF(B26<=2,"01","02"),IF(AND(OR('ВОР'!B15="Поворотный",'ВОР'!B15="Откидной",'ВОР'!B15="Поворотно-откидной"),AND(ISNUMBER('ВОР'!C15),'ВОР'!C15>=1,'ВОР'!C15<=3,'ВОР'!C15=INT('ВОР'!C15))),"10-01-034-"&IF('ВОР'!C15=1,IF(B26<=2,"03","04"),IF('ВОР'!C15=2,IF(B26<=2,"05","06"),IF(B26<=2,"07","08"))),"уточнить")))) | D26: =IF(A26="","",IF(OR(NOT(ISNUMBER('ВОР'!I15)),'ВОР'!I15<0),"уточнить",IF('ВОР'!I15=0,"нет подоконника",IF('ВОР'!G15="Панельная","10-01-035-02",IF(AND('ВОР'!G15="Каменная",ISNUMBER('ВОР'!H15),'ВОР'!H15>0),IF('ВОР'!H15<=0.51,"10-01-035-01","10-01-035-03"),"уточнить"))))) | E26: =IF(A26="","",IF(OR(C26="уточнить",D26="уточнить"),"уточнить признаки","подбор проверяет сметчик"))
A27: =IF('ВОР'!A16="","",'ВОР'!A16) | B27: =IF('ВОР'!A16="","",'ВОР'!K16) | C27: =IF(A27="","",IF(NOT(AND(ISNUMBER(B27),B27>0,ISNUMBER('ВОР'!D16),'ВОР'!D16>0,'ВОР'!D16=INT('ВОР'!D16))),"уточнить",IF('ВОР'!B16="Глухой","10-01-034-"&IF(B27<=2,"01","02"),IF(AND(OR('ВОР'!B16="Поворотный",'ВОР'!B16="Откидной",'ВОР'!B16="Поворотно-откидной"),AND(ISNUMBER('ВОР'!C16),'ВОР'!C16>=1,'ВОР'!C16<=3,'ВОР'!C16=INT('ВОР'!C16))),"10-01-034-"&IF('ВОР'!C16=1,IF(B27<=2,"03","04"),IF('ВОР'!C16=2,IF(B27<=2,"05","06"),IF(B27<=2,"07","08"))),"уточнить")))) | D27: =IF(A27="","",IF(OR(NOT(ISNUMBER('ВОР'!I16)),'ВОР'!I16<0),"уточнить",IF('ВОР'!I16=0,"нет подоконника",IF('ВОР'!G16="Панельная","10-01-035-02",IF(AND('ВОР'!G16="Каменная",ISNUMBER('ВОР'!H16),'ВОР'!H16>0),IF('ВОР'!H16<=0.51,"10-01-035-01","10-01-035-03"),"уточнить"))))) | E27: =IF(A27="","",IF(OR(C27="уточнить",D27="уточнить"),"уточнить признаки","подбор проверяет сметчик"))
A28: =IF('ВОР'!A17="","",'ВОР'!A17) | B28: =IF('ВОР'!A17="","",'ВОР'!K17) | C28: =IF(A28="","",IF(NOT(AND(ISNUMBER(B28),B28>0,ISNUMBER('ВОР'!D17),'ВОР'!D17>0,'ВОР'!D17=INT('ВОР'!D17))),"уточнить",IF('ВОР'!B17="Глухой","10-01-034-"&IF(B28<=2,"01","02"),IF(AND(OR('ВОР'!B17="Поворотный",'ВОР'!B17="Откидной",'ВОР'!B17="Поворотно-откидной"),AND(ISNUMBER('ВОР'!C17),'ВОР'!C17>=1,'ВОР'!C17<=3,'ВОР'!C17=INT('ВОР'!C17))),"10-01-034-"&IF('ВОР'!C17=1,IF(B28<=2,"03","04"),IF('ВОР'!C17=2,IF(B28<=2,"05","06"),IF(B28<=2,"07","08"))),"уточнить")))) | D28: =IF(A28="","",IF(OR(NOT(ISNUMBER('ВОР'!I17)),'ВОР'!I17<0),"уточнить",IF('ВОР'!I17=0,"нет подоконника",IF('ВОР'!G17="Панельная","10-01-035-02",IF(AND('ВОР'!G17="Каменная",ISNUMBER('ВОР'!H17),'ВОР'!H17>0),IF('ВОР'!H17<=0.51,"10-01-035-01","10-01-035-03"),"уточнить"))))) | E28: =IF(A28="","",IF(OR(C28="уточнить",D28="уточнить"),"уточнить признаки","подбор проверяет сметчик"))
A29: =IF('ВОР'!A18="","",'ВОР'!A18) | B29: =IF('ВОР'!A18="","",'ВОР'!K18) | C29: =IF(A29="","",IF(NOT(AND(ISNUMBER(B29),B29>0,ISNUMBER('ВОР'!D18),'ВОР'!D18>0,'ВОР'!D18=INT('ВОР'!D18))),"уточнить",IF('ВОР'!B18="Глухой","10-01-034-"&IF(B29<=2,"01","02"),IF(AND(OR('ВОР'!B18="Поворотный",'ВОР'!B18="Откидной",'ВОР'!B18="Поворотно-откидной"),AND(ISNUMBER('ВОР'!C18),'ВОР'!C18>=1,'ВОР'!C18<=3,'ВОР'!C18=INT('ВОР'!C18))),"10-01-034-"&IF('ВОР'!C18=1,IF(B29<=2,"03","04"),IF('ВОР'!C18=2,IF(B29<=2,"05","06"),IF(B29<=2,"07","08"))),"уточнить")))) | D29: =IF(A29="","",IF(OR(NOT(ISNUMBER('ВОР'!I18)),'ВОР'!I18<0),"уточнить",IF('ВОР'!I18=0,"нет подоконника",IF('ВОР'!G18="Панельная","10-01-035-02",IF(AND('ВОР'!G18="Каменная",ISNUMBER('ВОР'!H18),'ВОР'!H18>0),IF('ВОР'!H18<=0.51,"10-01-035-01","10-01-035-03"),"уточнить"))))) | E29: =IF(A29="","",IF(OR(C29="уточнить",D29="уточнить"),"уточнить признаки","подбор проверяет сметчик"))
A30: =IF('ВОР'!A19="","",'ВОР'!A19) | B30: =IF('ВОР'!A19="","",'ВОР'!K19) | C30: =IF(A30="","",IF(NOT(AND(ISNUMBER(B30),B30>0,ISNUMBER('ВОР'!D19),'ВОР'!D19>0,'ВОР'!D19=INT('ВОР'!D19))),"уточнить",IF('ВОР'!B19="Глухой","10-01-034-"&IF(B30<=2,"01","02"),IF(AND(OR('ВОР'!B19="Поворотный",'ВОР'!B19="Откидной",'ВОР'!B19="Поворотно-откидной"),AND(ISNUMBER('ВОР'!C19),'ВОР'!C19>=1,'ВОР'!C19<=3,'ВОР'!C19=INT('ВОР'!C19))),"10-01-034-"&IF('ВОР'!C19=1,IF(B30<=2,"03","04"),IF('ВОР'!C19=2,IF(B30<=2,"05","06"),IF(B30<=2,"07","08"))),"уточнить")))) | D30: =IF(A30="","",IF(OR(NOT(ISNUMBER('ВОР'!I19)),'ВОР'!I19<0),"уточнить",IF('ВОР'!I19=0,"нет подоконника",IF('ВОР'!G19="Панельная","10-01-035-02",IF(AND('ВОР'!G19="Каменная",ISNUMBER('ВОР'!H19),'ВОР'!H19>0),IF('ВОР'!H19<=0.51,"10-01-035-01","10-01-035-03"),"уточнить"))))) | E30: =IF(A30="","",IF(OR(C30="уточнить",D30="уточнить"),"уточнить признаки","подбор проверяет сметчик"))
A31: =IF('ВОР'!A20="","",'ВОР'!A20) | B31: =IF('ВОР'!A20="","",'ВОР'!K20) | C31: =IF(A31="","",IF(NOT(AND(ISNUMBER(B31),B31>0,ISNUMBER('ВОР'!D20),'ВОР'!D20>0,'ВОР'!D20=INT('ВОР'!D20))),"уточнить",IF('ВОР'!B20="Глухой","10-01-034-"&IF(B31<=2,"01","02"),IF(AND(OR('ВОР'!B20="Поворотный",'ВОР'!B20="Откидной",'ВОР'!B20="Поворотно-откидной"),AND(ISNUMBER('ВОР'!C20),'ВОР'!C20>=1,'ВОР'!C20<=3,'ВОР'!C20=INT('ВОР'!C20))),"10-01-034-"&IF('ВОР'!C20=1,IF(B31<=2,"03","04"),IF('ВОР'!C20=2,IF(B31<=2,"05","06"),IF(B31<=2,"07","08"))),"уточнить")))) | D31: =IF(A31="","",IF(OR(NOT(ISNUMBER('ВОР'!I20)),'ВОР'!I20<0),"уточнить",IF('ВОР'!I20=0,"нет подоконника",IF('ВОР'!G20="Панельная","10-01-035-02",IF(AND('ВОР'!G20="Каменная",ISNUMBER('ВОР'!H20),'ВОР'!H20>0),IF('ВОР'!H20<=0.51,"10-01-035-01","10-01-035-03"),"уточнить"))))) | E31: =IF(A31="","",IF(OR(C31="уточнить",D31="уточнить"),"уточнить признаки","подбор проверяет сметчик"))

Sheet Объёмы
A1: Объёмы работ в измерителях норм
A2: Проверка объёмов и подбора. Не полный сметный расчёт. Требует проверки сметчиком.
A5: Шифр ГЭСН-2022 | B5: Наименование / группа | C5: Физический объём | D5: Измеритель | E5: Делитель | F5: Объём нормы | G5: Основание
A6: 10-01-034-01 | B6: Установка в жилых и общественных зданиях оконных блоков из ПВХ профилей: глухих с площадью проема до 2 м2 | C6: =IF(COUNTA('ВОР'!A11:A20)=0,"",IF(COUNTIF('Выбор нормы'!C22:C31,"уточнить")>0,"уточнить",SUMIF('Выбор нормы'!C22:C31,A6,'ВОР'!L11:L20))) -> 7.2 | D6: 100 м2 | E6: 100 | F6: =IF(C6="","",IF(ISNUMBER(C6),C6/E6,"уточнить")) -> 0.072 | G6: Группировка по шифру; ВОР и проектная спецификация
A7: 10-01-034-05 | B7: Установка в жилых и общественных зданиях оконных блоков из ПВХ профилей: поворотных (откидных, поворотно-откидных) с площадью проема до 2 м2 двухстворчатых | C7: =IF(COUNTA('ВОР'!A11:A20)=0,"",IF(COUNTIF('Выбор нормы'!C22:C31,"уточнить")>0,"уточнить",SUMIF('Выбор нормы'!C22:C31,A7,'ВОР'!L11:L20))) -> 12 | D7: 100 м2 | E7: 100 | F7: =IF(C7="","",IF(ISNUMBER(C7),C7/E7,"уточнить")) -> 0.12 | G7: Группировка по шифру; ВОР и проектная спецификация
A8: 10-01-034-06 | B8: Установка в жилых и общественных зданиях оконных блоков из ПВХ профилей: поворотных (откидных, поворотно-откидных) с площадью проема более 2 м2 двухстворчатых | C8: =IF(COUNTA('ВОР'!A11:A20)=0,"",IF(COUNTIF('Выбор нормы'!C22:C31,"уточнить")>0,"уточнить",SUMIF('Выбор нормы'!C22:C31,A8,'ВОР'!L11:L20))) -> 8.1 | D8: 100 м2 | E8: 100 | F8: =IF(C8="","",IF(ISNUMBER(C8),C8/E8,"уточнить")) -> 0.081 | G8: Группировка по шифру; ВОР и проектная спецификация
A9: 10-01-035-01 | B9: Установка подоконных досок из ПВХ: в каменных стенах толщиной до 0,51 м | C9: =IF(COUNTA('ВОР'!A11:A20)=0,"",IF(COUNTIF('Выбор нормы'!D22:D31,"уточнить")>0,"уточнить",SUMIF('Выбор нормы'!D22:D31,A9,'ВОР'!M11:M20))) -> 19.1 | D9: 100 м | E9: 100 | F9: =IF(C9="","",IF(ISNUMBER(C9),C9/E9,"уточнить")) -> 0.191 | G9: Группировка по шифру; ВОР и проектная спецификация
A10: 10-01-037-01 | B10: Установка противомоскитных сеток | C10: =IF(COUNTA('ВОР'!A11:A20)=0,"",IF(COUNTIF('ВОР'!N11:N20,"уточнить")>0,"уточнить",SUM('ВОР'!J11:J20))) -> 9 | D10: 100 шт | E10: 100 | F10: =IF(C10="","",IF(ISNUMBER(C10),C10/E10,"уточнить")) -> 0.09 | G10: Группировка по шифру; ВОР и проектная спецификация
A11: 10-01-034-02 | B11: Установка в жилых и общественных зданиях оконных блоков из ПВХ профилей: глухих с площадью проема более 2 м2 | C11: =IF(COUNTA('ВОР'!A11:A20)=0,"",IF(COUNTIF('Выбор нормы'!C22:C31,"уточнить")>0,"уточнить",SUMIF('Выбор нормы'!C22:C31,A11,'ВОР'!L11:L20))) -> 0 | D11: 100 м2 | E11: 100 | F11: =IF(C11="","",IF(ISNUMBER(C11),C11/E11,"уточнить")) | G11: Группировка по шифру; ВОР и проектная спецификация
A12: 10-01-034-03 | B12: Установка в жилых и общественных зданиях оконных блоков из ПВХ профилей: поворотных (откидных, поворотно-откидных) с площадью проема до 2 м2 одностворчатых | C12: =IF(COUNTA('ВОР'!A11:A20)=0,"",IF(COUNTIF('Выбор нормы'!C22:C31,"уточнить")>0,"уточнить",SUMIF('Выбор нормы'!C22:C31,A12,'ВОР'!L11:L20))) -> 0 | D12: 100 м2 | E12: 100 | F12: =IF(C12="","",IF(ISNUMBER(C12),C12/E12,"уточнить")) | G12: Группировка по шифру; ВОР и проектная спецификация
A13: 10-01-034-04 | B13: Установка в жилых и общественных зданиях оконных блоков из ПВХ профилей: поворотных (откидных, поворотно-откидных) с площадью проема более 2 м2 одностворчатых | C13: =IF(COUNTA('ВОР'!A11:A20)=0,"",IF(COUNTIF('Выбор нормы'!C22:C31,"уточнить")>0,"уточнить",SUMIF('Выбор нормы'!C22:C31,A13,'ВОР'!L11:L20))) -> 0 | D13: 100 м2 | E13: 100 | F13: =IF(C13="","",IF(ISNUMBER(C13),C13/E13,"уточнить")) | G13: Группировка по шифру; ВОР и проектная спецификация
A14: 10-01-034-07 | B14: Установка в жилых и общественных зданиях оконных блоков из ПВХ профилей: поворотных (откидных, поворотно-откидных) с площадью проема до 2 м2 трехстворчатых, в том числе при наличии створок глухого остекления | C14: =IF(COUNTA('ВОР'!A11:A20)=0,"",IF(COUNTIF('Выбор нормы'!C22:C31,"уточнить")>0,"уточнить",SUMIF('Выбор нормы'!C22:C31,A14,'ВОР'!L11:L20))) -> 0 | D14: 100 м2 | E14: 100 | F14: =IF(C14="","",IF(ISNUMBER(C14),C14/E14,"уточнить")) | G14: Группировка по шифру; ВОР и проектная спецификация
A15: 10-01-034-08 | B15: Установка в жилых и общественных зданиях оконных блоков из ПВХ профилей: поворотных (откидных, поворотно-откидных) с площадью проема более 2 м2 трехстворчатых, в том числе при наличии створок глухого остекления | C15: =IF(COUNTA('ВОР'!A11:A20)=0,"",IF(COUNTIF('Выбор нормы'!C22:C31,"уточнить")>0,"уточнить",SUMIF('Выбор нормы'!C22:C31,A15,'ВОР'!L11:L20))) -> 0 | D15: 100 м2 | E15: 100 | F15: =IF(C15="","",IF(ISNUMBER(C15),C15/E15,"уточнить")) | G15: Группировка по шифру; ВОР и проектная спецификация
A16: 10-01-035-02 | B16: Установка подоконных досок из ПВХ: в панельных стенах | C16: =IF(COUNTA('ВОР'!A11:A20)=0,"",IF(COUNTIF('Выбор нормы'!D22:D31,"уточнить")>0,"уточнить",SUMIF('Выбор нормы'!D22:D31,A16,'ВОР'!M11:M20))) -> 0 | D16: 100 м | E16: 100 | F16: =IF(C16="","",IF(ISNUMBER(C16),C16/E16,"уточнить")) | G16: Группировка по шифру; ВОР и проектная спецификация
A17: 10-01-035-03 | B17: Установка подоконных досок из ПВХ: в каменных стенах толщиной свыше 0,51 м | C17: =IF(COUNTA('ВОР'!A11:A20)=0,"",IF(COUNTIF('Выбор нормы'!D22:D31,"уточнить")>0,"уточнить",SUMIF('Выбор нормы'!D22:D31,A17,'ВОР'!M11:M20))) -> 0 | D17: 100 м | E17: 100 | F17: =IF(C17="","",IF(ISNUMBER(C17),C17/E17,"уточнить")) | G17: Группировка по шифру; ВОР и проектная спецификация
A20: Оконная площадь, м² | C20: =IF(COUNTA('ВОР'!A11:A20)=0,"",IF(COUNTIF('Выбор нормы'!C22:C31,"уточнить")>0,"уточнить",SUM(C6:C8,C11:C15))) -> 27.3
A21: Количество окон, шт. | C21: ='ВОР'!D22 -> 13
A23: Окна, подоконники и сетки имеют разные единицы. Объёмы всех норм одним итогом не суммируют.
A24: Откосы и отливы: требуется строка ВОР по проекту либо подтверждение отсутствия работы.

Sheet Ресурсы
A1: Ресурсы ГЭСН-2022 и проектные изделия
A2: Проверка объёмов и подбора. Не полный сметный расчёт. Требует проверки сметчиком.
A5: Шифр работы | B5: Код ресурса | C5: Наименование | D5: Ед. ресурса | E5: Норма на измеритель | F5: Объём работы | G5: Расход в ед. ресурса | H5: Множитель | I5: Физический расход | J5: Характер расхода | K5: Первоисточник
A6: 10-01-034-01 | B6: 01.7.14.01-0002 | C6: Пена монтажная, объём 1000 мл | D6: шт | E6: 69 | F6: =IF('Объёмы'!F6="","",'Объёмы'!F6) -> 0.072 | G6: =IF(F6="","",IF(ISNUMBER(F6),E6*F6,"уточнить")) -> 4.968 | H6: 1 | I6: =IF(G6="","",IF(ISNUMBER(G6),G6*H6,"уточнить")) -> 4.968 | J6: Нормативный | K6: ГЭСН-2022, сборник 10
A7: 10-01-034-01 | B7: 01.7.06.02-0001 | C7: Ленты гидроизоляционные паропроницаемые, ширина 80 мм | D7: м | E7: 418 | F7: =IF('Объёмы'!F6="","",'Объёмы'!F6) -> 0.072 | G7: =IF(F7="","",IF(ISNUMBER(F7),E7*F7,"уточнить")) -> 30.096 | H7: 1 | I7: =IF(G7="","",IF(ISNUMBER(G7),G7*H7,"уточнить")) -> 30.096 | J7: Нормативный | K7: ГЭСН-2022, сборник 10
A8: 10-01-034-01 | B8: 01.7.06.11-0001 | C8: Ленты предварительно сжатые уплотнительные саморасширяющиеся (ПСУЛ) | D8: 10 м | E8: 21.4 | F8: =IF('Объёмы'!F6="","",'Объёмы'!F6) -> 0.072 | G8: =IF(F8="","",IF(ISNUMBER(F8),E8*F8,"уточнить")) -> 1.5408 | H8: 10 | I8: =IF(G8="","",IF(ISNUMBER(G8),G8*H8,"уточнить")) -> 15.408 | J8: Нормативный | K8: ГЭСН-2022, сборник 10
A9: 10-01-034-01 | B9: 01.7.15.07-0005 | C9: Дюбели стальные рамные монтажные | D9: 10 шт | E9: 30.6 | F9: =IF('Объёмы'!F6="","",'Объёмы'!F6) -> 0.072 | G9: =IF(F9="","",IF(ISNUMBER(F9),E9*F9,"уточнить")) -> 2.2032 | H9: 10 | I9: =IF(G9="","",IF(ISNUMBER(G9),G9*H9,"уточнить")) -> 22.032 | J9: Нормативный | K9: ГЭСН-2022, сборник 10
A10: 10-01-034-01 | B10: 11.3.02.03 | C10: Блоки оконные пластиковые, уточнить по проекту | D10: м2 | E10: 100 | F10: =IF('Объёмы'!F6="","",'Объёмы'!F6) -> 0.072 | G10: =IF(F10="","",IF(ISNUMBER(F10),E10*F10,"уточнить")) -> 7.2 | H10: 1 | I10: =IF(G10="","",IF(ISNUMBER(G10),G10*H10,"уточнить")) -> 7.2 | J10: Норматив; изделие по проекту | K10: ГЭСН-2022, сборник 10
A11: 10-01-034-02 | B11: 01.7.14.01-0002 | C11: Пена монтажная, объём 1000 мл | D11: шт | E11: 49.5 | F11: =IF('Объёмы'!F11="","",'Объёмы'!F11) | G11: =IF(F11="","",IF(ISNUMBER(F11),E11*F11,"уточнить")) | H11: 1 | I11: =IF(G11="","",IF(ISNUMBER(G11),G11*H11,"уточнить")) | J11: Нормативный | K11: ГЭСН-2022, сборник 10
A12: 10-01-034-02 | B12: 01.7.06.02-0001 | C12: Ленты гидроизоляционные паропроницаемые, ширина 80 мм | D12: м | E12: 280 | F12: =IF('Объёмы'!F11="","",'Объёмы'!F11) | G12: =IF(F12="","",IF(ISNUMBER(F12),E12*F12,"уточнить")) | H12: 1 | I12: =IF(G12="","",IF(ISNUMBER(G12),G12*H12,"уточнить")) | J12: Нормативный | K12: ГЭСН-2022, сборник 10
A13: 10-01-034-02 | B13: 01.7.06.11-0001 | C13: Ленты предварительно сжатые уплотнительные саморасширяющиеся (ПСУЛ) | D13: 10 м | E13: 15 | F13: =IF('Объёмы'!F11="","",'Объёмы'!F11) | G13: =IF(F13="","",IF(ISNUMBER(F13),E13*F13,"уточнить")) | H13: 10 | I13: =IF(G13="","",IF(ISNUMBER(G13),G13*H13,"уточнить")) | J13: Нормативный | K13: ГЭСН-2022, сборник 10
A14: 10-01-034-02 | B14: 01.7.15.07-0005 | C14: Дюбели стальные рамные монтажные | D14: 10 шт | E14: 30 | F14: =IF('Объёмы'!F11="","",'Объёмы'!F11) | G14: =IF(F14="","",IF(ISNUMBER(F14),E14*F14,"уточнить")) | H14: 10 | I14: =IF(G14="","",IF(ISNUMBER(G14),G14*H14,"уточнить")) | J14: Нормативный | K14: ГЭСН-2022, сборник 10
A15: 10-01-034-02 | B15: 11.3.02.03 | C15: Блоки оконные пластиковые, уточнить по проекту | D15: м2 | E15: 100 | F15: =IF('Объёмы'!F11="","",'Объёмы'!F11) | G15: =IF(F15="","",IF(ISNUMBER(F15),E15*F15,"уточнить")) | H15: 1 | I15: =IF(G15="","",IF(ISNUMBER(G15),G15*H15,"уточнить")) | J15: Норматив; изделие по проекту | K15: ГЭСН-2022, сборник 10
A16: 10-01-034-03 | B16: 01.7.14.01-0002 | C16: Пена монтажная, объём 1000 мл | D16: шт | E16: 85.5 | F16: =IF('Объёмы'!F12="","",'Объёмы'!F12) | G16: =IF(F16="","",IF(ISNUMBER(F16),E16*F16,"уточнить")) | H16: 1 | I16: =IF(G16="","",IF(ISNUMBER(G16),G16*H16,"уточнить")) | J16: Нормативный | K16: ГЭСН-2022, сборник 10
A17: 10-01-034-03 | B17: 01.7.06.02-0001 | C17: Ленты гидроизоляционные паропроницаемые, ширина 80 мм | D17: м | E17: 496 | F17: =IF('Объёмы'!F12="","",'Объёмы'!F12) | G17: =IF(F17="","",IF(ISNUMBER(F17),E17*F17,"уточнить")) | H17: 1 | I17: =IF(G17="","",IF(ISNUMBER(G17),G17*H17,"уточнить")) | J17: Нормативный | K17: ГЭСН-2022, сборник 10
A18: 10-01-034-03 | B18: 01.7.06.11-0001 | C18: Ленты предварительно сжатые уплотнительные саморасширяющиеся (ПСУЛ) | D18: 10 м | E18: 27.1 | F18: =IF('Объёмы'!F12="","",'Объёмы'!F12) | G18: =IF(F18="","",IF(ISNUMBER(F18),E18*F18,"уточнить")) | H18: 10 | I18: =IF(G18="","",IF(ISNUMBER(G18),G18*H18,"уточнить")) | J18: Нормативный | K18: ГЭСН-2022, сборник 10
A19: 10-01-034-03 | B19: 01.7.15.07-0005 | C19: Дюбели стальные рамные монтажные | D19: 10 шт | E19: 71.4 | F19: =IF('Объёмы'!F12="","",'Объёмы'!F12) | G19: =IF(F19="","",IF(ISNUMBER(F19),E19*F19,"уточнить")) | H19: 10 | I19: =IF(G19="","",IF(ISNUMBER(G19),G19*H19,"уточнить")) | J19: Нормативный | K19: ГЭСН-2022, сборник 10
A20: 10-01-034-03 | B20: 11.3.02.03 | C20: Блоки оконные пластиковые, уточнить по проекту | D20: м2 | E20: 100 | F20: =IF('Объёмы'!F12="","",'Объёмы'!F12) | G20: =IF(F20="","",IF(ISNUMBER(F20),E20*F20,"уточнить")) | H20: 1 | I20: =IF(G20="","",IF(ISNUMBER(G20),G20*H20,"уточнить")) | J20: Норматив; изделие по проекту | K20: ГЭСН-2022, сборник 10
A21: 10-01-034-04 | B21: 01.7.14.01-0002 | C21: Пена монтажная, объём 1000 мл | D21: шт | E21: 57 | F21: =IF('Объёмы'!F13="","",'Объёмы'!F13) | G21: =IF(F21="","",IF(ISNUMBER(F21),E21*F21,"уточнить")) | H21: 1 | I21: =IF(G21="","",IF(ISNUMBER(G21),G21*H21,"уточнить")) | J21: Нормативный | K21: ГЭСН-2022, сборник 10
A22: 10-01-034-04 | B22: 01.7.06.02-0001 | C22: Ленты гидроизоляционные паропроницаемые, ширина 80 мм | D22: м | E22: 390 | F22: =IF('Объёмы'!F13="","",'Объёмы'!F13) | G22: =IF(F22="","",IF(ISNUMBER(F22),E22*F22,"уточнить")) | H22: 1 | I22: =IF(G22="","",IF(ISNUMBER(G22),G22*H22,"уточнить")) | J22: Нормативный | K22: ГЭСН-2022, сборник 10
A23: 10-01-034-04 | B23: 01.7.06.11-0001 | C23: Ленты предварительно сжатые уплотнительные саморасширяющиеся (ПСУЛ) | D23: 10 м | E23: 20 | F23: =IF('Объёмы'!F13="","",'Объёмы'!F13) | G23: =IF(F23="","",IF(ISNUMBER(F23),E23*F23,"уточнить")) | H23: 10 | I23: =IF(G23="","",IF(ISNUMBER(G23),G23*H23,"уточнить")) | J23: Нормативный | K23: ГЭСН-2022, сборник 10
A24: 10-01-034-04 | B24: 01.7.15.07-0005 | C24: Дюбели стальные рамные монтажные | D24: 10 шт | E24: 47.6 | F24: =IF('Объёмы'!F13="","",'Объёмы'!F13) | G24: =IF(F24="","",IF(ISNUMBER(F24),E24*F24,"уточнить")) | H24: 10 | I24: =IF(G24="","",IF(ISNUMBER(G24),G24*H24,"уточнить")) | J24: Нормативный | K24: ГЭСН-2022, сборник 10
A25: 10-01-034-04 | B25: 11.3.02.03 | C25: Блоки оконные пластиковые, уточнить по проекту | D25: м2 | E25: 100 | F25: =IF('Объёмы'!F13="","",'Объёмы'!F13) | G25: =IF(F25="","",IF(ISNUMBER(F25),E25*F25,"уточнить")) | H25: 1 | I25: =IF(G25="","",IF(ISNUMBER(G25),G25*H25,"уточнить")) | J25: Норматив; изделие по проекту | K25: ГЭСН-2022, сборник 10
A26: 10-01-034-05 | B26: 01.7.14.01-0002 | C26: Пена монтажная, объём 1000 мл | D26: шт | E26: 69 | F26: =IF('Объёмы'!F7="","",'Объёмы'!F7) -> 0.12 | G26: =IF(F26="","",IF(ISNUMBER(F26),E26*F26,"уточнить")) -> 8.28 | H26: 1 | I26: =IF(G26="","",IF(ISNUMBER(G26),G26*H26,"уточнить")) -> 8.28 | J26: Нормативный | K26: ГЭСН-2022, сборник 10
A27: 10-01-034-05 | B27: 01.7.06.02-0001 | C27: Ленты гидроизоляционные паропроницаемые, ширина 80 мм | D27: м | E27: 418 | F27: =IF('Объёмы'!F7="","",'Объёмы'!F7) -> 0.12 | G27: =IF(F27="","",IF(ISNUMBER(F27),E27*F27,"уточнить")) -> 50.16 | H27: 1 | I27: =IF(G27="","",IF(ISNUMBER(G27),G27*H27,"уточнить")) -> 50.16 | J27: Нормативный | K27: ГЭСН-2022, сборник 10
A28: 10-01-034-05 | B28: 01.7.06.11-0001 | C28: Ленты предварительно сжатые уплотнительные саморасширяющиеся (ПСУЛ) | D28: 10 м | E28: 20.7 | F28: =IF('Объёмы'!F7="","",'Объёмы'!F7) -> 0.12 | G28: =IF(F28="","",IF(ISNUMBER(F28),E28*F28,"уточнить")) -> 2.484 | H28: 10 | I28: =IF(G28="","",IF(ISNUMBER(G28),G28*H28,"уточнить")) -> 24.84 | J28: Нормативный | K28: ГЭСН-2022, сборник 10
A29: 10-01-034-05 | B29: 01.7.15.07-0005 | C29: Дюбели стальные рамные монтажные | D29: 10 шт | E29: 60.6 | F29: =IF('Объёмы'!F7="","",'Объёмы'!F7) -> 0.12 | G29: =IF(F29="","",IF(ISNUMBER(F29),E29*F29,"уточнить")) -> 7.272 | H29: 10 | I29: =IF(G29="","",IF(ISNUMBER(G29),G29*H29,"уточнить")) -> 72.72 | J29: Нормативный | K29: ГЭСН-2022, сборник 10
A30: 10-01-034-05 | B30: 11.3.02.03 | C30: Блоки оконные пластиковые, уточнить по проекту | D30: м2 | E30: 100 | F30: =IF('Объёмы'!F7="","",'Объёмы'!F7) -> 0.12 | G30: =IF(F30="","",IF(ISNUMBER(F30),E30*F30,"уточнить")) -> 12 | H30: 1 | I30: =IF(G30="","",IF(ISNUMBER(G30),G30*H30,"уточнить")) -> 12 | J30: Норматив; изделие по проекту | K30: ГЭСН-2022, сборник 10
A31: 10-01-034-06 | B31: 01.7.14.01-0002 | C31: Пена монтажная, объём 1000 мл | D31: шт | E31: 51.75 | F31: =IF('Объёмы'!F8="","",'Объёмы'!F8) -> 0.081 | G31: =IF(F31="","",IF(ISNUMBER(F31),E31*F31,"уточнить")) -> 4.19175 | H31: 1 | I31: =IF(G31="","",IF(ISNUMBER(G31),G31*H31,"уточнить")) -> 4.19175 | J31: Нормативный | K31: ГЭСН-2022, сборник 10
A32: 10-01-034-06 | B32: 01.7.06.02-0001 | C32: Ленты гидроизоляционные паропроницаемые, ширина 80 мм | D32: м | E32: 300 | F32: =IF('Объёмы'!F8="","",'Объёмы'!F8) -> 0.081 | G32: =IF(F32="","",IF(ISNUMBER(F32),E32*F32,"уточнить")) -> 24.3 | H32: 1 | I32: =IF(G32="","",IF(ISNUMBER(G32),G32*H32,"уточнить")) -> 24.3 | J32: Нормативный | K32: ГЭСН-2022, сборник 10
A33: 10-01-034-06 | B33: 01.7.06.11-0001 | C33: Ленты предварительно сжатые уплотнительные саморасширяющиеся (ПСУЛ) | D33: 10 м | E33: 15.6 | F33: =IF('Объёмы'!F8="","",'Объёмы'!F8) -> 0.081 | G33: =IF(F33="","",IF(ISNUMBER(F33),E33*F33,"уточнить")) -> 1.2636 | H33: 10 | I33: =IF(G33="","",IF(ISNUMBER(G33),G33*H33,"уточнить")) -> 12.636 | J33: Нормативный | K33: ГЭСН-2022, сборник 10
A34: 10-01-034-06 | B34: 01.7.15.07-0005 | C34: Дюбели стальные рамные монтажные | D34: 10 шт | E34: 38.9 | F34: =IF('Объёмы'!F8="","",'Объёмы'!F8) -> 0.081 | G34: =IF(F34="","",IF(ISNUMBER(F34),E34*F34,"уточнить")) -> 3.1509 | H34: 10 | I34: =IF(G34="","",IF(ISNUMBER(G34),G34*H34,"уточнить")) -> 31.509 | J34: Нормативный | K34: ГЭСН-2022, сборник 10
A35: 10-01-034-06 | B35: 11.3.02.03 | C35: Блоки оконные пластиковые, уточнить по проекту | D35: м2 | E35: 100 | F35: =IF('Объёмы'!F8="","",'Объёмы'!F8) -> 0.081 | G35: =IF(F35="","",IF(ISNUMBER(F35),E35*F35,"уточнить")) -> 8.1 | H35: 1 | I35: =IF(G35="","",IF(ISNUMBER(G35),G35*H35,"уточнить")) -> 8.1 | J35: Норматив; изделие по проекту | K35: ГЭСН-2022, сборник 10
A36: 10-01-034-07 | B36: 01.7.14.01-0002 | C36: Пена монтажная, объём 1000 мл | D36: шт | E36: 75 | F36: =IF('Объёмы'!F14="","",'Объёмы'!F14) | G36: =IF(F36="","",IF(ISNUMBER(F36),E36*F36,"уточнить")) | H36: 1 | I36: =IF(G36="","",IF(ISNUMBER(G36),G36*H36,"уточнить")) | J36: Нормативный | K36: ГЭСН-2022, сборник 10
A37: 10-01-034-07 | B37: 01.7.06.02-0001 | C37: Ленты гидроизоляционные паропроницаемые, ширина 80 мм | D37: м | E37: 439 | F37: =IF('Объёмы'!F14="","",'Объёмы'!F14) | G37: =IF(F37="","",IF(ISNUMBER(F37),E37*F37,"уточнить")) | H37: 1 | I37: =IF(G37="","",IF(ISNUMBER(G37),G37*H37,"уточнить")) | J37: Нормативный | K37: ГЭСН-2022, сборник 10
A38: 10-01-034-07 | B38: 01.7.06.11-0001 | C38: Ленты предварительно сжатые уплотнительные саморасширяющиеся (ПСУЛ) | D38: 10 м | E38: 20 | F38: =IF('Объёмы'!F14="","",'Объёмы'!F14) | G38: =IF(F38="","",IF(ISNUMBER(F38),E38*F38,"уточнить")) | H38: 10 | I38: =IF(G38="","",IF(ISNUMBER(G38),G38*H38,"уточнить")) | J38: Нормативный | K38: ГЭСН-2022, сборник 10
A39: 10-01-034-07 | B39: 01.7.15.07-0005 | C39: Дюбели стальные рамные монтажные | D39: 10 шт | E39: 60 | F39: =IF('Объёмы'!F14="","",'Объёмы'!F14) | G39: =IF(F39="","",IF(ISNUMBER(F39),E39*F39,"уточнить")) | H39: 10 | I39: =IF(G39="","",IF(ISNUMBER(G39),G39*H39,"уточнить")) | J39: Нормативный | K39: ГЭСН-2022, сборник 10
A40: 10-01-034-07 | B40: 11.3.02.03 | C40: Блоки оконные пластиковые, уточнить по проекту | D40: м2 | E40: 100 | F40: =IF('Объёмы'!F14="","",'Объёмы'!F14) | G40: =IF(F40="","",IF(ISNUMBER(F40),E40*F40,"уточнить")) | H40: 1 | I40: =IF(G40="","",IF(ISNUMBER(G40),G40*H40,"уточнить")) | J40: Норматив; изделие по проекту | K40: ГЭСН-2022, сборник 10
A41: 10-01-034-08 | B41: 01.7.14.01-0002 | C41: Пена монтажная, объём 1000 мл | D41: шт | E41: 53.25 | F41: =IF('Объёмы'!F15="","",'Объёмы'!F15) | G41: =IF(F41="","",IF(ISNUMBER(F41),E41*F41,"уточнить")) | H41: 1 | I41: =IF(G41="","",IF(ISNUMBER(G41),G41*H41,"уточнить")) | J41: Нормативный | K41: ГЭСН-2022, сборник 10
A42: 10-01-034-08 | B42: 01.7.06.02-0001 | C42: Ленты гидроизоляционные паропроницаемые, ширина 80 мм | D42: м | E42: 306 | F42: =IF('Объёмы'!F15="","",'Объёмы'!F15) | G42: =IF(F42="","",IF(ISNUMBER(F42),E42*F42,"уточнить")) | H42: 1 | I42: =IF(G42="","",IF(ISNUMBER(G42),G42*H42,"уточнить")) | J42: Нормативный | K42: ГЭСН-2022, сборник 10
...

Sheet Проверка
A1: Проверка комплектности перед сметой
A2: Проверка объёмов и подбора. Не полный сметный расчёт. Требует проверки сметчиком.
A5: Проверка | B5: Результат / отметка сметчика | C5: Основание или требуемое действие
A6: Оконная площадь, м² | B6: =IF('Объёмы'!C20="","",'Объёмы'!C20) -> 27.3 | C6: В примере 27,3 м². У бланка нет заданного контрольного значения.
A7: Количество окон, шт. | B7: =IF('ВОР'!D22="","",'ВОР'!D22) -> 13 | C7: В примере 13 шт.
A8: Длина подоконников, м | B8: =IF('ВОР'!M22="","",'ВОР'!M22) -> 19.1 | C8: В примере 19,1 м.
A9: Количество сеток, шт. | B9: =IF('ВОР'!J22="","",'ВОР'!J22) -> 9 | C9: В примере 9 шт.
A10: Обязательные признаки оконной конструкции | B10: =IF(COUNTA('ВОР'!A11:A20)=0,"уточнить: заполнить ВОР",IF(COUNTIF('Выбор нормы'!C22:C31,"уточнить")>0,"уточнить признаки","признаки заданы")) -> признаки заданы | C10: Открывание, створки, размеры, количество.
A11: Стена и длина подоконника | B11: =IF(COUNTA('ВОР'!A11:A20)=0,"уточнить: заполнить ВОР",IF(COUNTIF('Выбор нормы'!D22:D31,"уточнить")>0,"уточнить стену / длину","признаки заданы")) -> признаки заданы | C11: Для каменной стены указать толщину; длина ноль при отсутствии подоконника.
A14: Изделие оконного блока уточнено по спецификации | C14: Групповой ресурс 11.3.02.03, сборник 10.
A15: Проектный расход доски, заглушек и сетки подтверждён | C15: П означает проектный расход, не ноль.
A16: Полный комплект изделия не повторяет комплектующие | C16: Сопоставить состав поставки и ресурсы позиции.
A17: Пена, ленты, крепление и стеклопакеты не задвоены | C17: Установка входит в состав 10-01-034.
A18: Откосы сверены с уже выбранными нормами стен | C18: Проверить состав 10-05-008/009/010 в редакции 91/пр.
A19: Отливы сопоставлены с технологией и материалом нормы | C19: Не назначать заготовку листовой стали на готовое изделие автоматически.
A20: Недостающие работы по откосам и отливам добавлены в ВОР | C20: Либо подтверждено отсутствие по проекту.
A21: Редакция базы и дополнения проверены на дату сметы | C21: Не смешивать ресурсные строки ГЭСН-2022 и ФЕР-ФСНБ-2020.
A22: Подбор и комплектность ВОР утверждены сметчиком | C22: Указать ФИО, подпись и дату проверки на листе ВОР.
A24: Статус проверки | B24: =IF(AND(COUNTIF(B14:B22,"Подтверждено")=9,B10="признаки заданы",B11="признаки заданы",'ВОР'!B4<>"",'ВОР'!B8<>"",COUNTIF('ВОР'!N11:N20,"уточнить")=0,COUNTIF('Ресурсы'!I6:I55,"уточнить*")=0),"отметки заполнены","требует проверки сметчиком") -> требует проверки сметчиком | C24: Автоматический выбор шифра не заменяет утверждение сметчиком.
A26: Изменения 91/пр: откосы в нормах стен | B26: Официальное приложение
