Workbook

Sheet Исходные данные
A2: Проверка объёма дорожных плит
A4: Объект | B4: Учебный временный проезд
A5: Дата | B5: 05.10.2026
A6: База | B6: ФСНБ-2022, ГЭСН
A7: Редакция
A8: Вид покрытия и схема | B8: Временная дорога, сплошное покрытие
A9: Технология швов | B9: Засыпка песком
A10: Основание | B10: Готовое основание
A11: Материалы проверены по полной таблице
A13: Марка по проекту | B13: Длина, м | C13: Ширина, м | D13: Толщина, м | E13: Паспортный объём одной, м³ | F13: Количество, шт. | G13: Площадь одной, м² | H13: Общая площадь, м² | I13: Общий объём плит, м³ | J13: Количество по 100 м³
A14: Учебная плита | B14: 6 | C14: 2 | D14: 0.14 | E14: 1.68 | F14: 50 | G14: =IF(A14="","",IF(OR(COUNT(B14:C14)<>2,B14<=0,C14<=0),"Укажите размеры",B14*C14)) -> 12 | H14: =IF(A14="","",IF(OR(COUNT(F14)=0,F14<0,MOD(F14,1)<>0,NOT(ISNUMBER(G14))),"Укажите данные",G14*F14)) -> 600 | I14: =IF(A14="","",IF(OR(COUNT(E14:F14)<>2,E14<=0,F14<0,MOD(F14,1)<>0),"Укажите объём и количество",E14*F14)) -> 84 | J14: =IF(A14="","",IF(ISNUMBER(I14),I14/100,"Укажите данные")) -> 0.84
G15: =IF(A15="","",IF(OR(COUNT(B15:C15)<>2,B15<=0,C15<=0),"Укажите размеры",B15*C15)) | H15: =IF(A15="","",IF(OR(COUNT(F15)=0,F15<0,MOD(F15,1)<>0,NOT(ISNUMBER(G15))),"Укажите данные",G15*F15)) | I15: =IF(A15="","",IF(OR(COUNT(E15:F15)<>2,E15<=0,F15<0,MOD(F15,1)<>0),"Укажите объём и количество",E15*F15)) | J15: =IF(A15="","",IF(ISNUMBER(I15),I15/100,"Укажите данные"))
G16: =IF(A16="","",IF(OR(COUNT(B16:C16)<>2,B16<=0,C16<=0),"Укажите размеры",B16*C16)) | H16: =IF(A16="","",IF(OR(COUNT(F16)=0,F16<0,MOD(F16,1)<>0,NOT(ISNUMBER(G16))),"Укажите данные",G16*F16)) | I16: =IF(A16="","",IF(OR(COUNT(E16:F16)<>2,E16<=0,F16<0,MOD(F16,1)<>0),"Укажите объём и количество",E16*F16)) | J16: =IF(A16="","",IF(ISNUMBER(I16),I16/100,"Укажите данные"))
G17: =IF(A17="","",IF(OR(COUNT(B17:C17)<>2,B17<=0,C17<=0),"Укажите размеры",B17*C17)) | H17: =IF(A17="","",IF(OR(COUNT(F17)=0,F17<0,MOD(F17,1)<>0,NOT(ISNUMBER(G17))),"Укажите данные",G17*F17)) | I17: =IF(A17="","",IF(OR(COUNT(E17:F17)<>2,E17<=0,F17<0,MOD(F17,1)<>0),"Укажите объём и количество",E17*F17)) | J17: =IF(A17="","",IF(ISNUMBER(I17),I17/100,"Укажите данные"))
G18: =IF(A18="","",IF(OR(COUNT(B18:C18)<>2,B18<=0,C18<=0),"Укажите размеры",B18*C18)) | H18: =IF(A18="","",IF(OR(COUNT(F18)=0,F18<0,MOD(F18,1)<>0,NOT(ISNUMBER(G18))),"Укажите данные",G18*F18)) | I18: =IF(A18="","",IF(OR(COUNT(E18:F18)<>2,E18<=0,F18<0,MOD(F18,1)<>0),"Укажите объём и количество",E18*F18)) | J18: =IF(A18="","",IF(ISNUMBER(I18),I18/100,"Укажите данные"))
G19: =IF(A19="","",IF(OR(COUNT(B19:C19)<>2,B19<=0,C19<=0),"Укажите размеры",B19*C19)) | H19: =IF(A19="","",IF(OR(COUNT(F19)=0,F19<0,MOD(F19,1)<>0,NOT(ISNUMBER(G19))),"Укажите данные",G19*F19)) | I19: =IF(A19="","",IF(OR(COUNT(E19:F19)<>2,E19<=0,F19<0,MOD(F19,1)<>0),"Укажите объём и количество",E19*F19)) | J19: =IF(A19="","",IF(ISNUMBER(I19),I19/100,"Укажите данные"))
G20: =IF(A20="","",IF(OR(COUNT(B20:C20)<>2,B20<=0,C20<=0),"Укажите размеры",B20*C20)) | H20: =IF(A20="","",IF(OR(COUNT(F20)=0,F20<0,MOD(F20,1)<>0,NOT(ISNUMBER(G20))),"Укажите данные",G20*F20)) | I20: =IF(A20="","",IF(OR(COUNT(E20:F20)<>2,E20<=0,F20<0,MOD(F20,1)<>0),"Укажите объём и количество",E20*F20)) | J20: =IF(A20="","",IF(ISNUMBER(I20),I20/100,"Укажите данные"))
G21: =IF(A21="","",IF(OR(COUNT(B21:C21)<>2,B21<=0,C21<=0),"Укажите размеры",B21*C21)) | H21: =IF(A21="","",IF(OR(COUNT(F21)=0,F21<0,MOD(F21,1)<>0,NOT(ISNUMBER(G21))),"Укажите данные",G21*F21)) | I21: =IF(A21="","",IF(OR(COUNT(E21:F21)<>2,E21<=0,F21<0,MOD(F21,1)<>0),"Укажите объём и количество",E21*F21)) | J21: =IF(A21="","",IF(ISNUMBER(I21),I21/100,"Укажите данные"))
G22: =IF(A22="","",IF(OR(COUNT(B22:C22)<>2,B22<=0,C22<=0),"Укажите размеры",B22*C22)) | H22: =IF(A22="","",IF(OR(COUNT(F22)=0,F22<0,MOD(F22,1)<>0,NOT(ISNUMBER(G22))),"Укажите данные",G22*F22)) | I22: =IF(A22="","",IF(OR(COUNT(E22:F22)<>2,E22<=0,F22<0,MOD(F22,1)<>0),"Укажите объём и количество",E22*F22)) | J22: =IF(A22="","",IF(ISNUMBER(I22),I22/100,"Укажите данные"))
G23: =IF(A23="","",IF(OR(COUNT(B23:C23)<>2,B23<=0,C23<=0),"Укажите размеры",B23*C23)) | H23: =IF(A23="","",IF(OR(COUNT(F23)=0,F23<0,MOD(F23,1)<>0,NOT(ISNUMBER(G23))),"Укажите данные",G23*F23)) | I23: =IF(A23="","",IF(OR(COUNT(E23:F23)<>2,E23<=0,F23<0,MOD(F23,1)<>0),"Укажите объём и количество",E23*F23)) | J23: =IF(A23="","",IF(ISNUMBER(I23),I23/100,"Укажите данные"))
A25: Итого | H25: =IF(COUNTA(A14:A23)=0,"",IF(COUNT(H14:H23)<COUNTA(A14:A23),"Укажите данные",SUM(H14:H23))) -> 600 | I25: =IF(COUNTA(A14:A23)=0,"",IF(COUNT(I14:I23)<COUNTA(A14:A23),"Укажите данные",SUM(I14:I23))) -> 84 | J25: =IF(COUNTA(A14:A23)=0,"",IF(COUNT(J14:J23)<COUNTA(A14:A23),"Укажите данные",SUM(J14:J23))) -> 0.84
A27: Жёлтые ячейки заполняют по проекту и спецификации. Объём каждой марки считают по паспорту, без средней толщины.
A28: Учебный пример, числа условные. Размеры и объём не описывают паспорт конкретной марки.

Sheet Выбор нормы
A2: Выбор нормы по назначению и технологии
A4: Площадь относится к одной плите. Для 3 м²: 27-06-001-02 или 27-12-010-01; для 10,5 м²: 27-06-001-03.
A6: Условие | B6: Шифр ГЭСН | C6: Наименование нормы | D6: База | E6: Измеритель | F6: Проверка применимости | G6: Источник | H6: Отметка сметчика
A7: Шестигранные плиты, дорожное покрытие | B7: 27-06-001-01 | C7: Устройство дорожных покрытий из сборных шестигранных железобетонных плит | D7: ФСНБ-2022 | E7: 100 м3 | F7: Сопоставить проект, состав работ и техническую часть | G7: ГЭСН 81-02-27-2022, таблица 27-06-001
A8: Прямоугольные плиты до 3 м² включительно | B8: 27-06-001-02 | C8: Устройство дорожных покрытий из сборных прямоугольных железобетонных плит площадью: до 3 м2 | D8: ФСНБ-2022 | E8: 100 м3 | F8: Сопоставить проект, состав работ и техническую часть | G8: ГЭСН 81-02-27-2022, таблица 27-06-001
A9: Прямоугольные плиты свыше 3 до 10,5 м² включительно | B9: 27-06-001-03 | C9: Устройство дорожных покрытий из сборных прямоугольных железобетонных плит площадью: свыше 3 до 10,5 м2 | D9: ФСНБ-2022 | E9: 100 м3 | F9: Сопоставить проект, состав работ и техническую часть | G9: ГЭСН 81-02-27-2022, таблица 27-06-001
A10: Прямоугольные плиты свыше 10,5 м² | B10: 27-06-001-04 | C10: Устройство дорожных покрытий из сборных прямоугольных железобетонных плит площадью: свыше 10,5 м2 | D10: ФСНБ-2022 | E10: 100 м3 | F10: Сопоставить проект, состав работ и техническую часть | G10: ГЭСН 81-02-27-2022, таблица 27-06-001
A11: Временная сплошная дорога, плиты до 3 м² включительно | B11: 27-12-010-01 | C11: Устройство дорог из сборных железобетонных плит площадью: до 3 м2 | D11: ФСНБ-2022 | E11: 100 м3 | F11: Сопоставить проект, состав работ и техническую часть | G11: ГЭСН 81-02-27-2022, таблица 27-12-010
A12: Временная сплошная дорога, плиты свыше 3 м² | B12: 27-12-010-02 | C12: Устройство дорог из сборных железобетонных плит площадью: свыше 3 м2 | D12: ФСНБ-2022 | E12: 100 м3 | F12: Сопоставить проект, состав работ и техническую часть | G12: ГЭСН 81-02-27-2022, таблица 27-12-010
A13: Разборка сплошной дороги, плиты до 3 м² включительно | B13: 27-12-010-03 | C13: Разборка дорог из сборных железобетонных плит площадью: до 3 м2 | D13: ФСНБ-2022 | E13: 100 м3 | F13: Сопоставить проект, состав работ и техническую часть | G13: ГЭСН 81-02-27-2022, таблица 27-12-010
A14: Разборка сплошной дороги, плиты свыше 3 м² | B14: 27-12-010-04 | C14: Разборка дорог из сборных железобетонных плит площадью: свыше 3 м2 | D14: ФСНБ-2022 | E14: 100 м3 | F14: Сопоставить проект, состав работ и техническую часть | G14: ГЭСН 81-02-27-2022, таблица 27-12-010
A15: Временная колейная дорога | B15: 27-12-008-01 | C15: Устройство временных колейных дорог из сборных железобетонных плит | D15: ФСНБ-2022 | E15: км | F15: Сопоставить проект, состав работ и техническую часть | G15: ГЭСН 81-02-27-2022, таблица 27-12-008
A16: Разборка временной колейной дороги | B16: 27-12-008-02 | C16: Разборка временных колейных дорог из сборных железобетонных плит | D16: ФСНБ-2022 | E16: км | F16: Сопоставить проект, состав работ и техническую часть | G16: ГЭСН 81-02-27-2022, таблица 27-12-008
A17: Устройство отдельного временного разъезда из плит | B17: 27-12-009-01 | C17: Устройство временных разъездов: из плит сборных железобетонных | D17: ФСНБ-2022 | E17: шт | F17: Сопоставить проект, состав работ и техническую часть | G17: ГЭСН 81-02-27-2022, таблица 27-12-009
A18: Разборка отдельного временного разъезда | B18: 27-12-009-03 | C18: Разборка временных разъездов из плит сборных железобетонных | D18: ФСНБ-2022 | E18: шт | F18: Сопоставить проект, состав работ и техническую часть | G18: ГЭСН 81-02-27-2022, таблица 27-12-009
A20: Специальные условия: эти нормы не выбирают по одному совпадению материала
A21: Колесопровод, специальный раздел дорог на болотах | B21: 27-11-007-01 | C21: Устройство колесопроводов из сборных железобетонных плит в 2 ленты по готовому основанию | D21: ФСНБ-2022 | E21: км | F21: Проверить специальное назначение и технологию | G21: ГЭСН 81-02-27-2022, таблица 27-11-007
A22: Разъезд, специальный раздел дорог на болотах | B22: 27-11-008-01 | C22: Устройство разъездов из сборных железобетонных плит по готовому основанию | D22: ФСНБ-2022 | E22: шт | F22: Проверить специальное назначение и технологию | G22: ГЭСН 81-02-27-2022, таблица 27-11-008
A23: Укрепительная полоса первого размера | B23: 27-08-002-01 | C23: Устройство укрепительных полос из сборных железобетонных плит размером: 1х0,5(0,75)х0,06 м | D23: ФСНБ-2022 | E23: 100 м3 | F23: Проверить специальное назначение и технологию | G23: ГЭСН 81-02-27-2022, таблица 27-08-002
A24: Укрепительная полоса второго размера | B24: 27-08-002-02 | C24: Устройство укрепительных полос из сборных железобетонных плит размером: 3х0,5(0,75)х0,12 м | D24: ФСНБ-2022 | E24: 100 м3 | F24: Проверить специальное назначение и технологию | G24: ГЭСН 81-02-27-2022, таблица 27-08-002
A25: Аэродромное покрытие, отдельная технология | B25: 31-01-062-01 | C25: Устройство аэродромных покрытий из сборных железобетонных плит | D25: ФСНБ-2022 | E25: 100 м3 | F25: Проверить специальное назначение и технологию | G25: ГЭСН 81-02-31-2022, таблица 31-01-062

Sheet Пример
A2: Временный проезд: две строки ведомости
A4: Учебный пример, числа условные. Исходные данные редактируются на одноимённом листе.
A6: Количество плит, шт. | B6: =IF(COUNTA('Исходные данные'!A14:A23)=0,"",SUM('Исходные данные'!F14:F23)) -> 50
A7: Площадь одной плиты первой марки, м² | B7: =IF(COUNTA('Исходные данные'!A14:A23)=0,"",'Исходные данные'!G14) -> 12
A8: Площадь всех плит, м² | B8: =IF(COUNTA('Исходные данные'!A14:A23)=0,"",'Исходные данные'!H25) -> 600
A9: Объём всех плит, м³ | B9: =IF(COUNTA('Исходные данные'!A14:A23)=0,"",'Исходные данные'!I25) -> 84
A10: Количество в единицах 100 м³ | B10: =IF(COUNTA('Исходные данные'!A14:A23)=0,"",'Исходные данные'!J25) -> 0.84
A12: Материалы проверены по полной таблице | B12: =IF(COUNTA('Исходные данные'!B11)=0,"Укажите отметку",'Исходные данные'!B11) -> Укажите отметку
A15: Работа | B15: Шифр ГЭСН | C15: Измеритель | D15: Количество
A16: Устройство временного сплошного покрытия | B16: 27-12-010-02 | C16: 100 м³ | D16: =IF(COUNTA(B16)=0,"",IF(COUNTA('Исходные данные'!A14:A23)=0,"Укажите данные",'Исходные данные'!J25)) -> 0.84
A17: Разборка покрытия, если предусмотрена заданием | B17: 27-12-010-04 | C17: 100 м³ | D17: =IF(COUNTA(B17)=0,"",IF(COUNTA('Исходные данные'!A14:A23)=0,"Укажите данные",'Исходные данные'!J25)) -> 0.84
A19: Шифры задаёт сметчик. Эти строки рассчитаны для 100 м³; для км или шт. нужен другой объём.
A20: Объёмы монтажа и разборки не суммируют как количество закупаемых плит. Денежный итог в форме не рассчитывается.

Sheet Проверка
A2: Проверка перед передачей сметы
A4: № | B4: Что проверить | C4: Отметка | D4: Документ или пояснение
A5: 1 | B5: Назначение дороги и схема покрытия соответствуют таблице
A6: 2 | B6: Форма и площадь плиты проверены, границы 3 и 10,5 м² соблюдены
A7: 3 | B7: Количество и паспортный объём по каждой марке подтверждены
A8: 4 | B8: Измеритель выбран верно: 100 м³ плит, км дороги или шт. разъездов
A9: 5 | B9: Основание и швы соответствуют составу, повторных операций нет
A10: 6 | B10: Материалы и кран проверены по полной ресурсной таблице
A11: 7 | B11: Доставка, разборка и отвозка разделены по заданию
A12: 8 | B12: База, редакция, метод, территория и период указаны в смете
B15: Расчёт выполнил
B16: Проверил
B17: Дата
