Workbook

Sheet Инструкция
A1: Бланк ССР: инструкция и параметры
A2: Жёлтые ячейки / синий текст — ввод. Чёрный текст — формулы; зелёный — связь с другим листом. Суммы условные, не цены реального проекта.
A4: Уровень цен
A5: Период цен (одинаковый во всех документах)
A6: Принятый резерв, доля
A7: Применимая ставка НДС, доля
A8: Основание размера и согласования резерва
A9: Основание налоговой базы и ставки
A10: Налоговое условие
A11: Категория объекта
A12: Предельный размер резерва по категории | B12: =IF(B11="Непроизводственный",0.02,IF(B11="Производственный/линейный",0.03,IF(B11="Статья 48.1 ГрК РФ",0.1,0))) -> 0
A14: 1. Заполните реквизиты на листе «ССР» и параметры выше; ставка и основание — обязательные отдельные поля, пустое поле не означает освобождение.
A15: 2. На листе «Исходные» для каждой главы предусмотрено пять строк. Введите ID документа, описание, суммы в рублях, уровень, период, основание и налоговое условие. Глава закреплена по месту строки.
A16: 3. Образец строки для ввода (не включён в бланк): РЗ-01 | глава 1 | Подготовка территории | строительные работы 100000 руб. | Текущий | согласованный период | учебный расчёт | Без освобождений.
A17: 4. H/I — только суммы временных зданий / зимних затрат, уже учтённые в строительной части исходного ОСР. Они вычитаются при переносе. В отдельных строках глав 8/9 укажите ID исходной ОСР в графе O.
A18: 5. Для иных выделяемых затрат п. 134, других стоимостных граф или иной структуры переноса макет нужно адаптировать с явным регистром. Не помещайте их в поля H/I.
A19: 6. В примере исходная ОСР содержит строительные работы 4100000 руб., включая 60000 / 40000 руб.; главы 8/9 связываются с ОСР-02-01. Все девять исходных документов и их суммы учебные.
A20: 7. Если требуется больше пяти строк в главе, добавьте строки и расширьте формулы / контроли осознанно. Для изменения структуры снимите защиту без пароля. В примере пустые строки и главы 3–5, 11 скрыты: отобразите их перед добавлением затрат.
A21: 8. Графы 4–7 ССР: ROUND(переносимая сумма в рублях / 1000, 2). Графа 8 — сумма показанных граф 4–7. Итоги 1–7, 1–8, 1–9, 1–12 суммируют только итоги глав.
A22: 9. Резерв считается по графам от итога глав 1–12. Пределы 2/3/10% по п. 179 не назначаются автоматически: нужен принятый размер, решение заказчика и предусмотренное согласование.
A23: 10. Автоматический НДС рассчитан только для текущего уровня с подтверждённой единой ставкой и без освобождений. При освобождениях / разных основаниях нужен отдельный регистр налоговой базы; итог в этом макете блокируется. В базисном ССР НДС не приводится.
A24: 11. Контрольная панель справа от формы не входит в печатную область. «ОК» — проверка формул и введённых полей; это не подтверждение юридической применимости и не заключение экспертизы.
A25: 12. Сметы должны согласовываться по периоду и уровню цен. НР/СП учтены в исходных итогах; резерв/НДС исходных документов повторно не переносят. Суммы источника / корректировки сохраняйте для проверки округления.
... A34: НДС: основная ставка с 2026 — ФНС

Sheet Исходные
A1: ID документа | B1: Глава | C1: Наименование / описание | D1: Строительные работы, руб. | E1: Монтажные работы, руб. | F1: Оборудование, руб. | G1: Прочие затраты, руб. | H1: Из строительных: временные здания, руб. | I1: Из строительных: зимние затраты, руб. | J1: Единица исходных сумм | K1: Уровень цен | L1: Период цен | M1: Документ / основание | N1: Налоговое условие | O1: ID ОСР, из которой выделены затраты | P1: Перенос: строительство, руб. | Q1: Перенос: монтаж, руб. | R1: Перенос: оборудование, руб. | S1: Перенос: прочие, руб. | T1: Перенос: всего, руб. | U1: Контроль ID | V1: Контроль единиц | W1: Контроль цен | X1: Контроль налога | Y1: Контроль п. 134 | Z1: Контроль связи с ОСР | AA1: Контроль основания
B2: 1 | P2: =IF(A2="","",D2-H2-I2) | Q2: =IF(A2="","",E2) | R2: =IF(A2="","",F2) | S2: =IF(A2="","",G2) | T2: =IF(A2="","",SUM(P2:S2)) | U2: =IF(A2="","",IF(COUNTIF($A$2:$A$61,A2)=1,"ОК","ДУБЛЬ")) | V2: =IF(A2="","",IF(J2="руб.","ОК","ПРОВЕРЬТЕ")) | W2: =IF(A2="","",IF(AND(K2='Инструкция'!$B$4,L2='Инструкция'!$B$5,L2<>""),"ОК","ПРОВЕРЬТЕ")) | X2: =IF(A2="","",IF(OR('Инструкция'!$B$4="Базисный",AND(N2="Без освобождений",'Инструкция'!$B$10="Без освобождений")),"ОК","ПРОВЕРЬТЕ")) | Y2: =IF(A2="","",IF(AND(H2>=0,I2>=0,D2>=SUM(H2:I2),OR(SUM(H2:I2)=0,B2=2),ABS(H2-SUMIFS($P$2:$P$61,$O$2:$O$61,A2,$B$2:$B$61,8))<0.005,ABS(I2-SUMIFS($P$2:$P$61,$O$2:$O$61,A2,$B$2:$B$61,9))<0.005),"ОК","ПРОВЕРЬТЕ")) | Z2: =IF(A2="","",IF(O2="","ОК",IF(AND(COUNTIF($A$2:$A$61,O2)=1,OR(B2=8,B2=9)),"ОК","ПРОВЕРЬТЕ"))) | AA2: =IF(A2="","",IF(AND(C2<>"",M2<>"",T2>=0),"ОК","ПРОВЕРЬТЕ"))
B3: 1 | P3: =IF(A3="","",D3-H3-I3) | Q3: =IF(A3="","",E3) | R3: =IF(A3="","",F3) | S3: =IF(A3="","",G3) | T3: =IF(A3="","",SUM(P3:S3)) | U3: =IF(A3="","",IF(COUNTIF($A$2:$A$61,A3)=1,"ОК","ДУБЛЬ")) | V3: =IF(A3="","",IF(J3="руб.","ОК","ПРОВЕРЬТЕ")) | W3: =IF(A3="","",IF(AND(K3='Инструкция'!$B$4,L3='Инструкция'!$B$5,L3<>""),"ОК","ПРОВЕРЬТЕ")) | X3: =IF(A3="","",IF(OR('Инструкция'!$B$4="Базисный",AND(N3="Без освобождений",'Инструкция'!$B$10="Без освобождений")),"ОК","ПРОВЕРЬТЕ")) | Y3: =IF(A3="","",IF(AND(H3>=0,I3>=0,D3>=SUM(H3:I3),OR(SUM(H3:I3)=0,B3=2),ABS(H3-SUMIFS($P$2:$P$61,$O$2:$O$61,A3,$B$2:$B$61,8))<0.005,ABS(I3-SUMIFS($P$2:$P$61,$O$2:$O$61,A3,$B$2:$B$61,9))<0.005),"ОК","ПРОВЕРЬТЕ")) | Z3: =IF(A3="","",IF(O3="","ОК",IF(AND(COUNTIF($A$2:$A$61,O3)=1,OR(B3=8,B3=9)),"ОК","ПРОВЕРЬТЕ"))) | AA3: =IF(A3="","",IF(AND(C3<>"",M3<>"",T3>=0),"ОК","ПРОВЕРЬТЕ"))
B4: 1 | P4: =IF(A4="","",D4-H4-I4) | Q4: =IF(A4="","",E4) | R4: =IF(A4="","",F4) | S4: =IF(A4="","",G4) | T4: =IF(A4="","",SUM(P4:S4)) | U4: =IF(A4="","",IF(COUNTIF($A$2:$A$61,A4)=1,"ОК","ДУБЛЬ")) | V4: =IF(A4="","",IF(J4="руб.","ОК","ПРОВЕРЬТЕ")) | W4: =IF(A4="","",IF(AND(K4='Инструкция'!$B$4,L4='Инструкция'!$B$5,L4<>""),"ОК","ПРОВЕРЬТЕ")) | X4: =IF(A4="","",IF(OR('Инструкция'!$B$4="Базисный",AND(N4="Без освобождений",'Инструкция'!$B$10="Без освобождений")),"ОК","ПРОВЕРЬТЕ")) | Y4: =IF(A4="","",IF(AND(H4>=0,I4>=0,D4>=SUM(H4:I4),OR(SUM(H4:I4)=0,B4=2),ABS(H4-SUMIFS($P$2:$P$61,$O$2:$O$61,A4,$B$2:$B$61,8))<0.005,ABS(I4-SUMIFS($P$2:$P$61,$O$2:$O$61,A4,$B$2:$B$61,9))<0.005),"ОК","ПРОВЕРЬТЕ")) | Z4: =IF(A4="","",IF(O4="","ОК",IF(AND(COUNTIF($A$2:$A$61,O4)=1,OR(B4=8,B4=9)),"ОК","ПРОВЕРЬТЕ"))) | AA4: =IF(A4="","",IF(AND(C4<>"",M4<>"",T4>=0),"ОК","ПРОВЕРЬТЕ"))
B5: 1 | P5: =IF(A5="","",D5-H5-I5) | Q5: =IF(A5="","",E5) | R5: =IF(A5="","",F5) | S5: =IF(A5="","",G5) | T5: =IF(A5="","",SUM(P5:S5)) | U5: =IF(A5="","",IF(COUNTIF($A$2:$A$61,A5)=1,"ОК","ДУБЛЬ")) | V5: =IF(A5="","",IF(J5="руб.","ОК","ПРОВЕРЬТЕ")) | W5: =IF(A5="","",IF(AND(K5='Инструкция'!$B$4,L5='Инструкция'!$B$5,L5<>""),"ОК","ПРОВЕРЬТЕ")) | X5: =IF(A5="","",IF(OR('Инструкция'!$B$4="Базисный",AND(N5="Без освобождений",'Инструкция'!$B$10="Без освобождений")),"ОК","ПРОВЕРЬТЕ")) | Y5: =IF(A5="","",IF(AND(H5>=0,I5>=0,D5>=SUM(H5:I5),OR(SUM(H5:I5)=0,B5=2),ABS(H5-SUMIFS($P$2:$P$61,$O$2:$O$61,A5,$B$2:$B$61,8))<0.005,ABS(I5-SUMIFS($P$2:$P$61,$O$2:$O$61,A5,$B$2:$B$61,9))<0.005),"ОК","ПРОВЕРЬТЕ")) | Z5: =IF(A5="","",IF(O5="","ОК",IF(AND(COUNTIF($A$2:$A$61,O5)=1,OR(B5=8,B5=9)),"ОК","ПРОВЕРЬТЕ"))) | AA5: =IF(A5="","",IF(AND(C5<>"",M5<>"",T5>=0),"ОК","ПРОВЕРЬТЕ"))
B6: 1 | P6: =IF(A6="","",D6-H6-I6) | Q6: =IF(A6="","",E6) | R6: =IF(A6="","",F6) | S6: =IF(A6="","",G6) | T6: =IF(A6="","",SUM(P6:S6)) | U6: =IF(A6="","",IF(COUNTIF($A$2:$A$61,A6)=1,"ОК","ДУБЛЬ")) | V6: =IF(A6="","",IF(J6="руб.","ОК","ПРОВЕРЬТЕ")) | W6: =IF(A6="","",IF(AND(K6='Инструкция'!$B$4,L6='Инструкция'!$B$5,L6<>""),"ОК","ПРОВЕРЬТЕ")) | X6: =IF(A6="","",IF(OR('Инструкция'!$B$4="Базисный",AND(N6="Без освобождений",'Инструкция'!$B$10="Без освобождений")),"ОК","ПРОВЕРЬТЕ")) | Y6: =IF(A6="","",IF(AND(H6>=0,I6>=0,D6>=SUM(H6:I6),OR(SUM(H6:I6)=0,B6=2),ABS(H6-SUMIFS($P$2:$P$61,$O$2:$O$61,A6,$B$2:$B$61,8))<0.005,ABS(I6-SUMIFS($P$2:$P$61,$O$2:$O$61,A6,$B$2:$B$61,9))<0.005),"ОК","ПРОВЕРЬТЕ")) | Z6: =IF(A6="","",IF(O6="","ОК",IF(AND(COUNTIF($A$2:$A$61,O6)=1,OR(B6=8,B6=9)),"ОК","ПРОВЕРЬТЕ"))) | AA6: =IF(A6="","",IF(AND(C6<>"",M6<>"",T6>=0),"ОК","ПРОВЕРЬТЕ"))
B7: 2 | P7: =IF(A7="","",D7-H7-I7) | Q7: =IF(A7="","",E7) | R7: =IF(A7="","",F7) | S7: =IF(A7="","",G7) | T7: =IF(A7="","",SUM(P7:S7)) | U7: =IF(A7="","",IF(COUNTIF($A$2:$A$61,A7)=1,"ОК","ДУБЛЬ")) | V7: =IF(A7="","",IF(J7="руб.","ОК","ПРОВЕРЬТЕ")) | W7: =IF(A7="","",IF(AND(K7='Инструкция'!$B$4,L7='Инструкция'!$B$5,L7<>""),"ОК","ПРОВЕРЬТЕ")) | X7: =IF(A7="","",IF(OR('Инструкция'!$B$4="Базисный",AND(N7="Без освобождений",'Инструкция'!$B$10="Без освобождений")),"ОК","ПРОВЕРЬТЕ")) | Y7: =IF(A7="","",IF(AND(H7>=0,I7>=0,D7>=SUM(H7:I7),OR(SUM(H7:I7)=0,B7=2),ABS(H7-SUMIFS($P$2:$P$61,$O$2:$O$61,A7,$B$2:$B$61,8))<0.005,ABS(I7-SUMIFS($P$2:$P$61,$O$2:$O$61,A7,$B$2:$B$61,9))<0.005),"ОК","ПРОВЕРЬТЕ")) | Z7: =IF(A7="","",IF(O7="","ОК",IF(AND(COUNTIF($A$2:$A$61,O7)=1,OR(B7=8,B7=9)),"ОК","ПРОВЕРЬТЕ"))) | AA7: =IF(A7="","",IF(AND(C7<>"",M7<>"",T7>=0),"ОК","ПРОВЕРЬТЕ"))
B8: 2 | P8: =IF(A8="","",D8-H8-I8) | Q8: =IF(A8="","",E8) | R8: =IF(A8="","",F8) | S8: =IF(A8="","",G8) | T8: =IF(A8="","",SUM(P8:S8)) | U8: =IF(A8="","",IF(COUNTIF($A$2:$A$61,A8)=1,"ОК","ДУБЛЬ")) | V8: =IF(A8="","",IF(J8="руб.","ОК","ПРОВЕРЬТЕ")) | W8: =IF(A8="","",IF(AND(K8='Инструкция'!$B$4,L8='Инструкция'!$B$5,L8<>""),"ОК","ПРОВЕРЬТЕ")) | X8: =IF(A8="","",IF(OR('Инструкция'!$B$4="Базисный",AND(N8="Без освобождений",'Инструкция'!$B$10="Без освобождений")),"ОК","ПРОВЕРЬТЕ")) | Y8: =IF(A8="","",IF(AND(H8>=0,I8>=0,D8>=SUM(H8:I8),OR(SUM(H8:I8)=0,B8=2),ABS(H8-SUMIFS($P$2:$P$61,$O$2:$O$61,A8,$B$2:$B$61,8))<0.005,ABS(I8-SUMIFS($P$2:$P$61,$O$2:$O$61,A8,$B$2:$B$61,9))<0.005),"ОК","ПРОВЕРЬТЕ")) | Z8: =IF(A8="","",IF(O8="","ОК",IF(AND(COUNTIF($A$2:$A$61,O8)=1,OR(B8=8,B8=9)),"ОК","ПРОВЕРЬТЕ"))) | AA8: =IF(A8="","",IF(AND(C8<>"",M8<>"",T8>=0),"ОК","ПРОВЕРЬТЕ"))
B9: 2 | P9: =IF(A9="","",D9-H9-I9) | Q9: =IF(A9="","",E9) | R9: =IF(A9="","",F9) | S9: =IF(A9="","",G9) | T9: =IF(A9="","",SUM(P9:S9)) | U9: =IF(A9="","",IF(COUNTIF($A$2:$A$61,A9)=1,"ОК","ДУБЛЬ")) | V9: =IF(A9="","",IF(J9="руб.","ОК","ПРОВЕРЬТЕ")) | W9: =IF(A9="","",IF(AND(K9='Инструкция'!$B$4,L9='Инструкция'!$B$5,L9<>""),"ОК","ПРОВЕРЬТЕ")) | X9: =IF(A9="","",IF(OR('Инструкция'!$B$4="Базисный",AND(N9="Без освобождений",'Инструкция'!$B$10="Без освобождений")),"ОК","ПРОВЕРЬТЕ")) | Y9: =IF(A9="","",IF(AND(H9>=0,I9>=0,D9>=SUM(H9:I9),OR(SUM(H9:I9)=0,B9=2),ABS(H9-SUMIFS($P$2:$P$61,$O$2:$O$61,A9,$B$2:$B$61,8))<0.005,ABS(I9-SUMIFS($P$2:$P$61,$O$2:$O$61,A9,$B$2:$B$61,9))<0.005),"ОК","ПРОВЕРЬТЕ")) | Z9: =IF(A9="","",IF(O9="","ОК",IF(AND(COUNTIF($A$2:$A$61,O9)=1,OR(B9=8,B9=9)),"ОК","ПРОВЕРЬТЕ"))) | AA9: =IF(A9="","",IF(AND(C9<>"",M9<>"",T9>=0),"ОК","ПРОВЕРЬТЕ"))
B10: 2 | P10: =IF(A10="","",D10-H10-I10) | Q10: =IF(A10="","",E10) | R10: =IF(A10="","",F10) | S10: =IF(A10="","",G10) | T10: =IF(A10="","",SUM(P10:S10)) | U10: =IF(A10="","",IF(COUNTIF($A$2:$A$61,A10)=1,"ОК","ДУБЛЬ")) | V10: =IF(A10="","",IF(J10="руб.","ОК","ПРОВЕРЬТЕ")) | W10: =IF(A10="","",IF(AND(K10='Инструкция'!$B$4,L10='Инструкция'!$B$5,L10<>""),"ОК","ПРОВЕРЬТЕ")) | X10: =IF(A10="","",IF(OR('Инструкция'!$B$4="Базисный",AND(N10="Без освобождений",'Инструкция'!$B$10="Без освобождений")),"ОК","ПРОВЕРЬТЕ")) | Y10: =IF(A10="","",IF(AND(H10>=0,I10>=0,D10>=SUM(H10:I10),OR(SUM(H10:I10)=0,B10=2),ABS(H10-SUMIFS($P$2:$P$61,$O$2:$O$61,A10,$B$2:$B$61,8))<0.005,ABS(I10-SUMIFS($P$2:$P$61,$O$2:$O$61,A10,$B$2:$B$61,9))<0.005),"ОК","ПРОВЕРЬТЕ")) | Z10: =IF(A10="","",IF(O10="","ОК",IF(AND(COUNTIF($A$2:$A$61,O10)=1,OR(B10=8,B10=9)),"ОК","ПРОВЕРЬТЕ"))) | AA10: =IF(A10="","",IF(AND(C10<>"",M10<>"",T10>=0),"ОК","ПРОВЕРЬТЕ"))
B11: 2 | P11: =IF(A11="","",D11-H11-I11) | Q11: =IF(A11="","",E11) | R11: =IF(A11="","",F11) | S11: =IF(A11="","",G11) | T11: =IF(A11="","",SUM(P11:S11)) | U11: =IF(A11="","",IF(COUNTIF($A$2:$A$61,A11)=1,"ОК","ДУБЛЬ")) | V11: =IF(A11="","",IF(J11="руб.","ОК","ПРОВЕРЬТЕ")) | W11: =IF(A11="","",IF(AND(K11='Инструкция'!$B$4,L11='Инструкция'!$B$5,L11<>""),"ОК","ПРОВЕРЬТЕ")) | X11: =IF(A11="","",IF(OR('Инструкция'!$B$4="Базисный",AND(N11="Без освобождений",'Инструкция'!$B$10="Без освобождений")),"ОК","ПРОВЕРЬТЕ")) | Y11: =IF(A11="","",IF(AND(H11>=0,I11>=0,D11>=SUM(H11:I11),OR(SUM(H11:I11)=0,B11=2),ABS(H11-SUMIFS($P$2:$P$61,$O$2:$O$61,A11,$B$2:$B$61,8))<0.005,ABS(I11-SUMIFS($P$2:$P$61,$O$2:$O$61,A11,$B$2:$B$61,9))<0.005),"ОК","ПРОВЕРЬТЕ")) | Z11: =IF(A11="","",IF(O11="","ОК",IF(AND(COUNTIF($A$2:$A$61,O11)=1,OR(B11=8,B11=9)),"ОК","ПРОВЕРЬТЕ"))) | AA11: =IF(A11="","",IF(AND(C11<>"",M11<>"",T11>=0),"ОК","ПРОВЕРЬТЕ"))
B12: 3 | P12: =IF(A12="","",D12-H12-I12) | Q12: =IF(A12="","",E12) | R12: =IF(A12="","",F12) | S12: =IF(A12="","",G12) | T12: =IF(A12="","",SUM(P12:S12)) | U12: =IF(A12="","",IF(COUNTIF($A$2:$A$61,A12)=1,"ОК","ДУБЛЬ")) | V12: =IF(A12="","",IF(J12="руб.","ОК","ПРОВЕРЬТЕ")) | W12: =IF(A12="","",IF(AND(K12='Инструкция'!$B$4,L12='Инструкция'!$B$5,L12<>""),"ОК","ПРОВЕРЬТЕ")) | X12: =IF(A12="","",IF(OR('Инструкция'!$B$4="Базисный",AND(N12="Без освобождений",'Инструкция'!$B$10="Без освобождений")),"ОК","ПРОВЕРЬТЕ")) | Y12: =IF(A12="","",IF(AND(H12>=0,I12>=0,D12>=SUM(H12:I12),OR(SUM(H12:I12)=0,B12=2),ABS(H12-SUMIFS($P$2:$P$61,$O$2:$O$61,A12,$B$2:$B$61,8))<0.005,ABS(I12-SUMIFS($P$2:$P$61,$O$2:$O$61,A12,$B$2:$B$61,9))<0.005),"ОК","ПРОВЕРЬТЕ")) | Z12: =IF(A12="","",IF(O12="","ОК",IF(AND(COUNTIF($A$2:$A$61,O12)=1,OR(B12=8,B12=9)),"ОК","ПРОВЕРЬТЕ"))) | AA12: =IF(A12="","",IF(AND(C12<>"",M12<>"",T12>=0),"ОК","ПРОВЕРЬТЕ"))
B13: 3 | P13: =IF(A13="","",D13-H13-I13) | Q13: =IF(A13="","",E13) | R13: =IF(A13="","",F13) | S13: =IF(A13="","",G13) | T13: =IF(A13="","",SUM(P13:S13)) | U13: =IF(A13="","",IF(COUNTIF($A$2:$A$61,A13)=1,"ОК","ДУБЛЬ")) | V13: =IF(A13="","",IF(J13="руб.","ОК","ПРОВЕРЬТЕ")) | W13: =IF(A13="","",IF(AND(K13='Инструкция'!$B$4,L13='Инструкция'!$B$5,L13<>""),"ОК","ПРОВЕРЬТЕ")) | X13: =IF(A13="","",IF(OR('Инструкция'!$B$4="Базисный",AND(N13="Без освобождений",'Инструкция'!$B$10="Без освобождений")),"ОК","ПРОВЕРЬТЕ")) | Y13: =IF(A13="","",IF(AND(H13>=0,I13>=0,D13>=SUM(H13:I13),OR(SUM(H13:I13)=0,B13=2),ABS(H13-SUMIFS($P$2:$P$61,$O$2:$O$61,A13,$B$2:$B$61,8))<0.005,ABS(I13-SUMIFS($P$2:$P$61,$O$2:$O$61,A13,$B$2:$B$61,9))<0.005),"ОК","ПРОВЕРЬТЕ")) | Z13: =IF(A13="","",IF(O13="","ОК",IF(AND(COUNTIF($A$2:$A$61,O13)=1,OR(B13=8,B13=9)),"ОК","ПРОВЕРЬТЕ"))) | AA13: =IF(A13="","",IF(AND(C13<>"",M13<>"",T13>=0),"ОК","ПРОВЕРЬТЕ"))
... B61: 12 | P61: =IF(A61="","",D61-H61-I61) | Q61: =IF(A61="","",E61) | R61: =IF(A61="","",F61) | S61: =IF(A61="","",G61) | T61: =IF(A61="","",SUM(P61:S61)) | U61: =IF(A61="","",IF(COUNTIF($A$2:$A$61,A61)=1,"ОК","ДУБЛЬ")) | V61: =IF(A61="","",IF(J61="руб.","ОК","ПРОВЕРЬТЕ")) | W61: =IF(A61="","",IF(AND(K61='Инструкция'!$B$4,L61='Инструкция'!$B$5,L61<>""),"ОК","ПРОВЕРЬТЕ")) | X61: =IF(A61="","",IF(OR('Инструкция'!$B$4="Базисный",AND(N61="Без освобождений",'Инструкция'!$B$10="Без освобождений")),"ОК","ПРОВЕРЬТЕ")) | Y61: =IF(A61="","",IF(AND(H61>=0,I61>=0,D61>=SUM(H61:I61),OR(SUM(H61:I61)=0,B61=2),ABS(H61-SUMIFS($P$2:$P$61,$O$2:$O$61,A61,$B$2:$B$61,8))<0.005,ABS(I61-SUMIFS($P$2:$P$61,$O$2:$O$61,A61,$B$2:$B$61,9))<0.005),"ОК","ПРОВЕРЬТЕ")) | Z61: =IF(A61="","",IF(O61="","ОК",IF(AND(COUNTIF($A$2:$A$61,O61)=1,OR(B61=8,B61=9)),"ОК","ПРОВЕРЬТЕ"))) | AA61: =IF(A61="","",IF(AND(C61<>"",M61<>"",T61>=0),"ОК","ПРОВЕРЬТЕ"))

Sheet ССР
A1: Приложение № 6 к Методике № 421/пр (рекомендуемый образец) | J1: Контрольная панель — вне печатной области
A2: Бланк — заполните исходные документы и параметры
A3: Заказчик | J3: Строк с исходными документами | K3: =COUNTIF('Исходные'!A2:A61,"<>") -> 0
A4: Утверждён | J4: Дубли ID | K4: =COUNTIF('Исходные'!U2:U61,"ДУБЛЬ") -> 0
A5: Сметная стоимость, тыс. руб. | D5: =IF(H106="","",H106) | J5: Ошибки единиц | K5: =COUNTIF('Исходные'!V2:V61,"ПРОВЕРЬТЕ") -> 0
J6: Смешение уровней / периодов | K6: =COUNTIF('Исходные'!W2:W61,"ПРОВЕРЬТЕ") -> 0
A7: СВОДНЫЙ СМЕТНЫЙ РАСЧЁТ СТОИМОСТИ СТРОИТЕЛЬСТВА | J7: Налоговые условия требуют регистра | K7: =COUNTIF('Исходные'!X2:X61,"ПРОВЕРЬТЕ") -> 0
A8: № ССРСС- | J8: Несогласованные выделения п. 134 | K8: =COUNTIF('Исходные'!Y2:Y61,"ПРОВЕРЬТЕ") -> 0
A9: Наименование стройки | J9: Ошибки связи с исходной ОСР | K9: =COUNTIF('Исходные'!Z2:Z61,"ПРОВЕРЬТЕ") -> 0
A10: Уровень цен | C10: ='Инструкция'!B4 | E10: Период цен | G10: ='Инструкция'!B5 | J10: Нет описания / основания, отрицательный перенос | K10: =COUNTIF('Исходные'!AA2:AA61,"ПРОВЕРЬТЕ") -> 0
A12: № п/п | B12: Обоснование | C12: Наименование глав, объектов капитального строительства, работ и затрат | D12: Сметная стоимость, тыс. руб. | J12: Резерв / предел / основание | K12: =IF(AND(ISNUMBER('Инструкция'!B6),'Инструкция'!B6>=0,'Инструкция'!B6<='Инструкция'!B12,'Инструкция'!B11<>"",'Инструкция'!B8<>""),"ОК","ПРОВЕРЬТЕ") -> ПРОВЕРЬТЕ
D13: строительных (ремонтно-строительных, ремонтно-реставрационных) работ | E13: монтажных работ | F13: оборудования | G13: прочих затрат | H13: всего | J13: НДС / основание / уровень | K13: =IF('Инструкция'!B4="Базисный","ОК",IF(AND('Инструкция'!B4="Текущий",ISNUMBER('Инструкция'!B7),'Инструкция'!B7>=0,'Инструкция'!B7<=1,'Инструкция'!B9<>"",'Инструкция'!B10="Без освобождений"),"ОК","ПРОВЕРЬТЕ")) -> ПРОВЕРЬТЕ
A14: 1 | B14: 2 | C14: 3 | D14: 4 | E14: 5 | F14: 6 | G14: 7 | H14: 8 | J14: Сумма граф 4–7 минус графа 8 | K14: =ROUND(SUM(D102:G102)-H102,2) -> 0
A15: Глава 1. Подготовка территории строительства | J15: Выделено / отдельно перенесено, руб. | K15: =ROUND(SUM('Исходные'!H2:I61)-SUMIFS('Исходные'!P2:P61,'Исходные'!O2:O61,"<>"),2) -> 0
A16: =IF('Исходные'!A2="","",COUNTIF('Исходные'!$A$2:A2,"<>")) | B16: =IF('Исходные'!A2="","",'Исходные'!A2) | C16: =IF('Исходные'!A2="","",'Исходные'!C2) | D16: =IF('Исходные'!A2="","",ROUND('Исходные'!P2/1000,2)) | E16: =IF('Исходные'!A2="","",ROUND('Исходные'!Q2/1000,2)) | F16: =IF('Исходные'!A2="","",ROUND('Исходные'!R2/1000,2)) | G16: =IF('Исходные'!A2="","",ROUND('Исходные'!S2/1000,2)) | H16: =IF(B16="","",SUM(D16:G16)) | J16: Резерв: ссылка на п. 179 | K16: 42/пр, п. 3 изменений
A17: =IF('Исходные'!A3="","",COUNTIF('Исходные'!$A$2:A3,"<>")) | B17: =IF('Исходные'!A3="","",'Исходные'!A3) | C17: =IF('Исходные'!A3="","",'Исходные'!C3) | D17: =IF('Исходные'!A3="","",ROUND('Исходные'!P3/1000,2)) | E17: =IF('Исходные'!A3="","",ROUND('Исходные'!Q3/1000,2)) | F17: =IF('Исходные'!A3="","",ROUND('Исходные'!R3/1000,2)) | G17: =IF('Исходные'!A3="","",ROUND('Исходные'!S3/1000,2)) | H17: =IF(B17="","",SUM(D17:G17)) | J17: Ставка НДС: ссылка | K17: ФНС: Налоги 2026
A18: =IF('Исходные'!A4="","",COUNTIF('Исходные'!$A$2:A4,"<>")) | B18: =IF('Исходные'!A4="","",'Исходные'!A4) | C18: =IF('Исходные'!A4="","",'Исходные'!C4) | D18: =IF('Исходные'!A4="","",ROUND('Исходные'!P4/1000,2)) | E18: =IF('Исходные'!A4="","",ROUND('Исходные'!Q4/1000,2)) | F18: =IF('Исходные'!A4="","",ROUND('Исходные'!R4/1000,2)) | G18: =IF('Исходные'!A4="","",ROUND('Исходные'!S4/1000,2)) | H18: =IF(B18="","",SUM(D18:G18))
A19: =IF('Исходные'!A5="","",COUNTIF('Исходные'!$A$2:A5,"<>")) | B19: =IF('Исходные'!A5="","",'Исходные'!A5) | C19: =IF('Исходные'!A5="","",'Исходные'!C5) | D19: =IF('Исходные'!A5="","",ROUND('Исходные'!P5/1000,2)) | E19: =IF('Исходные'!A5="","",ROUND('Исходные'!Q5/1000,2)) | F19: =IF('Исходные'!A5="","",ROUND('Исходные'!R5/1000,2)) | G19: =IF('Исходные'!A5="","",ROUND('Исходные'!S5/1000,2)) | H19: =IF(B19="","",SUM(D19:G19))
A20: =IF('Исходные'!A6="","",COUNTIF('Исходные'!$A$2:A6,"<>")) | B20: =IF('Исходные'!A6="","",'Исходные'!A6) | C20: =IF('Исходные'!A6="","",'Исходные'!C6) | D20: =IF('Исходные'!A6="","",ROUND('Исходные'!P6/1000,2)) | E20: =IF('Исходные'!A6="","",ROUND('Исходные'!Q6/1000,2)) | F20: =IF('Исходные'!A6="","",ROUND('Исходные'!R6/1000,2)) | G20: =IF('Исходные'!A6="","",ROUND('Исходные'!S6/1000,2)) | H20: =IF(B20="","",SUM(D20:G20)) | J20: Можно проверять общий итог | K20: =IF(AND(K3>0,SUM(K4:K10)=0,K12="ОК",K13="ОК",K14=0,K15=0),"ОК","ПРОВЕРЬТЕ") -> ПРОВЕРЬТЕ
C21: Итого по главе 1 | D21: =SUM(D16:D20) -> 0 | E21: =SUM(E16:E20) -> 0 | F21: =SUM(F16:F20) -> 0 | G21: =SUM(G16:G20) -> 0 | H21: =SUM(D21:G21) -> 0
A22: Глава 2. Основные объекты строительства, реконструкции, капитального ремонта | J22: Итог заблокирован при незаполненных параметрах или ошибках контрольной панели. «ОК» не является заключением экспертизы.
A23: =IF('Исходные'!A7="","",COUNTIF('Исходные'!$A$2:A7,"<>")) | B23: =IF('Исходные'!A7="","",'Исходные'!A7) | C23: =IF('Исходные'!A7="","",'Исходные'!C7) | D23: =IF('Исходные'!A7="","",ROUND('Исходные'!P7/1000,2)) | E23: =IF('Исходные'!A7="","",ROUND('Исходные'!Q7/1000,2)) | F23: =IF('Исходные'!A7="","",ROUND('Исходные'!R7/1000,2)) | G23: =IF('Исходные'!A7="","",ROUND('Исходные'!S7/1000,2)) | H23: =IF(B23="","",SUM(D23:G23))
A24: =IF('Исходные'!A8="","",COUNTIF('Исходные'!$A$2:A8,"<>")) | B24: =IF('Исходные'!A8="","",'Исходные'!A8) | C24: =IF('Исходные'!A8="","",'Исходные'!C8) | D24: =IF('Исходные'!A8="","",ROUND('Исходные'!P8/1000,2)) | E24: =IF('Исходные'!A8="","",ROUND('Исходные'!Q8/1000,2)) | F24: =IF('Исходные'!A8="","",ROUND('Исходные'!R8/1000,2)) | G24: =IF('Исходные'!A8="","",ROUND('Исходные'!S8/1000,2)) | H24: =IF(B24="","",SUM(D24:G24))
A25: =IF('Исходные'!A9="","",COUNTIF('Исходные'!$A$2:A9,"<>")) | B25: =IF('Исходные'!A9="","",'Исходные'!A9) | C25: =IF('Исходные'!A9="","",'Исходные'!C9) | D25: =IF('Исходные'!A9="","",ROUND('Исходные'!P9/1000,2)) | E25: =IF('Исходные'!A9="","",ROUND('Исходные'!Q9/1000,2)) | F25: =IF('Исходные'!A9="","",ROUND('Исходные'!R9/1000,2)) | G25: =IF('Исходные'!A9="","",ROUND('Исходные'!S9/1000,2)) | H25: =IF(B25="","",SUM(D25:G25))
A26: =IF('Исходные'!A10="","",COUNTIF('Исходные'!$A$2:A10,"<>")) | B26: =IF('Исходные'!A10="","",'Исходные'!A10) | C26: =IF('Исходные'!A10="","",'Исходные'!C10) | D26: =IF('Исходные'!A10="","",ROUND('Исходные'!P10/1000,2)) | E26: =IF('Исходные'!A10="","",ROUND('Исходные'!Q10/1000,2)) | F26: =IF('Исходные'!A10="","",ROUND('Исходные'!R10/1000,2)) | G26: =IF('Исходные'!A10="","",ROUND('Исходные'!S10/1000,2)) | H26: =IF(B26="","",SUM(D26:G26))
A27: =IF('Исходные'!A11="","",COUNTIF('Исходные'!$A$2:A11,"<>")) | B27: =IF('Исходные'!A11="","",'Исходные'!A11) | C27: =IF('Исходные'!A11="","",'Исходные'!C11) | D27: =IF('Исходные'!A11="","",ROUND('Исходные'!P11/1000,2)) | E27: =IF('Исходные'!A11="","",ROUND('Исходные'!Q11/1000,2)) | F27: =IF('Исходные'!A11="","",ROUND('Исходные'!R11/1000,2)) | G27: =IF('Исходные'!A11="","",ROUND('Исходные'!S11/1000,2)) | H27: =IF(B27="","",SUM(D27:G27))
C28: Итого по главе 2 | D28: =SUM(D23:D27) -> 0 | E28: =SUM(E23:E27) -> 0 | F28: =SUM(F23:F27) -> 0 | G28: =SUM(G23:G27) -> 0 | H28: =SUM(D28:G28) -> 0
A29: Глава 3. Объекты подсобного и обслуживающего назначения
A30: =IF('Исходные'!A12="","",COUNTIF('Исходные'!$A$2:A12,"<>")) | B30: =IF('Исходные'!A12="","",'Исходные'!A12) | C30: =IF('Исходные'!A12="","",'Исходные'!C12) | D30: =IF('Исходные'!A12="","",ROUND('Исходные'!P12/1000,2)) | E30: =IF('Исходные'!A12="","",ROUND('Исходные'!Q12/1000,2)) | F30: =IF('Исходные'!A12="","",ROUND('Исходные'!R12/1000,2)) | G30: =IF('Исходные'!A12="","",ROUND('Исходные'!S12/1000,2)) | H30: =IF(B30="","",SUM(D30:G30))
A31: =IF('Исходные'!A13="","",COUNTIF('Исходные'!$A$2:A13,"<>")) | B31: =IF('Исходные'!A13="","",'Исходные'!A13) | C31: =IF('Исходные'!A13="","",'Исходные'!C13) | D31: =IF('Исходные'!A13="","",ROUND('Исходные'!P13/1000,2)) | E31: =IF('Исходные'!A13="","",ROUND('Исходные'!Q13/1000,2)) | F31: =IF('Исходные'!A13="","",ROUND('Исходные'!R13/1000,2)) | G31: =IF('Исходные'!A13="","",ROUND('Исходные'!S13/1000,2)) | H31: =IF(B31="","",SUM(D31:G31))
A32: =IF('Исходные'!A14="","",COUNTIF('Исходные'!$A$2:A14,"<>")) | B32: =IF('Исходные'!A14="","",'Исходные'!A14) | C32: =IF('Исходные'!A14="","",'Исходные'!C14) | D32: =IF('Исходные'!A14="","",ROUND('Исходные'!P14/1000,2)) | E32: =IF('Исходные'!A14="","",ROUND('Исходные'!Q14/1000,2)) | F32: =IF('Исходные'!A14="","",ROUND('Исходные'!R14/1000,2)) | G32: =IF('Исходные'!A14="","",ROUND('Исходные'!S14/1000,2)) | H32: =IF(B32="","",SUM(D32:G32))
A33: =IF('Исходные'!A15="","",COUNTIF('Исходные'!$A$2:A15,"<>")) | B33: =IF('Исходные'!A15="","",'Исходные'!A15) | C33: =IF('Исходные'!A15="","",'Исходные'!C15) | D33: =IF('Исходные'!A15="","",ROUND('Исходные'!P15/1000,2)) | E33: =IF('Исходные'!A15="","",ROUND('Исходные'!Q15/1000,2)) | F33: =IF('Исходные'!A15="","",ROUND('Исходные'!R15/1000,2)) | G33: =IF('Исходные'!A15="","",ROUND('Исходные'!S15/1000,2)) | H33: =IF(B33="","",SUM(D33:G33))
A34: =IF('Исходные'!A16="","",COUNTIF('Исходные'!$A$2:A16,"<>")) | B34: =IF('Исходные'!A16="","",'Исходные'!A16) | C34: =IF('Исходные'!A16="","",'Исходные'!C16) | D34: =IF('Исходные'!A16="","",ROUND('Исходные'!P16/1000,2)) | E34: =IF('Исходные'!A16="","",ROUND('Исходные'!Q16/1000,2)) | F34: =IF('Исходные'!A16="","",ROUND('Исходные'!R16/1000,2)) | G34: =IF('Исходные'!A16="","",ROUND('Исходные'!S16/1000,2)) | H34: =IF(B34="","",SUM(D34:G34))
C35: Итого по главе 3 | D35: =SUM(D30:D34) -> 0 | E35: =SUM(E30:E34) -> 0 | F35: =SUM(F30:F34) -> 0 | G35: =SUM(G30:G34) -> 0 | H35: =SUM(D35:G35) -> 0
A36: Глава 4. Объекты энергетического хозяйства
A37: =IF('Исходные'!A17="","",COUNTIF('Исходные'!$A$2:A17,"<>")) | B37: =IF('Исходные'!A17="","",'Исходные'!A17) | C37: =IF('Исходные'!A17="","",'Исходные'!C17) | D37: =IF('Исходные'!A17="","",ROUND('Исходные'!P17/1000,2)) | E37: =IF('Исходные'!A17="","",ROUND('Исходные'!Q17/1000,2)) | F37: =IF('Исходные'!A17="","",ROUND('Исходные'!R17/1000,2)) | G37: =IF('Исходные'!A17="","",ROUND('Исходные'!S17/1000,2)) | H37: =IF(B37="","",SUM(D37:G37))
A38: =IF('Исходные'!A18="","",COUNTIF('Исходные'!$A$2:A18,"<>")) | B38: =IF('Исходные'!A18="","",'Исходные'!A18) | C38: =IF('Исходные'!A18="","",'Исходные'!C18) | D38: =IF('Исходные'!A18="","",ROUND('Исходные'!P18/1000,2)) | E38: =IF('Исходные'!A18="","",ROUND('Исходные'!Q18/1000,2)) | F38: =IF('Исходные'!A18="","",ROUND('Исходные'!R18/1000,2)) | G38: =IF('Исходные'!A18="","",ROUND('Исходные'!S18/1000,2)) | H38: =IF(B38="","",SUM(D38:G38))
A39: =IF('Исходные'!A19="","",COUNTIF('Исходные'!$A$2:A19,"<>")) | B39: =IF('Исходные'!A19="","",'Исходные'!A19) | C39: =IF('Исходные'!A19="","",'Исходные'!C19) | D39: =IF('Исходные'!A19="","",ROUND('Исходные'!P19/1000,2)) | E39: =IF('Исходные'!A19="","",ROUND('Исходные'!Q19/1000,2)) | F39: =IF('Исходные'!A19="","",ROUND('Исходные'!R19/1000,2)) | G39: =IF('Исходные'!A19="","",ROUND('Исходные'!S19/1000,2)) | H39: =IF(B39="","",SUM(D39:G39))
A40: =IF('Исходные'!A20="","",COUNTIF('Исходные'!$A$2:A20,"<>")) | B40: =IF('Исходные'!A20="","",'Исходные'!A20) | C40: =IF('Исходные'!A20="","",'Исходные'!C20) | D40: =IF('Исходные'!A20="","",ROUND('Исходные'!P20/1000,2)) | E40: =IF('Исходные'!A20="","",ROUND('Исходные'!Q20/1000,2)) | F40: =IF('Исходные'!A20="","",ROUND('Исходные'!R20/1000,2)) | G40: =IF('Исходные'!A20="","",ROUND('Исходные'!S20/1000,2)) | H40: =IF(B40="","",SUM(D40:G40))
A41: =IF('Исходные'!A21="","",COUNTIF('Исходные'!$A$2:A21,"<>")) | B41: =IF('Исходные'!A21="","",'Исходные'!A21) | C41: =IF('Исходные'!A21="","",'Исходные'!C21) | D41: =IF('Исходные'!A21="","",ROUND('Исходные'!P21/1000,2)) | E41: =IF('Исходные'!A21="","",ROUND('Исходные'!Q21/1000,2)) | F41: =IF('Исходные'!A21="","",ROUND('Исходные'!R21/1000,2)) | G41: =IF('Исходные'!A21="","",ROUND('Исходные'!S21/1000,2)) | H41: =IF(B41="","",SUM(D41:G41))
C42: Итого по главе 4 | D42: =SUM(D37:D41) -> 0 | E42: =SUM(E37:E41) -> 0 | F42: =SUM(F37:F41) -> 0 | G42: =SUM(G37:G41) -> 0 | H42: =SUM(D42:G42) -> 0
A43: Глава 5. Объекты транспортного хозяйства и связи
A44: =IF('Исходные'!A22="","",COUNTIF('Исходные'!$A$2:A22,"<>")) | B44: =IF('Исходные'!A22="","",'Исходные'!A22) | C44: =IF('Исходные'!A22="","",'Исходные'!C22) | D44: =IF('Исходные'!A22="","",ROUND('Исходные'!P22/1000,2)) | E44: =IF('Исходные'!A22="","",ROUND('Исходные'!Q22/1000,2)) | F44: =IF('Исходные'!A22="","",ROUND('Исходные'!R22/1000,2)) | G44: =IF('Исходные'!A22="","",ROUND('Исходные'!S22/1000,2)) | H44: =IF(B44="","",SUM(D44:G44))
A45: =IF('Исходные'!A23="","",COUNTIF('Исходные'!$A$2:A23,"<>")) | B45: =IF('Исходные'!A23="","",'Исходные'!A23) | C45: =IF('Исходные'!A23="","",'Исходные'!C23) | D45: =IF('Исходные'!A23="","",ROUND('Исходные'!P23/1000,2)) | E45: =IF('Исходные'!A23="","",ROUND('Исходные'!Q23/1000,2)) | F45: =IF('Исходные'!A23="","",ROUND('Исходные'!R23/1000,2)) | G45: =IF('Исходные'!A23="","",ROUND('Исходные'!S23/1000,2)) | H45: =IF(B45="","",SUM(D45:G45))
A46: =IF('Исходные'!A24="","",COUNTIF('Исходные'!$A$2:A24,"<>")) | B46: =IF('Исходные'!A24="","",'Исходные'!A24) | C46: =IF('Исходные'!A24="","",'Исходные'!C24) | D46: =IF('Исходные'!A24="","",ROUND('Исходные'!P24/1000,2)) | E46: =IF('Исходные'!A24="","",ROUND('Исходные'!Q24/1000,2)) | F46: =IF('Исходные'!A24="","",ROUND('Исходные'!R24/1000,2)) | G46: =IF('Исходные'!A24="","",ROUND('Исходные'!S24/1000,2)) | H46: =IF(B46="","",SUM(D46:G46))
A47: =IF('Исходные'!A25="","",COUNTIF('Исходные'!$A$2:A25,"<>")) | B47: =IF('Исходные'!A25="","",'Исходные'!A25) | C47: =IF('Исходные'!A25="","",'Исходные'!C25) | D47: =IF('Исходные'!A25="","",ROUND('Исходные'!P25/1000,2)) | E47: =IF('Исходные'!A25="","",ROUND('Исходные'!Q25/1000,2)) | F47: =IF('Исходные'!A25="","",ROUND('Исходные'!R25/1000,2)) | G47: =IF('Исходные'!A25="","",ROUND('Исходные'!S25/1000,2)) | H47: =IF(B47="","",SUM(D47:G47))
A48: =IF('Исходные'!A26="","",COUNTIF('Исходные'!$A$2:A26,"<>")) | B48: =IF('Исходные'!A26="","",'Исходные'!A26) | C48: =IF('Исходные'!A26="","",'Исходные'!C26) | D48: =IF('Исходные'!A26="","",ROUND('Исходные'!P26/1000,2)) | E48: =IF('Исходные'!A26="","",ROUND('Исходные'!Q26/1000,2)) | F48: =IF('Исходные'!A26="","",ROUND('Исходные'!R26/1000,2)) | G48: =IF('Исходные'!A26="","",ROUND('Исходные'!S26/1000,2)) | H48: =IF(B48="","",SUM(D48:G48))
C49: Итого по главе 5 | D49: =SUM(D44:D48) -> 0 | E49: =SUM(E44:E48) -> 0 | F49: =SUM(F44:F48) -> 0 | G49: =SUM(G44:G48) -> 0 | H49: =SUM(D49:G49) -> 0
A50: Глава 6. Наружные сети и сооружения водоснабжения, водоотведения, теплоснабжения и газоснабжения
A51: =IF('Исходные'!A27="","",COUNTIF('Исходные'!$A$2:A27,"<>")) | B51: =IF('Исходные'!A27="","",'Исходные'!A27) | C51: =IF('Исходные'!A27="","",'Исходные'!C27) | D51: =IF('Исходные'!A27="","",ROUND('Исходные'!P27/1000,2)) | E51: =IF('Исходные'!A27="","",ROUND('Исходные'!Q27/1000,2)) | F51: =IF('Исходные'!A27="","",ROUND('Исходные'!R27/1000,2)) | G51: =IF('Исходные'!A27="","",ROUND('Исходные'!S27/1000,2)) | H51: =IF(B51="","",SUM(D51:G51))
A52: =IF('Исходные'!A28="","",COUNTIF('Исходные'!$A$2:A28,"<>")) | B52: =IF('Исходные'!A28="","",'Исходные'!A28) | C52: =IF('Исходные'!A28="","",'Исходные'!C28) | D52: =IF('Исходные'!A28="","",ROUND('Исходные'!P28/1000,2)) | E52: =IF('Исходные'!A28="","",ROUND('Исходные'!Q28/1000,2)) | F52: =IF('Исходные'!A28="","",ROUND('Исходные'!R28/1000,2)) | G52: =IF('Исходные'!A28="","",ROUND('Исходные'!S28/1000,2)) | H52: =IF(B52="","",SUM(D52:G52))
A53: =IF('Исходные'!A29="","",COUNTIF('Исходные'!$A$2:A29,"<>")) | B53: =IF('Исходные'!A29="","",'Исходные'!A29) | C53: =IF('Исходные'!A29="","",'Исходные'!C29) | D53: =IF('Исходные'!A29="","",ROUND('Исходные'!P29/1000,2)) | E53: =IF('Исходные'!A29="","",ROUND('Исходные'!Q29/1000,2)) | F53: =IF('Исходные'!A29="","",ROUND('Исходные'!R29/1000,2)) | G53: =IF('Исходные'!A29="","",ROUND('Исходные'!S29/1000,2)) | H53: =IF(B53="","",SUM(D53:G53))
A54: =IF('Исходные'!A30="","",COUNTIF('Исходные'!$A$2:A30,"<>")) | B54: =IF('Исходные'!A30="","",'Исходные'!A30) | C54: =IF('Исходные'!A30="","",'Исходные'!C30) | D54: =IF('Исходные'!A30="","",ROUND('Исходные'!P30/1000,2)) | E54: =IF('Исходные'!A30="","",ROUND('Исходные'!Q30/1000,2)) | F54: =IF('Исходные'!A30="","",ROUND('Исходные'!R30/1000,2)) | G54: =IF('Исходные'!A30="","",ROUND('Исходные'!S30/1000,2)) | H54: =IF(B54="","",SUM(D54:G54))
A55: =IF('Исходные'!A31="","",COUNTIF('Исходные'!$A$2:A31,"<>")) | B55: =IF('Исходные'!A31="","",'Исходные'!A31) | C55: =IF('Исходные'!A31="","",'Исходные'!C31) | D55: =IF('Исходные'!A31="","",ROUND('Исходные'!P31/1000,2)) | E55: =IF('Исходные'!A31="","",ROUND('Исходные'!Q31/1000,2)) | F55: =IF('Исходные'!A31="","",ROUND('Исходные'!R31/1000,2)) | G55: =IF('Исходные'!A31="","",ROUND('Исходные'!S31/1000,2)) | H55: =IF(B55="","",SUM(D55:G55))
C56: Итого по главе 6 | D56: =SUM(D51:D55) -> 0 | E56: =SUM(E51:E55) -> 0 | F56: =SUM(F51:F55) -> 0 | G56: =SUM(G51:G55) -> 0 | H56: =SUM(D56:G56) -> 0
A57: Глава 7. Благоустройство и озеленение территории
A58: =IF('Исходные'!A32="","",COUNTIF('Исходные'!$A$2:A32,"<>")) | B58: =IF('Исходные'!A32="","",'Исходные'!A32) | C58: =IF('Исходные'!A32="","",'Исходные'!C32) | D58: =IF('Исходные'!A32="","",ROUND('Исходные'!P32/1000,2)) | E58: =IF('Исходные'!A32="","",ROUND('Исходные'!Q32/1000,2)) | F58: =IF('Исходные'!A32="","",ROUND('Исходные'!R32/1000,2)) | G58: =IF('Исходные'!A32="","",ROUND('Исходные'!S32/1000,2)) | H58: =IF(B58="","",SUM(D58:G58))
A59: =IF('Исходные'!A33="","",COUNTIF('Исходные'!$A$2:A33,"<>")) | B59: =IF('Исходные'!A33="","",'Исходные'!A33) | C59: =IF('Исходные'!A33="","",'Исходные'!C33) | D59: =IF('Исходные'!A33="","",ROUND('Исходные'!P33/1000,2)) | E59: =IF('Исходные'!A33="","",ROUND('Исходные'!Q33/1000,2)) | F59: =IF('Исходные'!A33="","",ROUND('Исходные'!R33/1000,2)) | G59: =IF('Исходные'!A33="","",ROUND('Исходные'!S33/1000,2)) | H59: =IF(B59="","",SUM(D59:G59))
A60: =IF('Исходные'!A34="","",COUNTIF('Исходные'!$A$2:A34,"<>")) | B60: =IF('Исходные'!A34="","",'Исходные'!A34) | C60: =IF('Исходные'!A34="","",'Исходные'!C34) | D60: =IF('Исходные'!A34="","",ROUND('Исходные'!P34/1000,2)) | E60: =IF('Исходные'!A34="","",ROUND('Исходные'!Q34/1000,2)) | F60: =IF('Исходные'!A34="","",ROUND('Исходные'!R34/1000,2)) | G60: =IF('Исходные'!A34="","",ROUND('Исходные'!S34/1000,2)) | H60: =IF(B60="","",SUM(D60:G60))
A61: =IF('Исходные'!A35="","",COUNTIF('Исходные'!$A$2:A35,"<>")) | B61: =IF('Исходные'!A35="","",'Исходные'!A35) | C61: =IF('Исходные'!A35="","",'Исходные'!C35) | D61: =IF('Исходные'!A35="","",ROUND('Исходные'!P35/1000,2)) | E61: =IF('Исходные'!A35="","",ROUND('Исходные'!Q35/1000,2)) | F61: =IF('Исходные'!A35="","",ROUND('Исходные'!R35/1000,2)) | G61: =IF('Исходные'!A35="","",ROUND('Исходные'!S35/1000,2)) | H61: =IF(B61="","",SUM(D61:G61))
A62: =IF('Исходные'!A36="","",COUNTIF('Исходные'!$A$2:A36,"<>")) | B62: =IF('Исходные'!A36="","",'Исходные'!A36) | C62: =IF('Исходные'!A36="","",'Исходные'!C36) | D62: =IF('Исходные'!A36="","",ROUND('Исходные'!P36/1000,2)) | E62: =IF('Исходные'!A36="","",ROUND('Исходные'!Q36/1000,2)) | F62: =IF('Исходные'!A36="","",ROUND('Исходные'!R36/1000,2)) | G62: =IF('Исходные'!A36="","",ROUND('Исходные'!S36/1000,2)) | H62: =IF(B62="","",SUM(D62:G62))
C63: Итого по главе 7 | D63: =SUM(D58:D62) -> 0 | E63: =SUM(E58:E62) -> 0 | F63: =SUM(F58:F62) -> 0 | G63: =SUM(G58:G62) -> 0 | H63: =SUM(D63:G63) -> 0
C64: Итого по главам 1–7 | D64: =SUM(D21,D28,D35,D42,D49,D56,D63) -> 0 | E64: =SUM(E21,E28,E35,E42,E49,E56,E63) -> 0 | F64: =SUM(F21,F28,F35,F42,F49,F56,F63) -> 0 | G64: =SUM(G21,G28,G35,G42,G49,G56,G63) -> 0 | H64: =SUM(D64:G64) -> 0
A65: Глава 8. Временные здания и сооружения
A66: =IF('Исходные'!A37="","",COUNTIF('Исходные'!$A$2:A37,"<>")) | B66: =IF('Исходные'!A37="","",'Исходные'!A37) | C66: =IF('Исходные'!A37="","",'Исходные'!C37) | D66: =IF('Исходные'!A37="","",ROUND('Исходные'!P37/1000,2)) | E66: =IF('Исходные'!A37="","",ROUND('Исходные'!Q37/1000,2)) | F66: =IF('Исходные'!A37="","",ROUND('Исходные'!R37/1000,2)) | G66: =IF('Исходные'!A37="","",ROUND('Исходные'!S37/1000,2)) | H66: =IF(B66="","",SUM(D66:G66))
A67: =IF('Исходные'!A38="","",COUNTIF('Исходные'!$A$2:A38,"<>")) | B67: =IF('Исходные'!A38="","",'Исходные'!A38) | C67: =IF('Исходные'!A38="","",'Исходные'!C38) | D67: =IF('Исходные'!A38="","",ROUND('Исходные'!P38/1000,2)) | E67: =IF('Исходные'!A38="","",ROUND('Исходные'!Q38/1000,2)) | F67: =IF('Исходные'!A38="","",ROUND('Исходные'!R38/1000,2)) | G67: =IF('Исходные'!A38="","",ROUND('Исходные'!S38/1000,2)) | H67: =IF(B67="","",SUM(D67:G67))
A68: =IF('Исходные'!A39="","",COUNTIF('Исходные'!$A$2:A39,"<>")) | B68: =IF('Исходные'!A39="","",'Исходные'!A39) | C68: =IF('Исходные'!A39="","",'Исходные'!C39) | D68: =IF('Исходные'!A39="","",ROUND('Исходные'!P39/1000,2)) | E68: =IF('Исходные'!A39="","",ROUND('Исходные'!Q39/1000,2)) | F68: =IF('Исходные'!A39="","",ROUND('Исходные'!R39/1000,2)) | G68: =IF('Исходные'!A39="","",ROUND('Исходные'!S39/1000,2)) | H68: =IF(B68="","",SUM(D68:G68))
A69: =IF('Исходные'!A40="","",COUNTIF('Исходные'!$A$2:A40,"<>")) | B69: =IF('Исходные'!A40="","",'Исходные'!A40) | C69: =IF('Исходные'!A40="","",'Исходные'!C40) | D69: =IF('Исходные'!A40="","",ROUND('Исходные'!P40/1000,2)) | E69: =IF('Исходные'!A40="","",ROUND('Исходные'!Q40/1000,2)) | F69: =IF('Исходные'!A40="","",ROUND('Исходные'!R40/1000,2)) | G69: =IF('Исходные'!A40="","",ROUND('Исходные'!S40/1000,2)) | H69: =IF(B69="","",SUM(D69:G69))
A70: =IF('Исходные'!A41="","",COUNTIF('Исходные'!$A$2:A41,"<>")) | B70: =IF('Исходные'!A41="","",'Исходные'!A41) | C70: =IF('Исходные'!A41="","",'Исходные'!C41) | D70: =IF('Исходные'!A41="","",ROUND('Исходные'!P41/1000,2)) | E70: =IF('Исходные'!A41="","",ROUND('Исходные'!Q41/1000,2)) | F70: =IF('Исходные'!A41="","",ROUND('Исходные'!R41/1000,2)) | G70: =IF('Исходные'!A41="","",ROUND('Исходные'!S41/1000,2)) | H70: =IF(B70="","",SUM(D70:G70))
C71: Итого по главе 8 | D71: =SUM(D66:D70) -> 0 | E71: =SUM(E66:E70) -> 0 | F71: =SUM(F66:F70) -> 0 | G71: =SUM(G66:G70) -> 0 | H71: =SUM(D71:G71) -> 0
C72: Итого по главам 1–8 | D72: =SUM(D21,D28,D35,D42,D49,D56,D63,D71) -> 0 | E72: =SUM(E21,E28,E35,E42,E49,E56,E63,E71) -> 0 | F72: =SUM(F21,F28,F35,F42,F49,F56,F63,F71) -> 0 | G72: =SUM(G21,G28,G35,G42,G49,G56,G63,G71) -> 0 | H72: =SUM(D72:G72) -> 0
A73: Глава 9. Прочие работы и затраты
A74: =IF('Исходные'!A42="","",COUNTIF('Исходные'!$A$2:A42,"<>")) | B74: =IF('Исходные'!A42="","",'Исходные'!A42) | C74: =IF('Исходные'!A42="","",'Исходные'!C42) | D74: =IF('Исходные'!A42="","",ROUND('Исходные'!P42/1000,2)) | E74: =IF('Исходные'!A42="","",ROUND('Исходные'!Q42/1000,2)) | F74: =IF('Исходные'!A42="","",ROUND('Исходные'!R42/1000,2)) | G74: =IF('Исходные'!A42="","",ROUND('Исходные'!S42/1000,2)) | H74: =IF(B74="","",SUM(D74:G74))
A75: =IF('Исходные'!A43="","",COUNTIF('Исходные'!$A$2:A43,"<>")) | B75: =IF('Исходные'!A43="","",'Исходные'!A43) | C75: =IF('Исходные'!A43="","",'Исходные'!C43) | D75: =IF('Исходные'!A43="","",ROUND('Исходные'!P43/1000,2)) | E75: =IF('Исходные'!A43="","",ROUND('Исходные'!Q43/1000,2)) | F75: =IF('Исходные'!A43="","",ROUND('Исходные'!R43/1000,2)) | G75: =IF('Исходные'!A43="","",ROUND('Исходные'!S43/1000,2)) | H75: =IF(B75="","",SUM(D75:G75))
A76: =IF('Исходные'!A44="","",COUNTIF('Исходные'!$A$2:A44,"<>")) | B76: =IF('Исходные'!A44="","",'Исходные'!A44) | C76: =IF('Исходные'!A44="","",'Исходные'!C44) | D76: =IF('Исходные'!A44="","",ROUND('Исходные'!P44/1000,2)) | E76: =IF('Исходные'!A44="","",ROUND('Исходные'!Q44/1000,2)) | F76: =IF('Исходные'!A44="","",ROUND('Исходные'!R44/1000,2)) | G76: =IF('Исходные'!A44="","",ROUND('Исходные'!S44/1000,2)) | H76: =IF(B76="","",SUM(D76:G76))
A77: =IF('Исходные'!A45="","",COUNTIF('Исходные'!$A$2:A45,"<>")) | B77: =IF('Исходные'!A45="","",'Исходные'!A45) | C77: =IF('Исходные'!A45="","",'Исходные'!C45) | D77: =IF('Исходные'!A45="","",ROUND('Исходные'!P45/1000,2)) | E77: =IF('Исходные'!A45="","",ROUND('Исходные'!Q45/1000,2)) | F77: =IF('Исходные'!A45="","",ROUND('Исходные'!R45/1000,2)) | G77: =IF('Исходные'!A45="","",ROUND('Исходные'!S45/1000,2)) | H77: =IF(B77="","",SUM(D77:G77))
A78: =IF('Исходные'!A46="","",COUNTIF('Исходные'!$A$2:A46,"<>")) | B78: =IF('Исходные'!A46="","",'Исходные'!A46) | C78: =IF('Исходные'!A46="","",'Исходные'!C46) | D78: =IF('Исходные'!A46="","",ROUND('Исходные'!P46/1000,2)) | E78: =IF('Исходные'!A46="","",ROUND('Исходные'!Q46/1000,2)) | F78: =IF('Исходные'!A46="","",ROUND('Исходные'!R46/1000,2)) | G78: =IF('Исходные'!A46="","",ROUND('Исходные'!S46/1000,2)) | H78: =IF(B78="","",SUM(D78:G78))
C79: Итого по главе 9 | D79: =SUM(D74:D78) -> 0 | E79: =SUM(E74:E78) -> 0 | F79: =SUM(F74:F78) -> 0 | G79: =SUM(G74:G78) -> 0 | H79: =SUM(D79:G79) -> 0
C80: Итого по главам 1–9 | D80: =SUM(D21,D28,D35,D42,D49,D56,D63,D71,D79) -> 0 | E80: =SUM(E21,E28,E35,E42,E49,E56,E63,E71,E79) -> 0 | F80: =SUM(F21,F28,F35,F42,F49,F56,F63,F71,F79) -> 0 | G80: =SUM(G21,G28,G35,G42,G49,G56,G63,G71,G79) -> 0 | H80: =SUM(D80:G80) -> 0
A81: Глава 10. Содержание службы заказчика. Строительный контроль
A82: =IF('Исходные'!A47="","",COUNTIF('Исходные'!$A$2:A47,"<>")) | B82: =IF('Исходные'!A47="","",'Исходные'!A47) | C82: =IF('Исходные'!A47="","",'Исходные'!C47) | D82: =IF('Исходные'!A47="","",ROUND('Исходные'!P47/1000,2)) | E82: =IF('Исходные'!A47="","",ROUND('Исходные'!Q47/1000,2)) | F82: =IF('Исходные'!A47="","",ROUND('Исходные'!R47/1000,2)) | G82: =IF('Исходные'!A47="","",ROUND('Исходные'!S47/1000,2)) | H82: =IF(B82="","",SUM(D82:G82))
A83: =IF('Исходные'!A48="","",COUNTIF('Исходные'!$A$2:A48,"<>")) | B83: =IF('Исходные'!A48="","",'Исходные'!A48) | C83: =IF('Исходные'!A48="","",'Исходные'!C48) | D83: =IF('Исходные'!A48="","",ROUND('Исходные'!P48/1000,2)) | E83: =IF('Исходные'!A48="","",ROUND('Исходные'!Q48/1000,2)) | F83: =IF('Исходные'!A48="","",ROUND('Исходные'!R48/1000,2)) | G83: =IF('Исходные'!A48="","",ROUND('Исходные'!S48/1000,2)) | H83: =IF(B83="","",SUM(D83:G83))
A84: =IF('Исходные'!A49="","",COUNTIF('Исходные'!$A$2:A49,"<>")) | B84: =IF('Исходные'!A49="","",'Исходные'!A49) | C84: =IF('Исходные'!A49="","",'Исходные'!C49) | D84: =IF('Исходные'!A49="","",ROUND('Исходные'!P49/1000,2)) | E84: =IF('Исходные'!A49="","",ROUND('Исходные'!Q49/1000,2)) | F84: =IF('Исходные'!A49="","",ROUND('Исходные'!R49/1000,2)) | G84: =IF('Исходные'!A49="","",ROUND('Исходные'!S49/1000,2)) | H84: =IF(B84="","",SUM(D84:G84))
A85: =IF('Исходные'!A50="","",COUNTIF('Исходные'!$A$2:A50,"<>")) | B85: =IF('Исходные'!A50="","",'Исходные'!A50) | C85: =IF('Исходные'!A50="","",'Исходные'!C50) | D85: =IF('Исходные'!A50="","",ROUND('Исходные'!P50/1000,2)) | E85: =IF('Исходные'!A50="","",ROUND('Исходные'!Q50/1000,2)) | F85: =IF('Исходные'!A50="","",ROUND('Исходные'!R50/1000,2)) | G85: =IF('Исходные'!A50="","",ROUND('Исходные'!S50/1000,2)) | H85: =IF(B85="","",SUM(D85:G85))
A86: =IF('Исходные'!A51="","",COUNTIF('Исходные'!$A$2:A51,"<>")) | B86: =IF('Исходные'!A51="","",'Исходные'!A51) | C86: =IF('Исходные'!A51="","",'Исходные'!C51) | D86: =IF('Исходные'!A51="","",ROUND('Исходные'!P51/1000,2)) | E86: =IF('Исходные'!A51="","",ROUND('Исходные'!Q51/1000,2)) | F86: =IF('Исходные'!A51="","",ROUND('Исходные'!R51/1000,2)) | G86: =IF('Исходные'!A51="","",ROUND('Исходные'!S51/1000,2)) | H86: =IF(B86="","",SUM(D86:G86))
C87: Итого по главе 10 | D87: =SUM(D82:D86) -> 0 | E87: =SUM(E82:E86) -> 0 | F87: =SUM(F82:F86) -> 0 | G87: =SUM(G82:G86) -> 0 | H87: =SUM(D87:G87) -> 0
A88: Глава 11. Подготовка эксплуатационных кадров для строящегося объекта капитального строительства
A89: =IF('Исходные'!A52="","",COUNTIF('Исходные'!$A$2:A52,"<>")) | B89: =IF('Исходные'!A52="","",'Исходные'!A52) | C89: =IF('Исходные'!A52="","",'Исходные'!C52) | D89: =IF('Исходные'!A52="","",ROUND('Исходные'!P52/1000,2)) | E89: =IF('Исходные'!A52="","",ROUND('Исходные'!Q52/1000,2)) | F89: =IF('Исходные'!A52="","",ROUND('Исходные'!R52/1000,2)) | G89: =IF('Исходные'!A52="","",ROUND('Исходные'!S52/1000,2)) | H89: =IF(B89="","",SUM(D89:G89))
A90: =IF('Исходные'!A53="","",COUNTIF('Исходные'!$A$2:A53,"<>")) | B90: =IF('Исходные'!A53="","",'Исходные'!A53) | C90: =IF('Исходные'!A53="","",'Исходные'!C53) | D90: =IF('Исходные'!A53="","",ROUND('Исходные'!P53/1000,2)) | E90: =IF('Исходные'!A53="","",ROUND('Исходные'!Q53/1000,2)) | F90: =IF('Исходные'!A53="","",ROUND('Исходные'!R53/1000,2)) | G90: =IF('Исходные'!A53="","",ROUND('Исходные'!S53/1000,2)) | H90: =IF(B90="","",SUM(D90:G90))
A91: =IF('Исходные'!A54="","",COUNTIF('Исходные'!$A$2:A54,"<>")) | B91: =IF('Исходные'!A54="","",'Исходные'!A54) | C91: =IF('Исходные'!A54="","",'Исходные'!C54) | D91: =IF('Исходные'!A54="","",ROUND('Исходные'!P54/1000,2)) | E91: =IF('Исходные'!A54="","",ROUND('Исходные'!Q54/1000,2)) | F91: =IF('Исходные'!A54="","",ROUND('Исходные'!R54/1000,2)) | G91: =IF('Исходные'!A54="","",ROUND('Исходные'!S54/1000,2)) | H91: =IF(B91="","",SUM(D91:G91))
A92: =IF('Исходные'!A55="","",COUNTIF('Исходные'!$A$2:A55,"<>")) | B92: =IF('Исходные'!A55="","",'Исходные'!A55) | C92: =IF('Исходные'!A55="","",'Исходные'!C55) | D92: =IF('Исходные'!A55="","",ROUND('Исходные'!P55/1000,2)) | E92: =IF('Исходные'!A55="","",ROUND('Исходные'!Q55/1000,2)) | F92: =IF('Исходные'!A55="","",ROUND('Исходные'!R55/1000,2)) | G92: =IF('Исходные'!A55="","",ROUND('Исходные'!S55/1000,2)) | H92: =IF(B92="","",SUM(D92:G92))
A93: =IF('Исходные'!A56="","",COUNTIF('Исходные'!$A$2:A56,"<>")) | B93: =IF('Исходные'!A56="","",'Исходные'!A56) | C93: =IF('Исходные'!A56="","",'Исходные'!C56) | D93: =IF('Исходные'!A56="","",ROUND('Исходные'!P56/1000,2)) | E93: =IF('Исходные'!A56="","",ROUND('Исходные'!Q56/1000,2)) | F93: =IF('Исходные'!A56="","",ROUND('Исходные'!R56/1000,2)) | G93: =IF('Исходные'!A56="","",ROUND('Исходные'!S56/1000,2)) | H93: =IF(B93="","",SUM(D93:G93))
C94: Итого по главе 11 | D94: =SUM(D89:D93) -> 0 | E94: =SUM(E89:E93) -> 0 | F94: =SUM(F89:F93) -> 0 | G94: =SUM(G89:G93) -> 0 | H94: =SUM(D94:G94) -> 0
A95: Глава 12. Публичный технологический и ценовой аудит, подготовка обоснования инвестиций, осуществляемых в инвестиционный проект по созданию объекта капитального строительства, в отношении которого планируется заключение контракта, предметом которого является одновременно выполнение работ по проектированию, строительству и вводу в эксплуатацию объекта капитального строительства, технологический и ценовой аудит обоснования инвестиций, аудит проектной документации, проектные и изыскательские работы
A96: =IF('Исходные'!A57="","",COUNTIF('Исходные'!$A$2:A57,"<>")) | B96: =IF('Исходные'!A57="","",'Исходные'!A57) | C96: =IF('Исходные'!A57="","",'Исходные'!C57) | D96: =IF('Исходные'!A57="","",ROUND('Исходные'!P57/1000,2)) | E96: =IF('Исходные'!A57="","",ROUND('Исходные'!Q57/1000,2)) | F96: =IF('Исходные'!A57="","",ROUND('Исходные'!R57/1000,2)) | G96: =IF('Исходные'!A57="","",ROUND('Исходные'!S57/1000,2)) | H96: =IF(B96="","",SUM(D96:G96))
A97: =IF('Исходные'!A58="","",COUNTIF('Исходные'!$A$2:A58,"<>")) | B97: =IF('Исходные'!A58="","",'Исходные'!A58) | C97: =IF('Исходные'!A58="","",'Исходные'!C58) | D97: =IF('Исходные'!A58="","",ROUND('Исходные'!P58/1000,2)) | E97: =IF('Исходные'!A58="","",ROUND('Исходные'!Q58/1000,2)) | F97: =IF('Исходные'!A58="","",ROUND('Исходные'!R58/1000,2)) | G97: =IF('Исходные'!A58="","",ROUND('Исходные'!S58/1000,2)) | H97: =IF(B97="","",SUM(D97:G97))
A98: =IF('Исходные'!A59="","",COUNTIF('Исходные'!$A$2:A59,"<>")) | B98: =IF('Исходные'!A59="","",'Исходные'!A59) | C98: =IF('Исходные'!A59="","",'Исходные'!C59) | D98: =IF('Исходные'!A59="","",ROUND('Исходные'!P59/1000,2)) | E98: =IF('Исходные'!A59="","",ROUND('Исходные'!Q59/1000,2)) | F98: =IF('Исходные'!A59="","",ROUND('Исходные'!R59/1000,2)) | G98: =IF('Исходные'!A59="","",ROUND('Исходные'!S59/1000,2)) | H98: =IF(B98="","",SUM(D98:G98))
A99: =IF('Исходные'!A60="","",COUNTIF('Исходные'!$A$2:A60,"<>")) | B99: =IF('Исходные'!A60="","",'Исходные'!A60) | C99: =IF('Исходные'!A60="","",'Исходные'!C60) | D99: =IF('Исходные'!A60="","",ROUND('Исходные'!P60/1000,2)) | E99: =IF('Исходные'!A60="","",ROUND('Исходные'!Q60/1000,2)) | F99: =IF('Исходные'!A60="","",ROUND('Исходные'!R60/1000,2)) | G99: =IF('Исходные'!A60="","",ROUND('Исходные'!S60/1000,2)) | H99: =IF(B99="","",SUM(D99:G99))
A100: =IF('Исходные'!A61="","",COUNTIF('Исходные'!$A$2:A61,"<>")) | B100: =IF('Исходные'!A61="","",'Исходные'!A61) | C100: =IF('Исходные'!A61="","",'Исходные'!C61) | D100: =IF('Исходные'!A61="","",ROUND('Исходные'!P61/1000,2)) | E100: =IF('Исходные'!A61="","",ROUND('Исходные'!Q61/1000,2)) | F100: =IF('Исходные'!A61="","",ROUND('Исходные'!R61/1000,2)) | G100: =IF('Исходные'!A61="","",ROUND('Исходные'!S61/1000,2)) | H100: =IF(B100="","",SUM(D100:G100))
C101: Итого по главе 12 | D101: =SUM(D96:D100) -> 0 | E101: =SUM(E96:E100) -> 0 | F101: =SUM(F96:F100) -> 0 | G101: =SUM(G96:G100) -> 0 | H101: =SUM(D101:G101) -> 0
...
