Workbook

Sheet Инструкция
A1: Бланк ССР: инструкция и параметры
A2: Жёлтые ячейки / синий текст — ввод. Чёрный текст — формулы; зелёный — связь с другим листом. Суммы условные, не цены реального проекта.
A4: Уровень цен
A5: Период цен (одинаковый во всех документах)
A6: Принятый резерв, доля
A7: Применимая ставка НДС, доля
A8: Основание размера и согласования резерва
A9: Основание налоговой базы и ставки
A10: Налоговое условие
A11: Категория объекта
A12: Предельный размер резерва по категории | B12: =IF(B11="Непроизводственный",0.02,IF(B11="Производственный/линейный",0.03,IF(B11="Статья 48.1 ГрК РФ",0.1,0))) -> 0
A14: 1. Заполните реквизиты на листе «ССР» и параметры выше; ставка и основание — обязательные отдельные поля, пустое поле не означает освобождение.
A15: 2. На листе «Исходные» для каждой главы предусмотрено пять строк. Введите ID документа, описание, суммы в рублях, уровень, период, основание и налоговое условие. Глава закреплена по месту строки.
A16: 3. Образец строки для ввода (не включён в бланк): РЗ-01 | глава 1 | Подготовка территории | строительные работы 100000 руб. | Текущий | согласованный период | учебный расчёт | Без освобождений.
A17: 4. H/I — только суммы временных зданий / зимних затрат, уже учтённые в строительной части исходного ОСР. Они вычитаются при переносе. В отдельных строках глав 8/9 укажите ID исходной ОСР в графе O.
A18: 5. Для иных выделяемых затрат п. 134, других стоимостных граф или иной структуры переноса макет нужно адаптировать с явным регистром. Не помещайте их в поля H/I.
A19: 6. В примере исходная ОСР содержит строительные работы 4100000 руб., включая 60000 / 40000 руб.; главы 8/9 связываются с ОСР-02-01. Все девять исходных документов и их суммы учебные.
A20: 7. Если требуется больше пяти строк в главе, добавьте строки и расширьте формулы / контроли осознанно. Для изменения структуры снимите защиту без пароля. В примере пустые строки и главы 3–5, 11 скрыты: отобразите их перед добавлением затрат.
A21: 8. Графы 4–7 ССР: ROUND(переносимая сумма в рублях / 1000, 2). Графа 8 — сумма показанных граф 4–7. Итоги 1–7, 1–8, 1–9, 1–12 суммируют только итоги глав.
A22: 9. Резерв считается по графам от итога глав 1–12. Пределы 2/3/10% по п. 179 не назначаются автоматически: нужен принятый размер, решение заказчика и предусмотренное согласование.
A23: 10. Автоматический НДС рассчитан только для текущего уровня с подтверждённой единой ставкой и без освобождений. При освобождениях / разных основаниях нужен отдельный регистр налоговой базы; итог в этом макете блокируется. В базисном ССР НДС не приводится.
A24: 11. Контрольная панель справа от формы не входит в печатную область. «ОК» — проверка формул и введённых полей; это не подтверждение юридической применимости и не заключение экспертизы.
A25: 12. Сметы должны согласовываться по периоду и уровню цен. НР/СП учтены в исходных итогах; резерв/НДС исходных документов повторно не переносят. Суммы источника / корректировки сохраняйте для проверки округления.
... A34: НДС: основная ставка с 2026 — ФНС

Sheet Исходные
A1: ID документа | B1: Глава | C1: Наименование / описание | D1: Строительные работы, руб. | E1: Монтажные работы, руб. | F1: Оборудование, руб. | G1: Прочие затраты, руб. | H1: Из строительных: временные здания, руб. | I1: Из строительных: зимние затраты, руб. | J1: Единица исходных сумм | K1: Уровень цен | L1: Период цен | M1: Документ / основание | N1: Налоговое условие | O1: ID ОСР, из которой выделены затраты | P1: Перенос: строительство, руб. | Q1: Перенос: монтаж, руб. | R1: Перенос: оборудование, руб. | S1: Перенос: прочие, руб. | T1: Перенос: всего, руб. | U1: Контроль ID | V1: Контроль единиц | W1: Контроль цен | X1: Контроль налога | Y1: Контроль п. 134 | Z1: Контроль связи с ОСР | AA1: Контроль основания
B2: 1 | P2: =IF(A2="","",D2-H2-I2) | Q2: =IF(A2="","",E2) | R2: =IF(A2="","",F2) | S2: =IF(A2="","",G2) | T2: =IF(A2="","",SUM(P2:S2)) | U2: =IF(A2="","",IF(COUNTIF($A$2:$A$61,A2)=1,"ОК","ДУБЛЬ")) | V2: =IF(A2="","",IF(J2="руб.","ОК","ПРОВЕРЬТЕ")) | W2: =IF(A2="","",IF(AND(K2='Инструкция'!$B$4,L2='Инструкция'!$B$5,L2<>""),"ОК","ПРОВЕРЬТЕ")) | X2: =IF(A2="","",IF(OR('Инструкция'!$B$4="Базисный",AND(N2="Без освобождений",'Инструкция'!$B$10="Без освобождений")),"ОК","ПРОВЕРЬТЕ")) | Y2: =IF(A2="","",IF(AND(H2>=0,I2>=0,D2>=SUM(H2:I2),OR(SUM(H2:I2)=0,B2=2),ABS(H2-SUMIFS($P$2:$P$61,$O$2:$O$61,A2,$B$2:$B$61,8))<0.005,ABS(I2-SUMIFS($P$2:$P$61,$O$2:$O$61,A2,$B$2:$B$61,9))<0.005),"ОК","ПРОВЕРЬТЕ")) | Z2: =IF(A2="","",IF(O2="","ОК",IF(AND(COUNTIF($A$2:$A$61,O2)=1,OR(B2=8,B2=9)),"ОК","ПРОВЕРЬТЕ"))) | AA2: =IF(A2="","",IF(AND(C2<>"",M2<>"",T2>=0),"ОК","ПРОВЕРЬТЕ"))
B3: 1 | P3: =IF(A3="","",D3-H3-I3) | Q3: =IF(A3="","",E3) | R3: =IF(A3="","",F3) | S3: =IF(A3="","",G3) | T3: =IF(A3="","",SUM(P3:S3)) | U3: =IF(A3="","",IF(COUNTIF($A$2:$A$61,A3)=1,"ОК","ДУБЛЬ")) | V3: =IF(A3="","",IF(J3="руб.","ОК","ПРОВЕРЬТЕ")) | W3: =IF(A3="","",IF(AND(K3='Инструкция'!$B$4,L3='Инструкция'!$B$5,L3<>""),"ОК","ПРОВЕРЬТЕ")) | X3: =IF(A3="","",IF(OR('Инструкция'!$B$4="Базисный",AND(N3="Без освобождений",'Инструкция'!$B$10="Без освобождений")),"ОК","ПРОВЕРЬТЕ")) | Y3: =IF(A3="","",IF(AND(H3>=0,I3>=0,D3>=SUM(H3:I3),OR(SUM(H3:I3)=0,B3=2),ABS(H3-SUMIFS($P$2:$P$61,$O$2:$O$61,A3,$B$2:$B$61,8))<0.005,ABS(I3-SUMIFS($P$2:$P$61,$O$2:$O$61,A3,$B$2:$B$61,9))<0.005),"ОК","ПРОВЕРЬТЕ")) | Z3: =IF(A3="","",IF(O3="","ОК",IF(AND(COUNTIF($A$2:$A$61,O3)=1,OR(B3=8,B3=9)),"ОК","ПРОВЕРЬТЕ"))) | AA3: =IF(A3="","",IF(AND(C3<>"",M3<>"",T3>=0),"ОК","ПРОВЕРЬТЕ"))
B4: 1 | P4: =IF(A4="","",D4-H4-I4) | Q4: =IF(A4="","",E4) | R4: =IF(A4="","",F4) | S4: =IF(A4="","",G4) | T4: =IF(A4="","",SUM(P4:S4)) | U4: =IF(A4="","",IF(COUNTIF($A$2:$A$61,A4)=1,"ОК","ДУБЛЬ")) | V4: =IF(A4="","",IF(J4="руб.","ОК","ПРОВЕРЬТЕ")) | W4: =IF(A4="","",IF(AND(K4='Инструкция'!$B$4,L4='Инструкция'!$B$5,L4<>""),"ОК","ПРОВЕРЬТЕ")) | X4: =IF(A4="","",IF(OR('Инструкция'!$B$4="Базисный",AND(N4="Без освобождений",'Инструкция'!$B$10="Без освобождений")),"ОК","ПРОВЕРЬТЕ")) | Y4: =IF(A4="","",IF(AND(H4>=0,I4>=0,D4>=SUM(H4:I4),OR(SUM(H4:I4)=0,B4=2),ABS(H4-SUMIFS($P$2:$P$61,$O$2:$O$61,A4,$B$2:$B$61,8))<0.005,ABS(I4-SUMIFS($P$2:$P$61,$O$2:$O$61,A4,$B$2:$B$61,9))<0.005),"ОК","ПРОВЕРЬТЕ")) | Z4: =IF(A4="","",IF(O4="","ОК",IF(AND(COUNTIF($A$2:$A$61,O4)=1,OR(B4=8,B4=9)),"ОК","ПРОВЕРЬТЕ"))) | AA4: =IF(A4="","",IF(AND(C4<>"",M4<>"",T4>=0),"ОК","ПРОВЕРЬТЕ"))
B5: 1 | P5: =IF(A5="","",D5-H5-I5) | Q5: =IF(A5="","",E5) | R5: =IF(A5="","",F5) | S5: =IF(A5="","",G5) | T5: =IF(A5="","",SUM(P5:S5)) | U5: =IF(A5="","",IF(COUNTIF($A$2:$A$61,A5)=1,"ОК","ДУБЛЬ")) | V5: =IF(A5="","",IF(J5="руб.","ОК","ПРОВЕРЬТЕ")) | W5: =IF(A5="","",IF(AND(K5='Инструкция'!$B$4,L5='Инструкция'!$B$5,L5<>""),"ОК","ПРОВЕРЬТЕ")) | X5: =IF(A5="","",IF(OR('Инструкция'!$B$4="Базисный",AND(N5="Без освобождений",'Инструкция'!$B$10="Без освобождений")),"ОК","ПРОВЕРЬТЕ")) | Y5: =IF(A5="","",IF(AND(H5>=0,I5>=0,D5>=SUM(H5:I5),OR(SUM(H5:I5)=0,B5=2),ABS(H5-SUMIFS($P$2:$P$61,$O$2:$O$61,A5,$B$2:$B$61,8))<0.005,ABS(I5-SUMIFS($P$2:$P$61,$O$2:$O$61,A5,$B$2:$B$61,9))<0.005),"ОК","ПРОВЕРЬТЕ")) | Z5: =IF(A5="","",IF(O5="","ОК",IF(AND(COUNTIF($A$2:$A$61,O5)=1,OR(B5=8,B5=9)),"ОК","ПРОВЕРЬТЕ"))) | AA5: =IF(A5="","",IF(AND(C5<>"",M5<>"",T5>=0),"ОК","ПРОВЕРЬТЕ"))
B6: 1 | P6: =IF(A6="","",D6-H6-I6) | Q6: =IF(A6="","",E6) | R6: =IF(A6="","",F6) | S6: =IF(A6="","",G6) | T6: =IF(A6="","",SUM(P6:S6)) | U6: =IF(A6="","",IF(COUNTIF($A$2:$A$61,A6)=1,"ОК","ДУБЛЬ")) | V6: =IF(A6="","",IF(J6="руб.","ОК","ПРОВЕРЬТЕ")) | W6: =IF(A6="","",IF(AND(K6='Инструкция'!$B$4,L6='Инструкция'!$B$5,L6<>""),"ОК","ПРОВЕРЬТЕ")) | X6: =IF(A6="","",IF(OR('Инструкция'!$B$4="Базисный",AND(N6="Без освобождений",'Инструкция'!$B$10="Без освобождений")),"ОК","ПРОВЕРЬТЕ")) | Y6: =IF(A6="","",IF(AND(H6>=0,I6>=0,D6>=SUM(H6:I6),OR(SUM(H6:I6)=0,B6=2),ABS(H6-SUMIFS($P$2:$P$61,$O$2:$O$61,A6,$B$2:$B$61,8))<0.005,ABS(I6-SUMIFS($P$2:$P$61,$O$2:$O$61,A6,$B$2:$B$61,9))<0.005),"ОК","ПРОВЕРЬТЕ")) | Z6: =IF(A6="","",IF(O6="","ОК",IF(AND(COUNTIF($A$2:$A$61,O6)=1,OR(B6=8,B6=9)),"ОК","ПРОВЕРЬТЕ"))) | AA6: =IF(A6="","",IF(AND(C6<>"",M6<>"",T6>=0),"ОК","ПРОВЕРЬТЕ"))
B7: 2 | P7: =IF(A7="","",D7-H7-I7) | Q7: =IF(A7="","",E7) | R7: =IF(A7="","",F7) | S7: =IF(A7="","",G7) | T7: =IF(A7="","",SUM(P7:S7)) | U7: =IF(A7="","",IF(COUNTIF($A$2:$A$61,A7)=1,"ОК","ДУБЛЬ")) | V7: =IF(A7="","",IF(J7="руб.","ОК","ПРОВЕРЬТЕ")) | W7: =IF(A7="","",IF(AND(K7='Инструкция'!$B$4,L7='Инструкция'!$B$5,L7<>""),"ОК","ПРОВЕРЬТЕ")) | X7: =IF(A7="","",IF(OR('Инструкция'!$B$4="Базисный",AND(N7="Без освобождений",'Инструкция'!$B$10="Без освобождений")),"ОК","ПРОВЕРЬТЕ")) | Y7: =IF(A7="","",IF(AND(H7>=0,I7>=0,D7>=SUM(H7:I7),OR(SUM(H7:I7)=0,B7=2),ABS(H7-SUMIFS($P$2:$P$61,$O$2:$O$61,A7,$B$2:$B$61,8))<0.005,ABS(I7-SUMIFS($P$2:$P$61,$O$2:$O$61,A7,$B$2:$B$61,9))<0.005),"ОК","ПРОВЕРЬТЕ")) | Z7: =IF(A7="","",IF(O7="","ОК",IF(AND(COUNTIF($A$2:$A$61,O7)=1,OR(B7=8,B7=9)),"ОК","ПРОВЕРЬТЕ"))) | AA7: =IF(A7="","",IF(AND(C7<>"",M7<>"",T7>=0),"ОК","ПРОВЕРЬТЕ"))
B8: 2 | P8: =IF(A8="","",D8-H8-I8) | Q8: =IF(A8="","",E8) | R8: =IF(A8="","",F8) | S8: =IF(A8="","",G8) | T8: =IF(A8="","",SUM(P8:S8)) | U8: =IF(A8="","",IF(COUNTIF($A$2:$A$61,A8)=1,"ОК","ДУБЛЬ")) | V8: =IF(A8="","",IF(J8="руб.","ОК","ПРОВЕРЬТЕ")) | W8: =IF(A8="","",IF(AND(K8='Инструкция'!$B$4,L8='Инструкция'!$B$5,L8<>""),"ОК","ПРОВЕРЬТЕ")) | X8: =IF(A8="","",IF(OR('Инструкция'!$B$4="Базисный",AND(N8="Без освобождений",'Инструкция'!$B$10="Без освобождений")),"ОК","ПРОВЕРЬТЕ")) | Y8: =IF(A8="","",IF(AND(H8>=0,I8>=0,D8>=SUM(H8:I8),OR(SUM(H8:I8)=0,B8=2),ABS(H8-SUMIFS($P$2:$P$61,$O$2:$O$61,A8,$B$2:$B$61,8))<0.005,ABS(I8-SUMIFS($P$2:$P$61,$O$2:$O$61,A8,$B$2:$B$61,9))<0.005),"ОК","ПРОВЕРЬТЕ")) | Z8: =IF(A8="","",IF(O8="","ОК",IF(AND(COUNTIF($A$2:$A$61,O8)=1,OR(B8=8,B8=9)),"ОК","ПРОВЕРЬТЕ"))) | AA8: =IF(A8="","",IF(AND(C8<>"",M8<>"",T8>=0),"ОК","ПРОВЕРЬТЕ"))
B9: 2 | P9: =IF(A9="","",D9-H9-I9) | Q9: =IF(A9="","",E9) | R9: =IF(A9="","",F9) | S9: =IF(A9="","",G9) | T9: =IF(A9="","",SUM(P9:S9)) | U9: =IF(A9="","",IF(COUNTIF($A$2:$A$61,A9)=1,"ОК","ДУБЛЬ")) | V9: =IF(A9="","",IF(J9="руб.","ОК","ПРОВЕРЬТЕ")) | W9: =IF(A9="","",IF(AND(K9='Инструкция'!$B$4,L9='Инструкция'!$B$5,L9<>""),"ОК","ПРОВЕРЬТЕ")) | X9: =IF(A9="","",IF(OR('Инструкция'!$B$4="Базисный",AND(N9="Без освобождений",'Инструкция'!$B$10="Без освобождений")),"ОК","ПРОВЕРЬТЕ")) | Y9: =IF(A9="","",IF(AND(H9>=0,I9>=0,D9>=SUM(H9:I9),OR(SUM(H9:I9)=0,B9=2),ABS(H9-SUMIFS($P$2:$P$61,$O$2:$O$61,A9,$B$2:$B$61,8))<0.005,ABS(I9-SUMIFS($P$2:$P$61,$O$2:$O$61,A9,$B$2:$B$61,9))<0.005),"ОК","ПРОВЕРЬТЕ")) | Z9: =IF(A9="","",IF(O9="","ОК",IF(AND(COUNTIF($A$2:$A$61,O9)=1,OR(B9=8,B9=9)),"ОК","ПРОВЕРЬТЕ"))) | AA9: =IF(A9="","",IF(AND(C9<>"",M9<>"",T9>=0),"ОК","ПРОВЕРЬТЕ"))
B10: 2 | P10: =IF(A10="","",D10-H10-I10) | Q10: =IF(A10="","",E10) | R10: =IF(A10="","",F10) | S10: =IF(A10="","",G10) | T10: =IF(A10="","",SUM(P10:S10)) | U10: =IF(A10="","",IF(COUNTIF($A$2:$A$61,A10)=1,"ОК","ДУБЛЬ")) | V10: =IF(A10="","",IF(J10="руб.","ОК","ПРОВЕРЬТЕ")) | W10: =IF(A10="","",IF(AND(K10='Инструкция'!$B$4,L10='Инструкция'!$B$5,L10<>""),"ОК","ПРОВЕРЬТЕ")) | X10: =IF(A10="","",IF(OR('Инструкция'!$B$4="Базисный",AND(N10="Без освобождений",'Инструкция'!$B$10="Без освобождений")),"ОК","ПРОВЕРЬТЕ")) | Y10: =IF(A10="","",IF(AND(H10>=0,I10>=0,D10>=SUM(H10:I10),OR(SUM(H10:I10)=0,B10=2),ABS(H10-SUMIFS($P$2:$P$61,$O$2:$O$61,A10,$B$2:$B$61,8))<0.005,ABS(I10-SUMIFS($P$2:$P$61,$O$2:$O$61,A10,$B$2:$B$61,9))<0.005),"ОК","ПРОВЕРЬТЕ")) | Z10: =IF(A10="","",IF(O10="","ОК",IF(AND(COUNTIF($A$2:$A$61,O10)=1,OR(B10=8,B10=9)),"ОК","ПРОВЕРЬТЕ"))) | AA10: =IF(A10="","",IF(AND(C10<>"",M10<>"",T10>=0),"ОК","ПРОВЕРЬТЕ"))
B11: 2 | P11: =IF(A11="","",D11-H11-I11) | Q11: =IF(A11="","",E11) | R11: =IF(A11="","",F11) | S11: =IF(A11="","",G11) | T11: =IF(A11="","",SUM(P11:S11)) | U11: =IF(A11="","",IF(COUNTIF($A$2:$A$61,A11)=1,"ОК","ДУБЛЬ")) | V11: =IF(A11="","",IF(J11="руб.","ОК","ПРОВЕРЬТЕ")) | W11: =IF(A11="","",IF(AND(K11='Инструкция'!$B$4,L11='Инструкция'!$B$5,L11<>""),"ОК","ПРОВЕРЬТЕ")) | X11: =IF(A11="","",IF(OR('Инструкция'!$B$4="Базисный",AND(N11="Без освобождений",'Инструкция'!$B$10="Без освобождений")),"ОК","ПРОВЕРЬТЕ")) | Y11: =IF(A11="","",IF(AND(H11>=0,I11>=0,D11>=SUM(H11:I11),OR(SUM(H11:I11)=0,B11=2),ABS(H11-SUMIFS($P$2:$P$61,$O$2:$O$61,A11,$B$2:$B$61,8))<0.005,ABS(I11-SUMIFS($P$2:$P$61,$O$2:$O$61,A11,$B$2:$B$61,9))<0.005),"ОК","ПРОВЕРЬТЕ")) | Z11: =IF(A11="","",IF(O11="","ОК",IF(AND(COUNTIF($A$2:$A$61,O11)=1,OR(B11=8,B11=9)),"ОК","ПРОВЕРЬТЕ"))) | AA11: =IF(A11="","",IF(AND(C11<>"",M11<>"",T11>=0),"ОК","ПРОВЕРЬТЕ"))
B12: 3 | P12: =IF(A12="","",D12-H12-I12) | Q12: =IF(A12="","",E12) | R12: =IF(A12="","",F12) | S12: =IF(A12="","",G12) | T12: =IF(A12="","",SUM(P12:S12)) | U12: =IF(A12="","",IF(COUNTIF($A$2:$A$61,A12)=1,"ОК","ДУБЛЬ")) | V12: =IF(A12="","",IF(J12="руб.","ОК","ПРОВЕРЬТЕ")) | W12: =IF(A12="","",IF(AND(K12='Инструкция'!$B$4,L12='Инструкция'!$B$5,L12<>""),"ОК","ПРОВЕРЬТЕ")) | X12: =IF(A12="","",IF(OR('Инструкция'!$B$4="Базисный",AND(N12="Без освобождений",'Инструкция'!$B$10="Без освобождений")),"ОК","ПРОВЕРЬТЕ")) | Y12: =IF(A12="","",IF(AND(H12>=0,I12>=0,D12>=SUM(H12:I12),OR(SUM(H12:I12)=0,B12=2),ABS(H12-SUMIFS($P$2:$P$61,$O$2:$O$61,A12,$B$2:$B$61,8))<0.005,ABS(I12-SUMIFS($P$2:$P$61,$O$2:$O$61,A12,$B$2:$B$61,9))<0.005),"ОК","ПРОВЕРЬТЕ")) | Z12: =IF(A12="","",IF(O12="","ОК",IF(AND(COUNTIF($A$2:$A$61,O12)=1,OR(B12=8,B12=9)),"ОК","ПРОВЕРЬТЕ"))) | AA12: =IF(A12="","",IF(AND(C12<>"",M12<>"",T12>=0),"ОК","ПРОВЕРЬТЕ"))
B13: 3 | P13: =IF(A13="","",D13-H13-I13) | Q13: =IF(A13="","",E13) | R13: =IF(A13="","",F13) | S13: =IF(A13="","",G13) | T13: =IF(A13="","",SUM(P13:S13)) | U13: =IF(A13="","",IF(COUNTIF($A$2:$A$61,A13)=1,"ОК","ДУБЛЬ")) | V13: =IF(A13="","",IF(J13="руб.","ОК","ПРОВЕРЬТЕ")) | W13: =IF(A13="","",IF(AND(K13='Инструкция'!$B$4,L13='Инструкция'!$B$5,L13<>""),"ОК","ПРОВЕРЬТЕ")) | X13: =IF(A13="","",IF(OR('Инструкция'!$B$4="Базисный",AND(N13="Без освобождений",'Инструкция'!$B$10="Без освобождений")),"ОК","ПРОВЕРЬТЕ")) | Y13: =IF(A13="","",IF(AND(H13>=0,I13>=0,D13>=SUM(H13:I13),OR(SUM(H13:I13)=0,B13=2),ABS(H13-SUMIFS($P$2:$P$61,$O$2:$O$61,A13,$B$2:$B$61,8))<0.005,ABS(I13-SUMIFS($P$2:$P$61,$O$2:$O$61,A13,$B$2:$B$61,9))<0.005),"ОК","ПРОВЕРЬТЕ")) | Z13: =IF(A13="","",IF(O13="","ОК",IF(AND(COUNTIF($A$2:$A$61,O13)=1,OR(B13=8,B13=9)),"ОК","ПРОВЕРЬТЕ"))) | AA13: =IF(A13="","",IF(AND(C13<>"",M13<>"",T13>=0),"ОК","ПРОВЕРЬТЕ"))
... B61: 12 | P61: =IF(A61="","",D61-H61-I61) | Q61: =IF(A61="","",E61) | R61: =IF(A61="","",F61) | S61: =IF(A61="","",G61) | T61: =IF(A61="","",SUM(P61:S61)) | U61: =IF(A61="","",IF(COUNTIF($A$2:$A$61,A61)=1,"ОК","ДУБЛЬ")) | V61: =IF(A61="","",IF(J61="руб.","ОК","ПРОВЕРЬТЕ")) | W61: =IF(A61="","",IF(AND(K61='Инструкция'!$B$4,L61='Инструкция'!$B$5,L61<>""),"ОК","ПРОВЕРЬТЕ")) | X61: =IF(A61="","",IF(OR('Инструкция'!$B$4="Базисный",AND(N61="Без освобождений",'Инструкция'!$B$10="Без освобождений")),"ОК","ПРОВЕРЬТЕ")) | Y61: =IF(A61="","",IF(AND(H61>=0,I61>=0,D61>=SUM(H61:I61),OR(SUM(H61:I61)=0,B61=2),ABS(H61-SUMIFS($P$2:$P$61,$O$2:$O$61,A61,$B$2:$B$61,8))<0.005,ABS(I61-SUMIFS($P$2:$P$61,$O$2:$O$61,A61,$B$2:$B$61,9))<0.005),"ОК","ПРОВЕРЬТЕ")) | Z61: =IF(A61="","",IF(O61="","ОК",IF(AND(COUNTIF($A$2:$A$61,O61)=1,OR(B61=8,B61=9)),"ОК","ПРОВЕРЬТЕ"))) | AA61: =IF(A61="","",IF(AND(C61<>"",M61<>"",T61>=0),"ОК","ПРОВЕРЬТЕ"))

Sheet ССР
A1: Приложение № 6 к Методике № 421/пр (рекомендуемый образец) | J1: Контрольная панель — вне печатной области
A2: Бланк — заполните исходные документы и параметры
A3: Заказчик | J3: Строк с исходными документами | K3: =COUNTIF('Исходные'!A2:A61,"<>") -> 0
A4: Утверждён | J4: Дубли ID | K4: =COUNTIF('Исходные'!U2:U61,"ДУБЛЬ") -> 0
A5: Сметная стоимость, тыс. руб. | D5: =IF(H106="","",H106) | J5: Ошибки единиц | K5: =COUNTIF('Исходные'!V2:V61,"ПРОВЕРЬТЕ") -> 0
J6: Смешение уровней / периодов | K6: =COUNTIF('Исходные'!W2:W61,"ПРОВЕРЬТЕ") -> 0
A7: СВОДНЫЙ СМЕТНЫЙ РАСЧЁТ СТОИМОСТИ СТРОИТЕЛЬСТВА | J7: Налоговые условия требуют регистра | K7: =COUNTIF('Исходные'!X2:X61,"ПРОВЕРЬТЕ") -> 0
A8: № ССРСС- | J8: Несогласованные выделения п. 134 | K8: =COUNTIF('Исходные'!Y2:Y61,"ПРОВЕРЬТЕ") -> 0
A9: Наименование стройки | J9: Ошибки связи с исходной ОСР | K9: =COUNTIF('Исходные'!Z2:Z61,"ПРОВЕРЬТЕ") -> 0
A10: Уровень цен | C10: ='Инструкция'!B4 | E10: Период цен | G10: ='Инструкция'!B5 | J10: Нет описания / основания, отрицательный перенос | K10: =COUNTIF('Исходные'!AA2:AA61,"ПРОВЕРЬТЕ") -> 0
A12: № п/п | B12: Обоснование | C12: Наименование глав, объектов капитального строительства, работ и затрат | D12: Сметная стоимость, тыс. руб. | J12: Резерв / предел / основание | K12: =IF(AND(ISNUMBER('Инструкция'!B6),'Инструкция'!B6>=0,'Инструкция'!B6<='Инструкция'!B12,'Инструкция'!B11<>"",'Инструкция'!B8<>""),"ОК","ПРОВЕРЬТЕ") -> ПРОВЕРЬТЕ
D13: строительных (ремонтно-строительных, ремонтно-реставрационных) работ | E13: монтажных работ | F13: оборудования | G13: прочих затрат | H13: всего | J13: НДС / основание / уровень | K13: =IF('Инструкция'!B4="Базисный","ОК",IF(AND('Инструкция'!B4="Текущий",ISNUMBER('Инструкция'!B7),'Инструкция'!B7>=0,'Инструкция'!B7<=1,'Инструкция'!B9<>"",'Инструкция'!B10="Без освобождений"),"ОК","ПРОВЕРЬТЕ")) -> ПРОВЕРЬТЕ
A14: 1 | B14: 2 | C14: 3 | D14: 4 | E14: 5 | F14: 6 | G14: 7 | H14: 8 | J14: Сумма граф 4–7 минус графа 8 | K14: =ROUND(SUM(D102:G102)-H102,2) -> 0
A15: Глава 1. Подготовка территории строительства | J15: Выделено / отдельно перенесено, руб. | K15: =ROUND(SUM('Исходные'!H2:I61)-SUMIFS('Исходные'!P2:P61,'Исходные'!O2:O61,"<>"),2) -> 0
A16: =IF('Исходные'!A2="","",COUNTIF('Исходные'!$A$2:A2,"<>")) | B16: =IF('Исходные'!A2="","",'Исходные'!A2) | C16: =IF('Исходные'!A2="","",'Исходные'!C2) | D16: =IF('Исходные'!A2="","",ROUND('Исходные'!P2/1000,2)) | E16: =IF('Исходные'!A2="","",ROUND('Исходные'!Q2/1000,2)) | F16: =IF('Исходные'!A2="","",ROUND('Исходные'!R2/1000,2)) | G16: =IF('Исходные'!A2="","",ROUND('Исходные'!S2/1000,2)) | H16: =IF(B16="","",SUM(D16:G16)) | J16: Резерв: ссылка на п. 179 | K16: 42/пр, п. 3 изменений
A17: =IF('Исходные'!A3="","",COUNTIF('Исходные'!$A$2:A3,"<>")) | B17: =IF('Исходные'!A3="","",'Исходные'!A3) | C17: =IF('Исходные'!A3="","",'Исходные'!C3) | D17: =IF('Исходные'!A3="","",ROUND('Исходные'!P3/1000,2)) | E17: =IF('Исходные'!A3="","",ROUND('Исходные'!Q3/1000,2)) | F17: =IF('Исходные'!A3="","",ROUND('Исходные'!R3/1000,2)) | G17: =IF('Исходные'!A3="","",ROUND('Исходные'!S3/1000,2)) | H17: =IF(B17="","",SUM(D17:G17)) | J17: Ставка НДС: ссылка | K17: ФНС: Налоги 2026
A18: =IF('Исходные'!A4="","",COUNTIF('Исходные'!$A$2:A4,"<>")) | B18: =IF('Исходные'!A4="","",'Исходные'!A4) | C18: =IF('Исходные'!A4="","",'Исходные'!C4) | D18: =IF('Исходные'!A4="","",ROUND('Исходные'!P4/1000,2)) | E18: =IF('Исходные'!A4="","",ROUND('Исходные'!Q4/1000,2)) | F18: =IF('Исходные'!A4="","",ROUND('Исходные'!R4/1000,2)) | G18: =IF('Исходные'!A4="","",ROUND('Исходные'!S4/1000,2)) | H18: =IF(B18="","",SUM(D18:G18))
A19: =IF('Исходные'!A5="","",COUNTIF('Исходные'!$A$2:A5,"<>")) | B19: =IF('Исходные'!A5="","",'Исходные'!A5) | C19: =IF('Исходные'!A5="","",'Исходные'!C5) | D19: =IF('Исходные'!A5="","",ROUND('Исходные'!P5/1000,2)) | E19: =IF('Исходные'!A5="","",ROUND('Исходные'!Q5/1000,2)) | F19: =IF('Исходные'!A5="","",ROUND('Исходные'!R5/1000,2)) | G19: =IF('Исходные'!A5="","",ROUND('Исходные'!S5/1000,2)) | H19: =IF(B19="","",SUM(D19:G19))
A20: =IF('Исходные'!A6="","",COUNTIF('Исходные'!$A$2:A6,"<>")) | B20: =IF('Исходные'!A6="","",'Исходные'!A6) | C20: =IF('Исходные'!A6="","",'Исходные'!C6) | D20: =IF('Исходные'!A6="","",ROUND('Исходные'!P6/1000,2)) | E20: =IF('Исходные'!A6="","",ROUND('Исходные'!Q6/1000,2)) | F20: =IF('Исходные'!A6="","",ROUND('Исходные'!R6/1000,2)) | G20: =IF('Исходные'!A6="","",ROUND('Исходные'!S6/1000,2)) | H20: =IF(B20="","",SUM(D20:G20)) | J20: Можно проверять общий итог | K20: =IF(AND(K3>0,SUM(K4:K10)=0,K12="ОК",K13="ОК",K14=0,K15=0),"ОК","ПРОВЕРЬТЕ") -> ПРОВЕРЬТЕ
C21: Итого по главе 1 | D21: =SUM(D16:D20) -> 0 | E21: =SUM(E16:E20) -> 0 | F21: =SUM(F16:F20) -> 0 | G21: =SUM(G16:G20) -> 0 | H21: =SUM(D21:G21) -> 0
A22: Глава 2. Основные объекты строительства, реконструкции, капитального ремонта | J22: Итог заблокирован при незаполненных параметрах или ошибках контрольной панели. «ОК» не является заключением экспертизы.
A23: =IF('Исходные'!A7="","",COUNTIF('Исходные'!$A$2:A7,"<>")) | B23: =IF('Исходные'!A7="","",'Исходные'!A7) | C23: =IF('Исходные'!A7="","",'Исходные'!C7) | D23: =IF('Исходные'!A7="","",ROUND('Исходные'!P7/1000,2)) | E23: =IF('Исходные'!A7="","",ROUND('Исходные'!Q7/1000,2)) | F23: =IF('Исходные'!A7="","",ROUND('Исходные'!R7/1000,2)) | G23: =IF('Исходные'!A7="","",ROUND('Исходные'!S7/1000,2)) | H23: =IF(B23="","",SUM(D23:G23))
A24: =IF('Исходные'!A8="","",COUNTIF('Исходные'!$A$2:A8,"<>")) | B24: =IF('Исходные'!A8="","",'Исходные'!A8) | C24: =IF('Исходные'!A8="","",'Исходные'!C8) | D24: =IF('Исходные'!A8="","",ROUND('Исходные'!P8/1000,2)) | E24: =IF('Исходные'!A8="","",ROUND('Исходные'!Q8/1000,2)) | F24: =IF('Исходные'!A8="","",ROUND('Исходные'!R8/1000,2)) | G24: =IF('Исходные'!A8="","",ROUND('Исходные'!S8/1000,2)) | H24: =IF(B24="","",SUM(D24:G24))
A25: =IF('Исходные'!A9="","",COUNTIF('Исходные'!$A$2:A9,"<>")) | B25: =IF('Исходные'!A9="","",'Исходные'!A9) | C25: =IF('Исходные'!A9="","",'Исходные'!C9) | D25: =IF('Исходные'!A9="","",ROUND('Исходные'!P9/1000,2)) | E25: =IF('Исходные'!A9="","",ROUND('Исходные'!Q9/1000,2)) | F25: =IF('Исходные'!A9="","",ROUND('Исходные'!R9/1000,2)) | G25: =IF('Исходные'!A9="","",ROUND('Исходные'!S9/1000,2)) | H25: =IF(B25="","",SUM(D25:G25))
A26: =IF('Исходные'!A10="","",COUNTIF('Исходные'!$A$2:A10,"<>")) | B26: =IF('Исходные'!A10="","",'Исходные'!A10) | C26: =IF('Исходные'!A10="","",'Исходные'!C10) | D26: =IF('Исходные'!A10="","",ROUND('Исходные'!P10/1000,2)) | E26: =IF('Исходные'!A10="","",ROUND('Исходные'!Q10/1000,2)) | F26: =IF('Исходные'!A10="","",ROUND('Исходные'!R10/1000,2)) | G26: =IF('Исходные'!A10="","",ROUND('Исходные'!S10/1000,2)) | H26: =IF(B26="","",SUM(D26:G26))
A27: =IF('Исходные'!A11="","",COUNTIF('Исходные'!$A$2:A11,"<>")) | B27: =IF('Исходные'!A11="","",'Исходные'!A11) | C27: =IF('Исходные'!A11="","",'Исходные'!C11) | D27: =IF('Исходные'!A11="","",ROUND('Исходные'!P11/1000,2)) | E27: =IF('Исходные'!A11="","",ROUND('Исходные'!Q11/1000,2)) | F27: =IF('Исходные'!A11="","",ROUND('Исходные'!R11/1000,2)) | G27: =IF('Исходные'!A11="","",ROUND('Исходные'!S11/1000,2)) | H27: =IF(B27="","",SUM(D27:G27))
C28: Итого по главе 2 | D28: =SUM(D23:D27) -> 0 | E28: =SUM(E23:E27) -> 0 | F28: =SUM(F23:F27) -> 0 | G28: =SUM(G23:G27) -> 0 | H28: =SUM(D28:G28) -> 0
A29: Глава 3. Объекты подсобного и обслуживающего назначения
A30: =IF('Исходные'!A12="","",COUNTIF('Исходные'!$A$2:A12,"<>")) | B30: =IF('Исходные'!A12="","",'Исходные'!A12) | C30: =IF('Исходные'!A12="","",'Исходные'!C12) | D30: =IF('Исходные'!A12="","",ROUND('Исходные'!P12/1000,2)) | E30: =IF('Исходные'!A12="","",ROUND('Исходные'!Q12/1000,2)) | F30: =IF('Исходные'!A12="","",ROUND('Исходные'!R12/1000,2)) | G30: =IF('Исходные'!A12="","",ROUND('Исходные'!S12/1000,2)) | H30: =IF(B30="","",SUM(D30:G30))
A31: =IF('Исходные'!A13="","",COUNTIF('Исходные'!$A$2:A13,"<>")) | B31: =IF('Исходные'!A13="","",'Исходные'!A13) | C31: =IF('Исходные'!A13="","",'Исходные'!C13) | D31: =IF('Исходные'!A13="","",ROUND('Исходные'!P13/1000,2)) | E31: =IF('Исходные'!A13="","",ROUND('Исходные'!Q13/1000,2)) | F31: =IF('Исходные'!A13="","",ROUND('Исходные'!R13/1000,2)) | G31: =IF('Исходные'!A13="","",ROUND('Исходные'!S13/1000,2)) | H31: =IF(B31="","",SUM(D31:G31))
A32: =IF('Исходные'!A14="","",COUNTIF('Исходные'!$A$2:A14,"<>")) | B32: =IF('Исходные'!A14="","",'Исходные'!A14) | C32: =IF('Исходные'!A14="","",'Исходные'!C14) | D32: =IF('Исходные'!A14="","",ROUND('Исходные'!P14/1000,2)) | E32: =IF('Исходные'!A14="","",ROUND('Исходные'!Q14/1000,2)) | F32: =IF('Исходные'!A14="","",ROUND('Исходные'!R14/1000,2)) | G32: =IF('Исходные'!A14="","",ROUND('Исходные'!S14/1000,2)) | H32: =IF(B32="","",SUM(D32:G32))
A33: =IF('Исходные'!A15="","",COUNTIF('Исходные'!$A$2:A15,"<>")) | B33: =IF('Исходные'!A15="","",'Исходные'!A15) | C33: =IF('Исходные'!A15="","",'Исходные'!C15) | D33: =IF('Исходные'!A15="","",ROUND('Исходные'!P15/1000,2)) | E33: =IF('Исходные'!A15="","",ROUND('Исходные'!Q15/1000,2)) | F33: =IF('Исходные'!A15="","",ROUND('Исходные'!R15/1000,2)) | G33: =IF('Исходные'!A15="","",ROUND('Исходные'!S15/1000,2)) | H33: =IF(B33="","",SUM(D33:G33))
A34: =IF('Исходные'!A16="","",COUNTIF('Исходные'!$A$2:A16,"<>")) | B34: =IF('Исходные'!A16="","",'Исходные'!A16) | C34: =IF('Исходные'!A16="","",'Исходные'!C16) | D34: =IF('Исходные'!A16="","",ROUND('Исходные'!P16/1000,2)) | E34: =IF('Исходные'!A16="","",ROUND('Исходные'!Q16/1000,2)) | F34: =IF('Исходные'!A16="","",ROUND('Исходные'!R16/1000,2)) | G34: =IF('Исходные'!A16="","",ROUND('Исходные'!S16/1000,2)) | H34: =IF(B34="","",SUM(D34:G34))
C35: Итого по главе 3 | D35: =SUM(D30:D34) -> 0 | E35: =SUM(E30:E34) -> 0 | F35: =SUM(F30:F34) -> 0 | G35: =SUM(G30:G34) -> 0 | H35: =SUM(D35:G35) -> 0
A36: Глава 4. Объекты энергетического хозяйства
A37: =IF('Исходные'!A17="","",COUNTIF('Исходные'!$A$2:A17,"<>")) | B37: =IF('Исходные'!A17="","",'Исходные'!A17) | C37: =IF('Исходные'!A17="","",'Исходные'!C17) | D37: =IF('Исходные'!A17="","",ROUND('Исходные'!P17/1000,2)) | E37: =IF('Исходные'!A17="","",ROUND('Исходные'!Q17/1000,2)) | F37: =IF('Исходные'!A17="","",ROUND('Исходные'!R17/1000,2)) | G37: =IF('Исходные'!A17="","",ROUND('Исходные'!S17/1000,2)) | H37: =IF(B37="","",SUM(D37:G37))
A38: =IF('Исходные'!A18="","",COUNTIF('Исходные'!$A$2:A18,"<>")) | B38: =IF('Исходные'!A18="","",'Исходные'!A18) | C38: =IF('Исходные'!A18="","",'Исходные'!C18) | D38: =IF('Исходные'!A18="","",ROUND('Исходные'!P18/1000,2)) | E38: =IF('Исходные'!A18="","",ROUND('Исходные'!Q18/1000,2)) | F38: =IF('Исходные'!A18="","",ROUND('Исходные'!R18/1000,2)) | G38: =IF('Исходные'!A18="","",ROUND('Исходные'!S18/1000,2)) | H38: =IF(B38="","",SUM(D38:G38))
A39: =IF('Исходные'!A19="","",COUNTIF('Исходные'!$A$2:A19,"<>")) | B39: =IF('Исходные'!A19="","",'Исходные'!A19) | C39: =IF('Исходные'!A19="","",'Исходные'!C19) | D39: =IF('Исходные'!A19="","",ROUND('Исходные'!P19/1000,2)) | E39: =IF('Исходные'!A19="","",ROUND('Исходные'!Q19/1000,2)) | F39: =IF('Исходные'!A19="","",ROUND('Исходные'!R19/1000,2)) | G39: =IF('Исходные'!A19="","",ROUND('Исходные'!S19/1000,2)) | H39: =IF(B39="","",SUM(D39:G39))
A40: =IF('Исходные'!A20="","",COUNTIF('Исходные'!$A$2:A20,"<>")) | B40: =IF('Исходные'!A20="","",'Исходные'!A20) | C40: =IF('Исходные'!A20="","",'Исходные'!C20) | D40: =IF('Исходные'!A20="","",ROUND('Исходные'!P20/1000,2)) | E40: =IF('Исходные'!A20="","",ROUND('Исходные'!Q20/1000,2)) | F40: =IF('Исходные'!A20="","",ROUND('Исходные'!R20/1000,2)) | G40: =IF('Исходные'!A20="","",ROUND('Исходные'!S20/1000,2)) | H40: =IF(B40="","",SUM(D40:G40))
A41: =IF('Исходные'!A21="","",COUNTIF('Исходные'!$A$2:A21,"<>")) | B41: =IF('Исходные'!A21="","",'Исходные'!A21) | C41: =IF('Исходные'!A21="","",'Исходные'!C21) | D41: =IF('Исходные'!A21="","",ROUND('Исходные'!P21/1000,2)) | E41: =IF('Исходные'!A21="","",ROUND('Исходные'!Q21/1000,2)) | F41: =IF('Исходные'!A21="","",ROUND('Исходные'!R21/1000,2)) | G41: =IF('Исходные'!A21="","",ROUND('Исходные'!S21/1000,2)) | H41: =IF(B41="","",SUM(D41:G41))
...
