Workbook

Sheet Исходные данные
A2: Заземление: исходная ведомость
A3: Бланк: заполните жёлтые ячейки по своей ВОР, спецификации и программе испытаний.
A4: Реквизит | B4: Значение | C4: Единица | D4: Основание
A5: Объект
A6: Раздел | B6: Сети заземления
A7: Исходная ВОР
A8: Проект и спецификация
A9: Сметная база | B9: ФСНБ-2022
A10: Дополнение к базе
A11: Дата | B11: 46300
A12: Составил
A13: Проверил
A15: Параметр | B15: Значение | C15: Единица | D15: Основание для учебного примера
A16: Количество вертикальных электродов | C16: шт. | D16: Уголок 50×50×5 мм
A17: Длина одного электрода | C17: м | D17: Из спецификации
A18: Полоса в грунте | C18: м | D18: 40×4 мм, горизонтальный заземлитель
A19: Полоса по строительному основанию | C19: м | D19: 40×4 мм, открытая прокладка
A20: Длина траншеи | C20: м | D20: Без креплений, с откосами, ручная разработка
A21: Средняя ширина поперечного сечения | C21: м | D21: Средняя ширина, а не ширина по дну
A22: Глубина траншеи | C22: м | D22: Учебная геометрия, не предписание
A23: Группа грунта | C23: группа | D23: Для выбранных норм примера нужна группа 2
A24: Объём обратной засыпки | C24: м³ | D24: Задан ВОР отдельно, проверяется по свободному объёму
A25: Измерения сопротивления растеканию | C25: измерение | D25: По программе испытаний
A26: Проверки наличия цепи | C26: измерение | D26: По программе испытаний
A27: Ширина стальной полосы | C27: мм | D27: Из спецификации
A28: Толщина стальной полосы | C28: мм | D28: Из спецификации
A30: Объём разработки по геометрии | B30: =IF(COUNT(B20:B22)<3,"",B20*B21*B22) | C30: м³
A31: Сечение полосы | B31: =IF(COUNT(B27:B28)<2,"",B27*B28) | C31: мм²

Sheet Выбор норм
A2: ГЭСНм и ГЭСНп: условия выбора
A3: Сверьте материал и способ прокладки. Норма на монтаж не определяет проектные объёмы.
A5: База и шифр | B5: Наименование нормы | C5: Измеритель | D5: Что определяет выбор
A6: ГЭСНм 08-02-471-01 | B6: Заземлитель вертикальный из угловой стали размером: 50х50х5 мм | C6: 10 шт | D6: Материал, профиль и размер электрода
A7: ГЭСНм 08-02-471-02 | B7: Заземлитель вертикальный из угловой стали размером: 63х63х6 мм | C7: 10 шт | D7: Материал, профиль и размер электрода
A8: ГЭСНм 08-02-471-03 | B8: Заземлитель вертикальный из круглой стали диаметром: 12 мм | C8: 10 шт | D8: Материал, профиль и размер электрода
A9: ГЭСНм 08-02-471-04 | B9: Заземлитель вертикальный из круглой стали диаметром: 16 мм | C9: 10 шт | D9: Материал, профиль и размер электрода
A10: ГЭСНм 08-02-472-01 | B10: Заземлитель горизонтальный из стали: круглой диаметром 12 мм | C10: 100 м | D10: Материал, сечение и способ прокладки
A11: ГЭСНм 08-02-472-02 | B11: Заземлитель горизонтальный из стали: полосовой сечением 160 мм2 | C11: 100 м | D11: Материал, сечение и способ прокладки
A12: ГЭСНм 08-02-472-03 | B12: Проводник заземляющий скрыто в подливке пола из стали: полосовой сечением 100 мм2 | C12: 100 м | D12: Материал, сечение и способ прокладки
A13: ГЭСНм 08-02-472-04 | B13: Проводник заземляющий скрыто в подливке пола из стали: круглой диаметром 8 мм | C13: 100 м | D13: Материал, сечение и способ прокладки
A14: ГЭСНм 08-02-472-05 | B14: Проводник заземляющий скрыто в подливке пола из стали: круглой диаметром 12 мм | C14: 100 м | D14: Материал, сечение и способ прокладки
A15: ГЭСНм 08-02-472-06 | B15: Проводник заземляющий открыто по строительным основаниям: из полосовой стали сечением 100 мм2 | C15: 100 м | D15: Материал, сечение и способ прокладки
A16: ГЭСНм 08-02-472-07 | B16: Проводник заземляющий открыто по строительным основаниям: из полосовой стали сечением 160 мм2 | C16: 100 м | D16: Материал, сечение и способ прокладки
... A22: ГЭСНп 01-11-011-01 | B22: Проверка наличия цепи между заземлителями и заземленными элементами | C22: 100 измерений | D22: Операция и программа испытаний

Sheet Пример
A2: Бланк подбора: семь операций
A3: Объёмы связаны с листом «Исходные данные». Изменение материала, группы грунта или способа требует нового подбора.
A5: Операция | B5: База и шифр | C5: Единица ВОР | D5: Объём ВОР | E5: Измеритель нормы | F5: Делитель | G5: Количество в норме | H5: Труд на измеритель, чел.-ч | I5: Труд монтажа, чел.-ч | J5: Обоснование выбора
A6: Вертикальный электрод, уголок 50×50×5 мм | B6: ГЭСНм 08-02-471-01 | C6: шт. | D6: =IF(COUNT('Исходные данные'!B16)=0,"",'Исходные данные'!B16) | E6: 10 шт | F6: 10 | G6: =IF(COUNT(D6)=0,"",D6/F6) | H6: 9.27 | I6: =IF(COUNT(G6)=0,"",G6*H6) | J6: Совпадают профиль и размер электрода
A7: Горизонтальный заземлитель, полоса 40×4 мм | B7: ГЭСНм 08-02-472-02 | C7: м | D7: =IF(COUNT('Исходные данные'!B18)=0,"",'Исходные данные'!B18) | E7: 100 м | F7: 100 | G7: =IF(COUNT(D7)=0,"",D7/F7) | H7: 14.4 | I7: =IF(COUNT(G7)=0,"",G7*H7) | J7: Полоса 160 мм² в грунте
A8: Полоса 40×4 мм открыто по основанию | B8: ГЭСНм 08-02-472-07 | C8: м | D8: =IF(COUNT('Исходные данные'!B19)=0,"",'Исходные данные'!B19) | E8: 100 м | F8: 100 | G8: =IF(COUNT(D8)=0,"",D8/F8) | H8: 18.5 | I8: =IF(COUNT(G8)=0,"",G8*H8) | J8: Полоса 160 мм², открытая прокладка
A9: Разработка траншеи вручную | B9: ГЭСН 01-02-057-02 | C9: м³ | D9: =IF(COUNT('Исходные данные'!B30)=0,"",'Исходные данные'!B30) | E9: 100 м3 | F9: 100 | G9: =IF(COUNT(D9)=0,"",D9/F9) | J9: Грунт группы 2, без креплений, с откосами, глубина до 2 м
A10: Засыпка ранее выброшенным грунтом | B10: ГЭСН 01-02-061-02 | C10: м³ | D10: =IF(COUNT('Исходные данные'!B24)=0,"",'Исходные данные'!B24) | E10: 100 м3 | F10: 100 | G10: =IF(COUNT(D10)=0,"",D10/F10) | J10: Грунт группы 2, объём задан ВОР отдельно
A11: Измерение сопротивления растеканию | B11: ГЭСНп 01-11-010-01 | C11: измерение | D11: =IF(COUNT('Исходные данные'!B25)=0,"",'Исходные данные'!B25) | E11: измерение | F11: 1 | G11: =IF(COUNT(D11)=0,"",D11/F11) | J11: Количество из программы испытаний
A12: Проверка наличия цепи заземления | B12: ГЭСНп 01-11-011-01 | C12: измерение | D12: =IF(COUNT('Исходные данные'!B26)=0,"",'Исходные данные'!B26) | E12: 100 измерений | F12: 100 | G12: =IF(COUNT(D12)=0,"",D12/F12) | J12: 100 измерений на единицу нормы
A14: Итого труд трёх монтажных строк | I14: =IF(COUNT(I6:I8)<3,"",SUM(I6:I8))
A16: Итог относится только к труду трёх монтажных строк. Количества разных измерителей не суммируют.

Sheet Материалы
A2: Основной металл по спецификации
A3: Массу, единицу поставки и обоснованные потери вносят по спецификации. Профили учитывают раздельно.
A5: Материал | B5: Длина по ВОР | C5: Единица | D5: Масса по проекту, кг | E5: Единица поставки | F5: Потери по проекту, кг
A6: Уголок 50×50×5 мм | B6: =IF(COUNT('Исходные данные'!B16:B17)<2,"",'Исходные данные'!B16*'Исходные данные'!B17) | C6: м
A7: Полоса 40×4 мм | B7: =IF(COUNT('Исходные данные'!B18:B19)<2,"",SUM('Исходные данные'!B18:B19)) | C7: м
A9: Сварочные электроды и грунтовка учтены в ресурсах монтажных норм. Повторно их не добавляют.

Sheet Проверка
A2: Проверка перед утверждением подбора
A3: Реквизиты «Составил» и «Проверил» являются внутренними, это не установленная форма.
A5: Что проверить | B5: Отметка сметчика | C5: Комментарий
A6: ВОР разделена на электроды, заземлитель и проводники | B6: Не проверено
A7: Размеры металла и способ прокладки совпадают с нормами | B7: Не проверено
A8: Измерители: 10 шт., 100 м, измерение или 100 измерений | B8: Не проверено
A9: Основной металл добавлен по спецификации | B9: Не проверено
A10: Грунт группы 2 и геометрия соответствуют выбранным нормам | B10: Не проверено
A11: Объём засыпки проверен отдельно | B11: Не проверено
A12: Сварка, крепления и защитная обработка не задублированы | B12: Не проверено
A13: Измерения разделены по программе испытаний | B13: Не проверено
A14: Проверены сметная база, дополнение и уровень цен | B14: Не проверено
A15: Для итоговой стоимости определены метод, регион, период и цены | B15: Не проверено

Sheet Источники
A2: Документы и исходные допущения
A5: Документ | B5: Что содержит | C5: Ссылка | D5: Дата проверки
A6: ГЭСНм 81-03-08-2022 | B6: Пункты 1.8.45, 1.8.46, таблицы 08-02-471 и 08-02-472 | C6: Официальный сборник: ФГИС ЦС | D6: 46300
A7: Методика № 571/пр от 14.07.2022 | B7: Пункты 7, 8, 10, 11 и 12: применение норм и подбор аналога | C7: Официальная методика: ФГИС ЦС | D7: 46300
A8: Нормы ФСНБ-2022 | B8: Полные названия, составы, ресурсы и измерители строк примера | C8: Карточки норм в справочнике Сметрикс | D8: 46300
A10: Учебные исходные данные | B10: Три электрода по 3 м, полоса 30 м и 10 м; геометрия траншеи условная
A11: Программа испытаний | B11: Одно измерение сопротивления и 12 проверок цепи заданы условно
A12: Объём засыпки | B12: В учебной ВОР задан 6,3 м³; на объекте проверяется по свободному объёму
A13: Цены и начисления | B13: Региональные цены, НР, СП и налоги не предзаданы
