Workbook

Sheet ВОР
A1: Монтаж радиаторов: выбор расценки и объёмы
A2: Жёлтые поля доступны для ввода. Характеристики относятся к одному прибору; количество считают в целых штуках. Выбранные нормы и комплектацию проверяет сметчик.
A4: Объект | G4: Основание ВОР
A5: База | B5: ФСНБ-2022; укажите принятую редакцию | G5: Дата проверки
A6: Составил | G6: Проверил
A8: № | B8: Марка прибора | C8: Тип радиатора | D8: Крепление | E8: Секции | F8: Рядность | G8: Длина, мм | H8: Количество, шт | I8: Источник характеристики | J8: Состав комплекта | K8: Шифр ГЭСН | L8: Измеритель | M8: Объём позиции | N8: Проверка строки
A9: 1 | K9: =IF(C9="","",IF(AND(OR(C9="Алюминий",C9="Биметалл"),ISNUMBER(E9),MOD(E9,1)=0,E9>'Выбор ГЭСН'!$E$9,E9<='Выбор ГЭСН'!$F$9,D9='Выбор ГЭСН'!$D$9),'Выбор ГЭСН'!$A$9,IF(AND(OR(C9="Алюминий",C9="Биметалл"),ISNUMBER(E9),MOD(E9,1)=0,E9>'Выбор ГЭСН'!$E$10,E9<='Выбор ГЭСН'!$F$10,D9='Выбор ГЭСН'!$D$10),'Выбор ГЭСН'!$A$10,IF(AND(OR(C9="Алюминий",C9="Биметалл"),ISNUMBER(E9),MOD(E9,1)=0,E9>'Выбор ГЭСН'!$E$11,E9<='Выбор ГЭСН'!$F$11,D9='Выбор ГЭСН'!$D$11),'Выбор ГЭСН'!$A$11,IF(AND(OR(C9="Алюминий",C9="Биметалл"),ISNUMBER(E9),MOD(E9,1)=0,E9>'Выбор ГЭСН'!$E$12,E9<='Выбор ГЭСН'!$F$12,D9='Выбор ГЭСН'!$D$12),'Выбор ГЭСН'!$A$12,IF(AND(OR(C9="Алюминий",C9="Биметалл"),ISNUMBER(E9),MOD(E9,1)=0,E9>'Выбор ГЭСН'!$E$13,E9<='Выбор ГЭСН'!$F$13,D9='Выбор ГЭСН'!$D$13),'Выбор ГЭСН'!$A$13,IF(AND(OR(C9="Алюминий",C9="Биметалл"),ISNUMBER(E9),MOD(E9,1)=0,E9>'Выбор ГЭСН'!$E$14,E9<='Выбор ГЭСН'!$F$14,D9='Выбор ГЭСН'!$D$14),'Выбор ГЭСН'!$A$14,IF(AND(C9='Выбор ГЭСН'!$C$15,ISNUMBER(E9),MOD(E9,1)=0,E9>'Выбор ГЭСН'!$E$15,E9<='Выбор ГЭСН'!$F$15),'Выбор ГЭСН'!$A$15,IF(AND(C9='Выбор ГЭСН'!$C$16,ISNUMBER(E9),MOD(E9,1)=0,E9>'Выбор ГЭСН'!$E$16,E9<='Выбор ГЭСН'!$F$16),'Выбор ГЭСН'!$A$16,IF(AND(C9='Выбор ГЭСН'!$C$17,ISNUMBER(E9),MOD(E9,1)=0,E9>'Выбор ГЭСН'!$E$17,E9<='Выбор ГЭСН'!$F$17),'Выбор ГЭСН'!$A$17,IF(AND(C9='Выбор ГЭСН'!$C$18,ISNUMBER(E9),MOD(E9,1)=0,E9>'Выбор ГЭСН'!$E$18,E9<='Выбор ГЭСН'!$F$18),'Выбор ГЭСН'!$A$18,IF(AND(C9='Выбор ГЭСН'!$C$19,ISNUMBER(E9),MOD(E9,1)=0,E9>'Выбор ГЭСН'!$E$19,E9<='Выбор ГЭСН'!$F$19),'Выбор ГЭСН'!$A$19,IF(AND(C9='Выбор ГЭСН'!$C$20,ISNUMBER(E9),MOD(E9,1)=0,E9>'Выбор ГЭСН'!$E$20,E9<='Выбор ГЭСН'!$F$20),'Выбор ГЭСН'!$A$20,IF(AND(C9='Выбор ГЭСН'!$C$21,ISNUMBER(G9),MOD(G9,1)=0,G9>'Выбор ГЭСН'!$H$21,G9<='Выбор ГЭСН'!$I$21,D9='Выбор ГЭСН'!$D$21,F9='Выбор ГЭСН'!$G$21),'Выбор ГЭСН'!$A$21,IF(AND(C9='Выбор ГЭСН'!$C$22,ISNUMBER(G9),MOD(G9,1)=0,G9>'Выбор ГЭСН'!$H$22,G9<='Выбор ГЭСН'!$I$22,D9='Выбор ГЭСН'!$D$22,F9='Выбор ГЭСН'!$G$22),'Выбор ГЭСН'!$A$22,IF(AND(C9='Выбор ГЭСН'!$C$23,ISNUMBER(G9),MOD(G9,1)=0,G9>'Выбор ГЭСН'!$H$23,G9<='Выбор ГЭСН'!$I$23,D9='Выбор ГЭСН'!$D$23,F9='Выбор ГЭСН'!$G$23),'Выбор ГЭСН'!$A$23,IF(AND(C9='Выбор ГЭСН'!$C$24,ISNUMBER(G9),MOD(G9,1)=0,G9>'Выбор ГЭСН'!$H$24,G9<='Выбор ГЭСН'!$I$24,D9='Выбор ГЭСН'!$D$24,F9='Выбор ГЭСН'!$G$24),'Выбор ГЭСН'!$A$24,IF(AND(C9='Выбор ГЭСН'!$C$25,ISNUMBER(G9),MOD(G9,1)=0,G9>'Выбор ГЭСН'!$H$25,G9<='Выбор ГЭСН'!$I$25,D9='Выбор ГЭСН'!$D$25,F9='Выбор ГЭСН'!$G$25),'Выбор ГЭСН'!$A$25,IF(AND(C9='Выбор ГЭСН'!$C$26,ISNUMBER(G9),MOD(G9,1)=0,G9>'Выбор ГЭСН'!$H$26,G9<='Выбор ГЭСН'!$I$26,D9='Выбор ГЭСН'!$D$26,F9='Выбор ГЭСН'!$G$26),'Выбор ГЭСН'!$A$26,IF(AND(C9='Выбор ГЭСН'!$C$27,ISNUMBER(G9),MOD(G9,1)=0,G9>'Выбор ГЭСН'!$H$27,G9<='Выбор ГЭСН'!$I$27,D9='Выбор ГЭСН'!$D$27,F9='Выбор ГЭСН'!$G$27),'Выбор ГЭСН'!$A$27,IF(AND(C9='Выбор ГЭСН'!$C$28,ISNUMBER(G9),MOD(G9,1)=0,G9>'Выбор ГЭСН'!$H$28,G9<='Выбор ГЭСН'!$I$28,D9='Выбор ГЭСН'!$D$28,F9='Выбор ГЭСН'!$G$28),'Выбор ГЭСН'!$A$28,IF(AND(C9='Выбор ГЭСН'!$C$29,ISNUMBER(G9),MOD(G9,1)=0,G9>'Выбор ГЭСН'!$H$29,G9<='Выбор ГЭСН'!$I$29,D9='Выбор ГЭСН'!$D$29,F9='Выбор ГЭСН'!$G$29),'Выбор ГЭСН'!$A$29,IF(AND(C9='Выбор ГЭСН'!$C$30,ISNUMBER(G9),MOD(G9,1)=0,G9>'Выбор ГЭСН'!$H$30,G9<='Выбор ГЭСН'!$I$30,D9='Выбор ГЭСН'!$D$30,F9='Выбор ГЭСН'!$G$30),'Выбор ГЭСН'!$A$30,IF(AND(C9='Выбор ГЭСН'!$C$31,ISNUMBER(G9),MOD(G9,1)=0,G9>'Выбор ГЭСН'!$H$31,G9<='Выбор ГЭСН'!$I$31,D9='Выбор ГЭСН'!$D$31,F9='Выбор ГЭСН'!$G$31),'Выбор ГЭСН'!$A$31,IF(AND(C9='Выбор ГЭСН'!$C$32,ISNUMBER(G9),MOD(G9,1)=0,G9>'Выбор ГЭСН'!$H$32,G9<='Выбор ГЭСН'!$I$32,D9='Выбор ГЭСН'!$D$32,F9='Выбор ГЭСН'!$G$32),'Выбор ГЭСН'!$A$32,IF(AND(C9='Выбор ГЭСН'!$C$33,ISNUMBER(G9),MOD(G9,1)=0,G9>'Выбор ГЭСН'!$H$33,G9<='Выбор ГЭСН'!$I$33,D9='Выбор ГЭСН'!$D$33,F9='Выбор ГЭСН'!$G$33),'Выбор ГЭСН'!$A$33,IF(AND(C9='Выбор ГЭСН'!$C$34,ISNUMBER(G9),MOD(G9,1)=0,G9>'Выбор ГЭСН'!$H$34,G9<='Выбор ГЭСН'!$I$34,D9='Выбор ГЭСН'!$D$34,F9='Выбор ГЭСН'!$G$34),'Выбор ГЭСН'!$A$34,IF(AND(C9='Выбор ГЭСН'!$C$35,ISNUMBER(G9),MOD(G9,1)=0,G9>'Выбор ГЭСН'!$H$35,G9<='Выбор ГЭСН'!$I$35,D9='Выбор ГЭСН'!$D$35,F9='Выбор ГЭСН'!$G$35),'Выбор ГЭСН'!$A$35,IF(AND(C9='Выбор ГЭСН'!$C$36,ISNUMBER(G9),MOD(G9,1)=0,G9>'Выбор ГЭСН'!$H$36,G9<='Выбор ГЭСН'!$I$36,D9='Выбор ГЭСН'!$D$36,F9='Выбор ГЭСН'!$G$36),'Выбор ГЭСН'!$A$36,"Проверка сметчиком"))))))))))))))))))))))))))))) | L9: =IF(OR(K9="",K9="Проверка сметчиком"),"","100 шт") | M9: =IF(AND(ISNUMBER(H9),H9>0,MOD(H9,1)=0,K9<>"",K9<>"Проверка сметчиком"),H9/100,"") | N9: =IF(C9="","",IF(K9="Проверка сметчиком",K9,IF(M9="","Уточните количество",IF(OR(B9="",I9="",J9=""),"Уточните марку и комплект","Сверьте норму и комплект"))))
A10: 2 | K10: =IF(C10="","",IF(AND(OR(C10="Алюминий",C10="Биметалл"),ISNUMBER(E10),MOD(E10,1)=0,E10>'Выбор ГЭСН'!$E$9,E10<='Выбор ГЭСН'!$F$9,D10='Выбор ГЭСН'!$D$9),'Выбор ГЭСН'!$A$9,IF(AND(OR(C10="Алюминий",C10="Биметалл"),ISNUMBER(E10),MOD(E10,1)=0,E10>'Выбор ГЭСН'!$E$10,E10<='Выбор ГЭСН'!$F$10,D10='Выбор ГЭСН'!$D$10),'Выбор ГЭСН'!$A$10,IF(AND(OR(C10="Алюминий",C10="Биметалл"),ISNUMBER(E10),MOD(E10,1)=0,E10>'Выбор ГЭСН'!$E$11,E10<='Выбор ГЭСН'!$F$11,D10='Выбор ГЭСН'!$D$11),'Выбор ГЭСН'!$A$11,IF(AND(OR(C10="Алюминий",C10="Биметалл"),ISNUMBER(E10),MOD(E10,1)=0,E10>'Выбор ГЭСН'!$E$12,E10<='Выбор ГЭСН'!$F$12,D10='Выбор ГЭСН'!$D$12),'Выбор ГЭСН'!$A$12,IF(AND(OR(C10="Алюминий",C10="Биметалл"),ISNUMBER(E10),MOD(E10,1)=0,E10>'Выбор ГЭСН'!$E$13,E10<='Выбор ГЭСН'!$F$13,D10='Выбор ГЭСН'!$D$13),'Выбор ГЭСН'!$A$13,IF(AND(OR(C10="Алюминий",C10="Биметалл"),ISNUMBER(E10),MOD(E10,1)=0,E10>'Выбор ГЭСН'!$E$14,E10<='Выбор ГЭСН'!$F$14,D10='Выбор ГЭСН'!$D$14),'Выбор ГЭСН'!$A$14,IF(AND(C10='Выбор ГЭСН'!$C$15,ISNUMBER(E10),MOD(E10,1)=0,E10>'Выбор ГЭСН'!$E$15,E10<='Выбор ГЭСН'!$F$15),'Выбор ГЭСН'!$A$15,IF(AND(C10='Выбор ГЭСН'!$C$16,ISNUMBER(E10),MOD(E10,1)=0,E10>'Выбор ГЭСН'!$E$16,E10<='Выбор ГЭСН'!$F$16),'Выбор ГЭСН'!$A$16,IF(AND(C10='Выбор ГЭСН'!$C$17,ISNUMBER(E10),MOD(E10,1)=0,E10>'Выбор ГЭСН'!$E$17,E10<='Выбор ГЭСН'!$F$17),'Выбор ГЭСН'!$A$17,IF(AND(C10='Выбор ГЭСН'!$C$18,ISNUMBER(E10),MOD(E10,1)=0,E10>'Выбор ГЭСН'!$E$18,E10<='Выбор ГЭСН'!$F$18),'Выбор ГЭСН'!$A$18,IF(AND(C10='Выбор ГЭСН'!$C$19,ISNUMBER(E10),MOD(E10,1)=0,E10>'Выбор ГЭСН'!$E$19,E10<='Выбор ГЭСН'!$F$19),'Выбор ГЭСН'!$A$19,IF(AND(C10='Выбор ГЭСН'!$C$20,ISNUMBER(E10),MOD(E10,1)=0,E10>'Выбор ГЭСН'!$E$20,E10<='Выбор ГЭСН'!$F$20),'Выбор ГЭСН'!$A$20,IF(AND(C10='Выбор ГЭСН'!$C$21,ISNUMBER(G10),MOD(G10,1)=0,G10>'Выбор ГЭСН'!$H$21,G10<='Выбор ГЭСН'!$I$21,D10='Выбор ГЭСН'!$D$21,F10='Выбор ГЭСН'!$G$21),'Выбор ГЭСН'!$A$21,IF(AND(C10='Выбор ГЭСН'!$C$22,ISNUMBER(G10),MOD(G10,1)=0,G10>'Выбор ГЭСН'!$H$22,G10<='Выбор ГЭСН'!$I$22,D10='Выбор ГЭСН'!$D$22,F10='Выбор ГЭСН'!$G$22),'Выбор ГЭСН'!$A$22,IF(AND(C10='Выбор ГЭСН'!$C$23,ISNUMBER(G10),MOD(G10,1)=0,G10>'Выбор ГЭСН'!$H$23,G10<='Выбор ГЭСН'!$I$23,D10='Выбор ГЭСН'!$D$23,F10='Выбор ГЭСН'!$G$23),'Выбор ГЭСН'!$A$23,IF(AND(C10='Выбор ГЭСН'!$C$24,ISNUMBER(G10),MOD(G10,1)=0,G10>'Выбор ГЭСН'!$H$24,G10<='Выбор ГЭСН'!$I$24,D10='Выбор ГЭСН'!$D$24,F10='Выбор ГЭСН'!$G$24),'Выбор ГЭСН'!$A$24,IF(AND(C10='Выбор ГЭСН'!$C$25,ISNUMBER(G10),MOD(G10,1)=0,G10>'Выбор ГЭСН'!$H$25,G10<='Выбор ГЭСН'!$I$25,D10='Выбор ГЭСН'!$D$25,F10='Выбор ГЭСН'!$G$25),'Выбор ГЭСН'!$A$25,IF(AND(C10='Выбор ГЭСН'!$C$26,ISNUMBER(G10),MOD(G10,1)=0,G10>'Выбор ГЭСН'!$H$26,G10<='Выбор ГЭСН'!$I$26,D10='Выбор ГЭСН'!$D$26,F10='Выбор ГЭСН'!$G$26),'Выбор ГЭСН'!$A$26,IF(AND(C10='Выбор ГЭСН'!$C$27,ISNUMBER(G10),MOD(G10,1)=0,G10>'Выбор ГЭСН'!$H$27,G10<='Выбор ГЭСН'!$I$27,D10='Выбор ГЭСН'!$D$27,F10='Выбор ГЭСН'!$G$27),'Выбор ГЭСН'!$A$27,IF(AND(C10='Выбор ГЭСН'!$C$28,ISNUMBER(G10),MOD(G10,1)=0,G10>'Выбор ГЭСН'!$H$28,G10<='Выбор ГЭСН'!$I$28,D10='Выбор ГЭСН'!$D$28,F10='Выбор ГЭСН'!$G$28),'Выбор ГЭСН'!$A$28,IF(AND(C10='Выбор ГЭСН'!$C$29,ISNUMBER(G10),MOD(G10,1)=0,G10>'Выбор ГЭСН'!$H$29,G10<='Выбор ГЭСН'!$I$29,D10='Выбор ГЭСН'!$D$29,F10='Выбор ГЭСН'!$G$29),'Выбор ГЭСН'!$A$29,IF(AND(C10='Выбор ГЭСН'!$C$30,ISNUMBER(G10),MOD(G10,1)=0,G10>'Выбор ГЭСН'!$H$30,G10<='Выбор ГЭСН'!$I$30,D10='Выбор ГЭСН'!$D$30,F10='Выбор ГЭСН'!$G$30),'Выбор ГЭСН'!$A$30,IF(AND(C10='Выбор ГЭСН'!$C$31,ISNUMBER(G10),MOD(G10,1)=0,G10>'Выбор ГЭСН'!$H$31,G10<='Выбор ГЭСН'!$I$31,D10='Выбор ГЭСН'!$D$31,F10='Выбор ГЭСН'!$G$31),'Выбор ГЭСН'!$A$31,IF(AND(C10='Выбор ГЭСН'!$C$32,ISNUMBER(G10),MOD(G10,1)=0,G10>'Выбор ГЭСН'!$H$32,G10<='Выбор ГЭСН'!$I$32,D10='Выбор ГЭСН'!$D$32,F10='Выбор ГЭСН'!$G$32),'Выбор ГЭСН'!$A$32,IF(AND(C10='Выбор ГЭСН'!$C$33,ISNUMBER(G10),MOD(G10,1)=0,G10>'Выбор ГЭСН'!$H$33,G10<='Выбор ГЭСН'!$I$33,D10='Выбор ГЭСН'!$D$33,F10='Выбор ГЭСН'!$G$33),'Выбор ГЭСН'!$A$33,IF(AND(C10='Выбор ГЭСН'!$C$34,ISNUMBER(G10),MOD(G10,1)=0,G10>'Выбор ГЭСН'!$H$34,G10<='Выбор ГЭСН'!$I$34,D10='Выбор ГЭСН'!$D$34,F10='Выбор ГЭСН'!$G$34),'Выбор ГЭСН'!$A$34,IF(AND(C10='Выбор ГЭСН'!$C$35,ISNUMBER(G10),MOD(G10,1)=0,G10>'Выбор ГЭСН'!$H$35,G10<='Выбор ГЭСН'!$I$35,D10='Выбор ГЭСН'!$D$35,F10='Выбор ГЭСН'!$G$35),'Выбор ГЭСН'!$A$35,IF(AND(C10='Выбор ГЭСН'!$C$36,ISNUMBER(G10),MOD(G10,1)=0,G10>'Выбор ГЭСН'!$H$36,G10<='Выбор ГЭСН'!$I$36,D10='Выбор ГЭСН'!$D$36,F10='Выбор ГЭСН'!$G$36),'Выбор ГЭСН'!$A$36,"Проверка сметчиком"))))))))))))))))))))))))))))) | L10: =IF(OR(K10="",K10="Проверка сметчиком"),"","100 шт") | M10: =IF(AND(ISNUMBER(H10),H10>0,MOD(H10,1)=0,K10<>"",K10<>"Проверка сметчиком"),H10/100,"") | N10: =IF(C10="","",IF(K10="Проверка сметчиком",K10,IF(M10="","Уточните количество",IF(OR(B10="",I10="",J10=""),"Уточните марку и комплект","Сверьте норму и комплект"))))
A11: 3 | K11: =IF(C11="","",IF(AND(OR(C11="Алюминий",C11="Биметалл"),ISNUMBER(E11),MOD(E11,1)=0,E11>'Выбор ГЭСН'!$E$9,E11<='Выбор ГЭСН'!$F$9,D11='Выбор ГЭСН'!$D$9),'Выбор ГЭСН'!$A$9,IF(AND(OR(C11="Алюминий",C11="Биметалл"),ISNUMBER(E11),MOD(E11,1)=0,E11>'Выбор ГЭСН'!$E$10,E11<='Выбор ГЭСН'!$F$10,D11='Выбор ГЭСН'!$D$10),'Выбор ГЭСН'!$A$10,IF(AND(OR(C11="Алюминий",C11="Биметалл"),ISNUMBER(E11),MOD(E11,1)=0,E11>'Выбор ГЭСН'!$E$11,E11<='Выбор ГЭСН'!$F$11,D11='Выбор ГЭСН'!$D$11),'Выбор ГЭСН'!$A$11,IF(AND(OR(C11="Алюминий",C11="Биметалл"),ISNUMBER(E11),MOD(E11,1)=0,E11>'Выбор ГЭСН'!$E$12,E11<='Выбор ГЭСН'!$F$12,D11='Выбор ГЭСН'!$D$12),'Выбор ГЭСН'!$A$12,IF(AND(OR(C11="Алюминий",C11="Биметалл"),ISNUMBER(E11),MOD(E11,1)=0,E11>'Выбор ГЭСН'!$E$13,E11<='Выбор ГЭСН'!$F$13,D11='Выбор ГЭСН'!$D$13),'Выбор ГЭСН'!$A$13,IF(AND(OR(C11="Алюминий",C11="Биметалл"),ISNUMBER(E11),MOD(E11,1)=0,E11>'Выбор ГЭСН'!$E$14,E11<='Выбор ГЭСН'!$F$14,D11='Выбор ГЭСН'!$D$14),'Выбор ГЭСН'!$A$14,IF(AND(C11='Выбор ГЭСН'!$C$15,ISNUMBER(E11),MOD(E11,1)=0,E11>'Выбор ГЭСН'!$E$15,E11<='Выбор ГЭСН'!$F$15),'Выбор ГЭСН'!$A$15,IF(AND(C11='Выбор ГЭСН'!$C$16,ISNUMBER(E11),MOD(E11,1)=0,E11>'Выбор ГЭСН'!$E$16,E11<='Выбор ГЭСН'!$F$16),'Выбор ГЭСН'!$A$16,IF(AND(C11='Выбор ГЭСН'!$C$17,ISNUMBER(E11),MOD(E11,1)=0,E11>'Выбор ГЭСН'!$E$17,E11<='Выбор ГЭСН'!$F$17),'Выбор ГЭСН'!$A$17,IF(AND(C11='Выбор ГЭСН'!$C$18,ISNUMBER(E11),MOD(E11,1)=0,E11>'Выбор ГЭСН'!$E$18,E11<='Выбор ГЭСН'!$F$18),'Выбор ГЭСН'!$A$18,IF(AND(C11='Выбор ГЭСН'!$C$19,ISNUMBER(E11),MOD(E11,1)=0,E11>'Выбор ГЭСН'!$E$19,E11<='Выбор ГЭСН'!$F$19),'Выбор ГЭСН'!$A$19,IF(AND(C11='Выбор ГЭСН'!$C$20,ISNUMBER(E11),MOD(E11,1)=0,E11>'Выбор ГЭСН'!$E$20,E11<='Выбор ГЭСН'!$F$20),'Выбор ГЭСН'!$A$20,IF(AND(C11='Выбор ГЭСН'!$C$21,ISNUMBER(G11),MOD(G11,1)=0,G11>'Выбор ГЭСН'!$H$21,G11<='Выбор ГЭСН'!$I$21,D11='Выбор ГЭСН'!$D$21,F11='Выбор ГЭСН'!$G$21),'Выбор ГЭСН'!$A$21,IF(AND(C11='Выбор ГЭСН'!$C$22,ISNUMBER(G11),MOD(G11,1)=0,G11>'Выбор ГЭСН'!$H$22,G11<='Выбор ГЭСН'!$I$22,D11='Выбор ГЭСН'!$D$22,F11='Выбор ГЭСН'!$G$22),'Выбор ГЭСН'!$A$22,IF(AND(C11='Выбор ГЭСН'!$C$23,ISNUMBER(G11),MOD(G11,1)=0,G11>'Выбор ГЭСН'!$H$23,G11<='Выбор ГЭСН'!$I$23,D11='Выбор ГЭСН'!$D$23,F11='Выбор ГЭСН'!$G$23),'Выбор ГЭСН'!$A$23,IF(AND(C11='Выбор ГЭСН'!$C$24,ISNUMBER(G11),MOD(G11,1)=0,G11>'Выбор ГЭСН'!$H$24,G11<='Выбор ГЭСН'!$I$24,D11='Выбор ГЭСН'!$D$24,F11='Выбор ГЭСН'!$G$24),'Выбор ГЭСН'!$A$24,IF(AND(C11='Выбор ГЭСН'!$C$25,ISNUMBER(G11),MOD(G11,1)=0,G11>'Выбор ГЭСН'!$H$25,G11<='Выбор ГЭСН'!$I$25,D11='Выбор ГЭСН'!$D$25,F11='Выбор ГЭСН'!$G$25),'Выбор ГЭСН'!$A$25,IF(AND(C11='Выбор ГЭСН'!$C$26,ISNUMBER(G11),MOD(G11,1)=0,G11>'Выбор ГЭСН'!$H$26,G11<='Выбор ГЭСН'!$I$26,D11='Выбор ГЭСН'!$D$26,F11='Выбор ГЭСН'!$G$26),'Выбор ГЭСН'!$A$26,IF(AND(C11='Выбор ГЭСН'!$C$27,ISNUMBER(G11),MOD(G11,1)=0,G11>'Выбор ГЭСН'!$H$27,G11<='Выбор ГЭСН'!$I$27,D11='Выбор ГЭСН'!$D$27,F11='Выбор ГЭСН'!$G$27),'Выбор ГЭСН'!$A$27,IF(AND(C11='Выбор ГЭСН'!$C$28,ISNUMBER(G11),MOD(G11,1)=0,G11>'Выбор ГЭСН'!$H$28,G11<='Выбор ГЭСН'!$I$28,D11='Выбор ГЭСН'!$D$28,F11='Выбор ГЭСН'!$G$28),'Выбор ГЭСН'!$A$28,IF(AND(C11='Выбор ГЭСН'!$C$29,ISNUMBER(G11),MOD(G11,1)=0,G11>'Выбор ГЭСН'!$H$29,G11<='Выбор ГЭСН'!$I$29,D11='Выбор ГЭСН'!$D$29,F11='Выбор ГЭСН'!$G$29),'Выбор ГЭСН'!$A$29,IF(AND(C11='Выбор ГЭСН'!$C$30,ISNUMBER(G11),MOD(G11,1)=0,G11>'Выбор ГЭСН'!$H$30,G11<='Выбор ГЭСН'!$I$30,D11='Выбор ГЭСН'!$D$30,F11='Выбор ГЭСН'!$G$30),'Выбор ГЭСН'!$A$30,IF(AND(C11='Выбор ГЭСН'!$C$31,ISNUMBER(G11),MOD(G11,1)=0,G11>'Выбор ГЭСН'!$H$31,G11<='Выбор ГЭСН'!$I$31,D11='Выбор ГЭСН'!$D$31,F11='Выбор ГЭСН'!$G$31),'Выбор ГЭСН'!$A$31,IF(AND(C11='Выбор ГЭСН'!$C$32,ISNUMBER(G11),MOD(G11,1)=0,G11>'Выбор ГЭСН'!$H$32,G11<='Выбор ГЭСН'!$I$32,D11='Выбор ГЭСН'!$D$32,F11='Выбор ГЭСН'!$G$32),'Выбор ГЭСН'!$A$32,IF(AND(C11='Выбор ГЭСН'!$C$33,ISNUMBER(G11),MOD(G11,1)=0,G11>'Выбор ГЭСН'!$H$33,G11<='Выбор ГЭСН'!$I$33,D11='Выбор ГЭСН'!$D$33,F11='Выбор ГЭСН'!$G$33),'Выбор ГЭСН'!$A$33,IF(AND(C11='Выбор ГЭСН'!$C$34,ISNUMBER(G11),MOD(G11,1)=0,G11>'Выбор ГЭСН'!$H$34,G11<='Выбор ГЭСН'!$I$34,D11='Выбор ГЭСН'!$D$34,F11='Выбор ГЭСН'!$G$34),'Выбор ГЭСН'!$A$34,IF(AND(C11='Выбор ГЭСН'!$C$35,ISNUMBER(G11),MOD(G11,1)=0,G11>'Выбор ГЭСН'!$H$35,G11<='Выбор ГЭСН'!$I$35,D11='Выбор ГЭСН'!$D$35,F11='Выбор ГЭСН'!$G$35),'Выбор ГЭСН'!$A$35,IF(AND(C11='Выбор ГЭСН'!$C$36,ISNUMBER(G11),MOD(G11,1)=0,G11>'Выбор ГЭСН'!$H$36,G11<='Выбор ГЭСН'!$I$36,D11='Выбор ГЭСН'!$D$36,F11='Выбор ГЭСН'!$G$36),'Выбор ГЭСН'!$A$36,"Проверка сметчиком"))))))))))))))))))))))))))))) | L11: =IF(OR(K11="",K11="Проверка сметчиком"),"","100 шт") | M11: =IF(AND(ISNUMBER(H11),H11>0,MOD(H11,1)=0,K11<>"",K11<>"Проверка сметчиком"),H11/100,"") | N11: =IF(C11="","",IF(K11="Проверка сметчиком",K11,IF(M11="","Уточните количество",IF(OR(B11="",I11="",J11=""),"Уточните марку и комплект","Сверьте норму и комплект"))))
A12: 4 | K12: =IF(C12="","",IF(AND(OR(C12="Алюминий",C12="Биметалл"),ISNUMBER(E12),MOD(E12,1)=0,E12>'Выбор ГЭСН'!$E$9,E12<='Выбор ГЭСН'!$F$9,D12='Выбор ГЭСН'!$D$9),'Выбор ГЭСН'!$A$9,IF(AND(OR(C12="Алюминий",C12="Биметалл"),ISNUMBER(E12),MOD(E12,1)=0,E12>'Выбор ГЭСН'!$E$10,E12<='Выбор ГЭСН'!$F$10,D12='Выбор ГЭСН'!$D$10),'Выбор ГЭСН'!$A$10,IF(AND(OR(C12="Алюминий",C12="Биметалл"),ISNUMBER(E12),MOD(E12,1)=0,E12>'Выбор ГЭСН'!$E$11,E12<='Выбор ГЭСН'!$F$11,D12='Выбор ГЭСН'!$D$11),'Выбор ГЭСН'!$A$11,IF(AND(OR(C12="Алюминий",C12="Биметалл"),ISNUMBER(E12),MOD(E12,1)=0,E12>'Выбор ГЭСН'!$E$12,E12<='Выбор ГЭСН'!$F$12,D12='Выбор ГЭСН'!$D$12),'Выбор ГЭСН'!$A$12,IF(AND(OR(C12="Алюминий",C12="Биметалл"),ISNUMBER(E12),MOD(E12,1)=0,E12>'Выбор ГЭСН'!$E$13,E12<='Выбор ГЭСН'!$F$13,D12='Выбор ГЭСН'!$D$13),'Выбор ГЭСН'!$A$13,IF(AND(OR(C12="Алюминий",C12="Биметалл"),ISNUMBER(E12),MOD(E12,1)=0,E12>'Выбор ГЭСН'!$E$14,E12<='Выбор ГЭСН'!$F$14,D12='Выбор ГЭСН'!$D$14),'Выбор ГЭСН'!$A$14,IF(AND(C12='Выбор ГЭСН'!$C$15,ISNUMBER(E12),MOD(E12,1)=0,E12>'Выбор ГЭСН'!$E$15,E12<='Выбор ГЭСН'!$F$15),'Выбор ГЭСН'!$A$15,IF(AND(C12='Выбор ГЭСН'!$C$16,ISNUMBER(E12),MOD(E12,1)=0,E12>'Выбор ГЭСН'!$E$16,E12<='Выбор ГЭСН'!$F$16),'Выбор ГЭСН'!$A$16,IF(AND(C12='Выбор ГЭСН'!$C$17,ISNUMBER(E12),MOD(E12,1)=0,E12>'Выбор ГЭСН'!$E$17,E12<='Выбор ГЭСН'!$F$17),'Выбор ГЭСН'!$A$17,IF(AND(C12='Выбор ГЭСН'!$C$18,ISNUMBER(E12),MOD(E12,1)=0,E12>'Выбор ГЭСН'!$E$18,E12<='Выбор ГЭСН'!$F$18),'Выбор ГЭСН'!$A$18,IF(AND(C12='Выбор ГЭСН'!$C$19,ISNUMBER(E12),MOD(E12,1)=0,E12>'Выбор ГЭСН'!$E$19,E12<='Выбор ГЭСН'!$F$19),'Выбор ГЭСН'!$A$19,IF(AND(C12='Выбор ГЭСН'!$C$20,ISNUMBER(E12),MOD(E12,1)=0,E12>'Выбор ГЭСН'!$E$20,E12<='Выбор ГЭСН'!$F$20),'Выбор ГЭСН'!$A$20,IF(AND(C12='Выбор ГЭСН'!$C$21,ISNUMBER(G12),MOD(G12,1)=0,G12>'Выбор ГЭСН'!$H$21,G12<='Выбор ГЭСН'!$I$21,D12='Выбор ГЭСН'!$D$21,F12='Выбор ГЭСН'!$G$21),'Выбор ГЭСН'!$A$21,IF(AND(C12='Выбор ГЭСН'!$C$22,ISNUMBER(G12),MOD(G12,1)=0,G12>'Выбор ГЭСН'!$H$22,G12<='Выбор ГЭСН'!$I$22,D12='Выбор ГЭСН'!$D$22,F12='Выбор ГЭСН'!$G$22),'Выбор ГЭСН'!$A$22,IF(AND(C12='Выбор ГЭСН'!$C$23,ISNUMBER(G12),MOD(G12,1)=0,G12>'Выбор ГЭСН'!$H$23,G12<='Выбор ГЭСН'!$I$23,D12='Выбор ГЭСН'!$D$23,F12='Выбор ГЭСН'!$G$23),'Выбор ГЭСН'!$A$23,IF(AND(C12='Выбор ГЭСН'!$C$24,ISNUMBER(G12),MOD(G12,1)=0,G12>'Выбор ГЭСН'!$H$24,G12<='Выбор ГЭСН'!$I$24,D12='Выбор ГЭСН'!$D$24,F12='Выбор ГЭСН'!$G$24),'Выбор ГЭСН'!$A$24,IF(AND(C12='Выбор ГЭСН'!$C$25,ISNUMBER(G12),MOD(G12,1)=0,G12>'Выбор ГЭСН'!$H$25,G12<='Выбор ГЭСН'!$I$25,D12='Выбор ГЭСН'!$D$25,F12='Выбор ГЭСН'!$G$25),'Выбор ГЭСН'!$A$25,IF(AND(C12='Выбор ГЭСН'!$C$26,ISNUMBER(G12),MOD(G12,1)=0,G12>'Выбор ГЭСН'!$H$26,G12<='Выбор ГЭСН'!$I$26,D12='Выбор ГЭСН'!$D$26,F12='Выбор ГЭСН'!$G$26),'Выбор ГЭСН'!$A$26,IF(AND(C12='Выбор ГЭСН'!$C$27,ISNUMBER(G12),MOD(G12,1)=0,G12>'Выбор ГЭСН'!$H$27,G12<='Выбор ГЭСН'!$I$27,D12='Выбор ГЭСН'!$D$27,F12='Выбор ГЭСН'!$G$27),'Выбор ГЭСН'!$A$27,IF(AND(C12='Выбор ГЭСН'!$C$28,ISNUMBER(G12),MOD(G12,1)=0,G12>'Выбор ГЭСН'!$H$28,G12<='Выбор ГЭСН'!$I$28,D12='Выбор ГЭСН'!$D$28,F12='Выбор ГЭСН'!$G$28),'Выбор ГЭСН'!$A$28,IF(AND(C12='Выбор ГЭСН'!$C$29,ISNUMBER(G12),MOD(G12,1)=0,G12>'Выбор ГЭСН'!$H$29,G12<='Выбор ГЭСН'!$I$29,D12='Выбор ГЭСН'!$D$29,F12='Выбор ГЭСН'!$G$29),'Выбор ГЭСН'!$A$29,IF(AND(C12='Выбор ГЭСН'!$C$30,ISNUMBER(G12),MOD(G12,1)=0,G12>'Выбор ГЭСН'!$H$30,G12<='Выбор ГЭСН'!$I$30,D12='Выбор ГЭСН'!$D$30,F12='Выбор ГЭСН'!$G$30),'Выбор ГЭСН'!$A$30,IF(AND(C12='Выбор ГЭСН'!$C$31,ISNUMBER(G12),MOD(G12,1)=0,G12>'Выбор ГЭСН'!$H$31,G12<='Выбор ГЭСН'!$I$31,D12='Выбор ГЭСН'!$D$31,F12='Выбор ГЭСН'!$G$31),'Выбор ГЭСН'!$A$31,IF(AND(C12='Выбор ГЭСН'!$C$32,ISNUMBER(G12),MOD(G12,1)=0,G12>'Выбор ГЭСН'!$H$32,G12<='Выбор ГЭСН'!$I$32,D12='Выбор ГЭСН'!$D$32,F12='Выбор ГЭСН'!$G$32),'Выбор ГЭСН'!$A$32,IF(AND(C12='Выбор ГЭСН'!$C$33,ISNUMBER(G12),MOD(G12,1)=0,G12>'Выбор ГЭСН'!$H$33,G12<='Выбор ГЭСН'!$I$33,D12='Выбор ГЭСН'!$D$33,F12='Выбор ГЭСН'!$G$33),'Выбор ГЭСН'!$A$33,IF(AND(C12='Выбор ГЭСН'!$C$34,ISNUMBER(G12),MOD(G12,1)=0,G12>'Выбор ГЭСН'!$H$34,G12<='Выбор ГЭСН'!$I$34,D12='Выбор ГЭСН'!$D$34,F12='Выбор ГЭСН'!$G$34),'Выбор ГЭСН'!$A$34,IF(AND(C12='Выбор ГЭСН'!$C$35,ISNUMBER(G12),MOD(G12,1)=0,G12>'Выбор ГЭСН'!$H$35,G12<='Выбор ГЭСН'!$I$35,D12='Выбор ГЭСН'!$D$35,F12='Выбор ГЭСН'!$G$35),'Выбор ГЭСН'!$A$35,IF(AND(C12='Выбор ГЭСН'!$C$36,ISNUMBER(G12),MOD(G12,1)=0,G12>'Выбор ГЭСН'!$H$36,G12<='Выбор ГЭСН'!$I$36,D12='Выбор ГЭСН'!$D$36,F12='Выбор ГЭСН'!$G$36),'Выбор ГЭСН'!$A$36,"Проверка сметчиком"))))))))))))))))))))))))))))) | L12: =IF(OR(K12="",K12="Проверка сметчиком"),"","100 шт") | M12: =IF(AND(ISNUMBER(H12),H12>0,MOD(H12,1)=0,K12<>"",K12<>"Проверка сметчиком"),H12/100,"") | N12: =IF(C12="","",IF(K12="Проверка сметчиком",K12,IF(M12="","Уточните количество",IF(OR(B12="",I12="",J12=""),"Уточните марку и комплект","Сверьте норму и комплект"))))
A13: 5 | K13: =IF(C13="","",IF(AND(OR(C13="Алюминий",C13="Биметалл"),ISNUMBER(E13),MOD(E13,1)=0,E13>'Выбор ГЭСН'!$E$9,E13<='Выбор ГЭСН'!$F$9,D13='Выбор ГЭСН'!$D$9),'Выбор ГЭСН'!$A$9,IF(AND(OR(C13="Алюминий",C13="Биметалл"),ISNUMBER(E13),MOD(E13,1)=0,E13>'Выбор ГЭСН'!$E$10,E13<='Выбор ГЭСН'!$F$10,D13='Выбор ГЭСН'!$D$10),'Выбор ГЭСН'!$A$10,IF(AND(OR(C13="Алюминий",C13="Биметалл"),ISNUMBER(E13),MOD(E13,1)=0,E13>'Выбор ГЭСН'!$E$11,E13<='Выбор ГЭСН'!$F$11,D13='Выбор ГЭСН'!$D$11),'Выбор ГЭСН'!$A$11,IF(AND(OR(C13="Алюминий",C13="Биметалл"),ISNUMBER(E13),MOD(E13,1)=0,E13>'Выбор ГЭСН'!$E$12,E13<='Выбор ГЭСН'!$F$12,D13='Выбор ГЭСН'!$D$12),'Выбор ГЭСН'!$A$12,IF(AND(OR(C13="Алюминий",C13="Биметалл"),ISNUMBER(E13),MOD(E13,1)=0,E13>'Выбор ГЭСН'!$E$13,E13<='Выбор ГЭСН'!$F$13,D13='Выбор ГЭСН'!$D$13),'Выбор ГЭСН'!$A$13,IF(AND(OR(C13="Алюминий",C13="Биметалл"),ISNUMBER(E13),MOD(E13,1)=0,E13>'Выбор ГЭСН'!$E$14,E13<='Выбор ГЭСН'!$F$14,D13='Выбор ГЭСН'!$D$14),'Выбор ГЭСН'!$A$14,IF(AND(C13='Выбор ГЭСН'!$C$15,ISNUMBER(E13),MOD(E13,1)=0,E13>'Выбор ГЭСН'!$E$15,E13<='Выбор ГЭСН'!$F$15),'Выбор ГЭСН'!$A$15,IF(AND(C13='Выбор ГЭСН'!$C$16,ISNUMBER(E13),MOD(E13,1)=0,E13>'Выбор ГЭСН'!$E$16,E13<='Выбор ГЭСН'!$F$16),'Выбор ГЭСН'!$A$16,IF(AND(C13='Выбор ГЭСН'!$C$17,ISNUMBER(E13),MOD(E13,1)=0,E13>'Выбор ГЭСН'!$E$17,E13<='Выбор ГЭСН'!$F$17),'Выбор ГЭСН'!$A$17,IF(AND(C13='Выбор ГЭСН'!$C$18,ISNUMBER(E13),MOD(E13,1)=0,E13>'Выбор ГЭСН'!$E$18,E13<='Выбор ГЭСН'!$F$18),'Выбор ГЭСН'!$A$18,IF(AND(C13='Выбор ГЭСН'!$C$19,ISNUMBER(E13),MOD(E13,1)=0,E13>'Выбор ГЭСН'!$E$19,E13<='Выбор ГЭСН'!$F$19),'Выбор ГЭСН'!$A$19,IF(AND(C13='Выбор ГЭСН'!$C$20,ISNUMBER(E13),MOD(E13,1)=0,E13>'Выбор ГЭСН'!$E$20,E13<='Выбор ГЭСН'!$F$20),'Выбор ГЭСН'!$A$20,IF(AND(C13='Выбор ГЭСН'!$C$21,ISNUMBER(G13),MOD(G13,1)=0,G13>'Выбор ГЭСН'!$H$21,G13<='Выбор ГЭСН'!$I$21,D13='Выбор ГЭСН'!$D$21,F13='Выбор ГЭСН'!$G$21),'Выбор ГЭСН'!$A$21,IF(AND(C13='Выбор ГЭСН'!$C$22,ISNUMBER(G13),MOD(G13,1)=0,G13>'Выбор ГЭСН'!$H$22,G13<='Выбор ГЭСН'!$I$22,D13='Выбор ГЭСН'!$D$22,F13='Выбор ГЭСН'!$G$22),'Выбор ГЭСН'!$A$22,IF(AND(C13='Выбор ГЭСН'!$C$23,ISNUMBER(G13),MOD(G13,1)=0,G13>'Выбор ГЭСН'!$H$23,G13<='Выбор ГЭСН'!$I$23,D13='Выбор ГЭСН'!$D$23,F13='Выбор ГЭСН'!$G$23),'Выбор ГЭСН'!$A$23,IF(AND(C13='Выбор ГЭСН'!$C$24,ISNUMBER(G13),MOD(G13,1)=0,G13>'Выбор ГЭСН'!$H$24,G13<='Выбор ГЭСН'!$I$24,D13='Выбор ГЭСН'!$D$24,F13='Выбор ГЭСН'!$G$24),'Выбор ГЭСН'!$A$24,IF(AND(C13='Выбор ГЭСН'!$C$25,ISNUMBER(G13),MOD(G13,1)=0,G13>'Выбор ГЭСН'!$H$25,G13<='Выбор ГЭСН'!$I$25,D13='Выбор ГЭСН'!$D$25,F13='Выбор ГЭСН'!$G$25),'Выбор ГЭСН'!$A$25,IF(AND(C13='Выбор ГЭСН'!$C$26,ISNUMBER(G13),MOD(G13,1)=0,G13>'Выбор ГЭСН'!$H$26,G13<='Выбор ГЭСН'!$I$26,D13='Выбор ГЭСН'!$D$26,F13='Выбор ГЭСН'!$G$26),'Выбор ГЭСН'!$A$26,IF(AND(C13='Выбор ГЭСН'!$C$27,ISNUMBER(G13),MOD(G13,1)=0,G13>'Выбор ГЭСН'!$H$27,G13<='Выбор ГЭСН'!$I$27,D13='Выбор ГЭСН'!$D$27,F13='Выбор ГЭСН'!$G$27),'Выбор ГЭСН'!$A$27,IF(AND(C13='Выбор ГЭСН'!$C$28,ISNUMBER(G13),MOD(G13,1)=0,G13>'Выбор ГЭСН'!$H$28,G13<='Выбор ГЭСН'!$I$28,D13='Выбор ГЭСН'!$D$28,F13='Выбор ГЭСН'!$G$28),'Выбор ГЭСН'!$A$28,IF(AND(C13='Выбор ГЭСН'!$C$29,ISNUMBER(G13),MOD(G13,1)=0,G13>'Выбор ГЭСН'!$H$29,G13<='Выбор ГЭСН'!$I$29,D13='Выбор ГЭСН'!$D$29,F13='Выбор ГЭСН'!$G$29),'Выбор ГЭСН'!$A$29,IF(AND(C13='Выбор ГЭСН'!$C$30,ISNUMBER(G13),MOD(G13,1)=0,G13>'Выбор ГЭСН'!$H$30,G13<='Выбор ГЭСН'!$I$30,D13='Выбор ГЭСН'!$D$30,F13='Выбор ГЭСН'!$G$30),'Выбор ГЭСН'!$A$30,IF(AND(C13='Выбор ГЭСН'!$C$31,ISNUMBER(G13),MOD(G13,1)=0,G13>'Выбор ГЭСН'!$H$31,G13<='Выбор ГЭСН'!$I$31,D13='Выбор ГЭСН'!$D$31,F13='Выбор ГЭСН'!$G$31),'Выбор ГЭСН'!$A$31,IF(AND(C13='Выбор ГЭСН'!$C$32,ISNUMBER(G13),MOD(G13,1)=0,G13>'Выбор ГЭСН'!$H$32,G13<='Выбор ГЭСН'!$I$32,D13='Выбор ГЭСН'!$D$32,F13='Выбор ГЭСН'!$G$32),'Выбор ГЭСН'!$A$32,IF(AND(C13='Выбор ГЭСН'!$C$33,ISNUMBER(G13),MOD(G13,1)=0,G13>'Выбор ГЭСН'!$H$33,G13<='Выбор ГЭСН'!$I$33,D13='Выбор ГЭСН'!$D$33,F13='Выбор ГЭСН'!$G$33),'Выбор ГЭСН'!$A$33,IF(AND(C13='Выбор ГЭСН'!$C$34,ISNUMBER(G13),MOD(G13,1)=0,G13>'Выбор ГЭСН'!$H$34,G13<='Выбор ГЭСН'!$I$34,D13='Выбор ГЭСН'!$D$34,F13='Выбор ГЭСН'!$G$34),'Выбор ГЭСН'!$A$34,IF(AND(C13='Выбор ГЭСН'!$C$35,ISNUMBER(G13),MOD(G13,1)=0,G13>'Выбор ГЭСН'!$H$35,G13<='Выбор ГЭСН'!$I$35,D13='Выбор ГЭСН'!$D$35,F13='Выбор ГЭСН'!$G$35),'Выбор ГЭСН'!$A$35,IF(AND(C13='Выбор ГЭСН'!$C$36,ISNUMBER(G13),MOD(G13,1)=0,G13>'Выбор ГЭСН'!$H$36,G13<='Выбор ГЭСН'!$I$36,D13='Выбор ГЭСН'!$D$36,F13='Выбор ГЭСН'!$G$36),'Выбор ГЭСН'!$A$36,"Проверка сметчиком"))))))))))))))))))))))))))))) | L13: =IF(OR(K13="",K13="Проверка сметчиком"),"","100 шт") | M13: =IF(AND(ISNUMBER(H13),H13>0,MOD(H13,1)=0,K13<>"",K13<>"Проверка сметчиком"),H13/100,"") | N13: =IF(C13="","",IF(K13="Проверка сметчиком",K13,IF(M13="","Уточните количество",IF(OR(B13="",I13="",J13=""),"Уточните марку и комплект","Сверьте норму и комплект"))))
A14: 6 | K14: =IF(C14="","",IF(AND(OR(C14="Алюминий",C14="Биметалл"),ISNUMBER(E14),MOD(E14,1)=0,E14>'Выбор ГЭСН'!$E$9,E14<='Выбор ГЭСН'!$F$9,D14='Выбор ГЭСН'!$D$9),'Выбор ГЭСН'!$A$9,IF(AND(OR(C14="Алюминий",C14="Биметалл"),ISNUMBER(E14),MOD(E14,1)=0,E14>'Выбор ГЭСН'!$E$10,E14<='Выбор ГЭСН'!$F$10,D14='Выбор ГЭСН'!$D$10),'Выбор ГЭСН'!$A$10,IF(AND(OR(C14="Алюминий",C14="Биметалл"),ISNUMBER(E14),MOD(E14,1)=0,E14>'Выбор ГЭСН'!$E$11,E14<='Выбор ГЭСН'!$F$11,D14='Выбор ГЭСН'!$D$11),'Выбор ГЭСН'!$A$11,IF(AND(OR(C14="Алюминий",C14="Биметалл"),ISNUMBER(E14),MOD(E14,1)=0,E14>'Выбор ГЭСН'!$E$12,E14<='Выбор ГЭСН'!$F$12,D14='Выбор ГЭСН'!$D$12),'Выбор ГЭСН'!$A$12,IF(AND(OR(C14="Алюминий",C14="Биметалл"),ISNUMBER(E14),MOD(E14,1)=0,E14>'Выбор ГЭСН'!$E$13,E14<='Выбор ГЭСН'!$F$13,D14='Выбор ГЭСН'!$D$13),'Выбор ГЭСН'!$A$13,IF(AND(OR(C14="Алюминий",C14="Биметалл"),ISNUMBER(E14),MOD(E14,1)=0,E14>'Выбор ГЭСН'!$E$14,E14<='Выбор ГЭСН'!$F$14,D14='Выбор ГЭСН'!$D$14),'Выбор ГЭСН'!$A$14,IF(AND(C14='Выбор ГЭСН'!$C$15,ISNUMBER(E14),MOD(E14,1)=0,E14>'Выбор ГЭСН'!$E$15,E14<='Выбор ГЭСН'!$F$15),'Выбор ГЭСН'!$A$15,IF(AND(C14='Выбор ГЭСН'!$C$16,ISNUMBER(E14),MOD(E14,1)=0,E14>'Выбор ГЭСН'!$E$16,E14<='Выбор ГЭСН'!$F$16),'Выбор ГЭСН'!$A$16,IF(AND(C14='Выбор ГЭСН'!$C$17,ISNUMBER(E14),MOD(E14,1)=0,E14>'Выбор ГЭСН'!$E$17,E14<='Выбор ГЭСН'!$F$17),'Выбор ГЭСН'!$A$17,IF(AND(C14='Выбор ГЭСН'!$C$18,ISNUMBER(E14),MOD(E14,1)=0,E14>'Выбор ГЭСН'!$E$18,E14<='Выбор ГЭСН'!$F$18),'Выбор ГЭСН'!$A$18,IF(AND(C14='Выбор ГЭСН'!$C$19,ISNUMBER(E14),MOD(E14,1)=0,E14>'Выбор ГЭСН'!$E$19,E14<='Выбор ГЭСН'!$F$19),'Выбор ГЭСН'!$A$19,IF(AND(C14='Выбор ГЭСН'!$C$20,ISNUMBER(E14),MOD(E14,1)=0,E14>'Выбор ГЭСН'!$E$20,E14<='Выбор ГЭСН'!$F$20),'Выбор ГЭСН'!$A$20,IF(AND(C14='Выбор ГЭСН'!$C$21,ISNUMBER(G14),MOD(G14,1)=0,G14>'Выбор ГЭСН'!$H$21,G14<='Выбор ГЭСН'!$I$21,D14='Выбор ГЭСН'!$D$21,F14='Выбор ГЭСН'!$G$21),'Выбор ГЭСН'!$A$21,IF(AND(C14='Выбор ГЭСН'!$C$22,ISNUMBER(G14),MOD(G14,1)=0,G14>'Выбор ГЭСН'!$H$22,G14<='Выбор ГЭСН'!$I$22,D14='Выбор ГЭСН'!$D$22,F14='Выбор ГЭСН'!$G$22),'Выбор ГЭСН'!$A$22,IF(AND(C14='Выбор ГЭСН'!$C$23,ISNUMBER(G14),MOD(G14,1)=0,G14>'Выбор ГЭСН'!$H$23,G14<='Выбор ГЭСН'!$I$23,D14='Выбор ГЭСН'!$D$23,F14='Выбор ГЭСН'!$G$23),'Выбор ГЭСН'!$A$23,IF(AND(C14='Выбор ГЭСН'!$C$24,ISNUMBER(G14),MOD(G14,1)=0,G14>'Выбор ГЭСН'!$H$24,G14<='Выбор ГЭСН'!$I$24,D14='Выбор ГЭСН'!$D$24,F14='Выбор ГЭСН'!$G$24),'Выбор ГЭСН'!$A$24,IF(AND(C14='Выбор ГЭСН'!$C$25,ISNUMBER(G14),MOD(G14,1)=0,G14>'Выбор ГЭСН'!$H$25,G14<='Выбор ГЭСН'!$I$25,D14='Выбор ГЭСН'!$D$25,F14='Выбор ГЭСН'!$G$25),'Выбор ГЭСН'!$A$25,IF(AND(C14='Выбор ГЭСН'!$C$26,ISNUMBER(G14),MOD(G14,1)=0,G14>'Выбор ГЭСН'!$H$26,G14<='Выбор ГЭСН'!$I$26,D14='Выбор ГЭСН'!$D$26,F14='Выбор ГЭСН'!$G$26),'Выбор ГЭСН'!$A$26,IF(AND(C14='Выбор ГЭСН'!$C$27,ISNUMBER(G14),MOD(G14,1)=0,G14>'Выбор ГЭСН'!$H$27,G14<='Выбор ГЭСН'!$I$27,D14='Выбор ГЭСН'!$D$27,F14='Выбор ГЭСН'!$G$27),'Выбор ГЭСН'!$A$27,IF(AND(C14='Выбор ГЭСН'!$C$28,ISNUMBER(G14),MOD(G14,1)=0,G14>'Выбор ГЭСН'!$H$28,G14<='Выбор ГЭСН'!$I$28,D14='Выбор ГЭСН'!$D$28,F14='Выбор ГЭСН'!$G$28),'Выбор ГЭСН'!$A$28,IF(AND(C14='Выбор ГЭСН'!$C$29,ISNUMBER(G14),MOD(G14,1)=0,G14>'Выбор ГЭСН'!$H$29,G14<='Выбор ГЭСН'!$I$29,D14='Выбор ГЭСН'!$D$29,F14='Выбор ГЭСН'!$G$29),'Выбор ГЭСН'!$A$29,IF(AND(C14='Выбор ГЭСН'!$C$30,ISNUMBER(G14),MOD(G14,1)=0,G14>'Выбор ГЭСН'!$H$30,G14<='Выбор ГЭСН'!$I$30,D14='Выбор ГЭСН'!$D$30,F14='Выбор ГЭСН'!$G$30),'Выбор ГЭСН'!$A$30,IF(AND(C14='Выбор ГЭСН'!$C$31,ISNUMBER(G14),MOD(G14,1)=0,G14>'Выбор ГЭСН'!$H$31,G14<='Выбор ГЭСН'!$I$31,D14='Выбор ГЭСН'!$D$31,F14='Выбор ГЭСН'!$G$31),'Выбор ГЭСН'!$A$31,IF(AND(C14='Выбор ГЭСН'!$C$32,ISNUMBER(G14),MOD(G14,1)=0,G14>'Выбор ГЭСН'!$H$32,G14<='Выбор ГЭСН'!$I$32,D14='Выбор ГЭСН'!$D$32,F14='Выбор ГЭСН'!$G$32),'Выбор ГЭСН'!$A$32,IF(AND(C14='Выбор ГЭСН'!$C$33,ISNUMBER(G14),MOD(G14,1)=0,G14>'Выбор ГЭСН'!$H$33,G14<='Выбор ГЭСН'!$I$33,D14='Выбор ГЭСН'!$D$33,F14='Выбор ГЭСН'!$G$33),'Выбор ГЭСН'!$A$33,IF(AND(C14='Выбор ГЭСН'!$C$34,ISNUMBER(G14),MOD(G14,1)=0,G14>'Выбор ГЭСН'!$H$34,G14<='Выбор ГЭСН'!$I$34,D14='Выбор ГЭСН'!$D$34,F14='Выбор ГЭСН'!$G$34),'Выбор ГЭСН'!$A$34,IF(AND(C14='Выбор ГЭСН'!$C$35,ISNUMBER(G14),MOD(G14,1)=0,G14>'Выбор ГЭСН'!$H$35,G14<='Выбор ГЭСН'!$I$35,D14='Выбор ГЭСН'!$D$35,F14='Выбор ГЭСН'!$G$35),'Выбор ГЭСН'!$A$35,IF(AND(C14='Выбор ГЭСН'!$C$36,ISNUMBER(G14),MOD(G14,1)=0,G14>'Выбор ГЭСН'!$H$36,G14<='Выбор ГЭСН'!$I$36,D14='Выбор ГЭСН'!$D$36,F14='Выбор ГЭСН'!$G$36),'Выбор ГЭСН'!$A$36,"Проверка сметчиком"))))))))))))))))))))))))))))) | L14: =IF(OR(K14="",K14="Проверка сметчиком"),"","100 шт") | M14: =IF(AND(ISNUMBER(H14),H14>0,MOD(H14,1)=0,K14<>"",K14<>"Проверка сметчиком"),H14/100,"") | N14: =IF(C14="","",IF(K14="Проверка сметчиком",K14,IF(M14="","Уточните количество",IF(OR(B14="",I14="",J14=""),"Уточните марку и комплект","Сверьте норму и комплект"))))
A15: 7 | K15: =IF(C15="","",IF(AND(OR(C15="Алюминий",C15="Биметалл"),ISNUMBER(E15),MOD(E15,1)=0,E15>'Выбор ГЭСН'!$E$9,E15<='Выбор ГЭСН'!$F$9,D15='Выбор ГЭСН'!$D$9),'Выбор ГЭСН'!$A$9,IF(AND(OR(C15="Алюминий",C15="Биметалл"),ISNUMBER(E15),MOD(E15,1)=0,E15>'Выбор ГЭСН'!$E$10,E15<='Выбор ГЭСН'!$F$10,D15='Выбор ГЭСН'!$D$10),'Выбор ГЭСН'!$A$10,IF(AND(OR(C15="Алюминий",C15="Биметалл"),ISNUMBER(E15),MOD(E15,1)=0,E15>'Выбор ГЭСН'!$E$11,E15<='Выбор ГЭСН'!$F$11,D15='Выбор ГЭСН'!$D$11),'Выбор ГЭСН'!$A$11,IF(AND(OR(C15="Алюминий",C15="Биметалл"),ISNUMBER(E15),MOD(E15,1)=0,E15>'Выбор ГЭСН'!$E$12,E15<='Выбор ГЭСН'!$F$12,D15='Выбор ГЭСН'!$D$12),'Выбор ГЭСН'!$A$12,IF(AND(OR(C15="Алюминий",C15="Биметалл"),ISNUMBER(E15),MOD(E15,1)=0,E15>'Выбор ГЭСН'!$E$13,E15<='Выбор ГЭСН'!$F$13,D15='Выбор ГЭСН'!$D$13),'Выбор ГЭСН'!$A$13,IF(AND(OR(C15="Алюминий",C15="Биметалл"),ISNUMBER(E15),MOD(E15,1)=0,E15>'Выбор ГЭСН'!$E$14,E15<='Выбор ГЭСН'!$F$14,D15='Выбор ГЭСН'!$D$14),'Выбор ГЭСН'!$A$14,IF(AND(C15='Выбор ГЭСН'!$C$15,ISNUMBER(E15),MOD(E15,1)=0,E15>'Выбор ГЭСН'!$E$15,E15<='Выбор ГЭСН'!$F$15),'Выбор ГЭСН'!$A$15,IF(AND(C15='Выбор ГЭСН'!$C$16,ISNUMBER(E15),MOD(E15,1)=0,E15>'Выбор ГЭСН'!$E$16,E15<='Выбор ГЭСН'!$F$16),'Выбор ГЭСН'!$A$16,IF(AND(C15='Выбор ГЭСН'!$C$17,ISNUMBER(E15),MOD(E15,1)=0,E15>'Выбор ГЭСН'!$E$17,E15<='Выбор ГЭСН'!$F$17),'Выбор ГЭСН'!$A$17,IF(AND(C15='Выбор ГЭСН'!$C$18,ISNUMBER(E15),MOD(E15,1)=0,E15>'Выбор ГЭСН'!$E$18,E15<='Выбор ГЭСН'!$F$18),'Выбор ГЭСН'!$A$18,IF(AND(C15='Выбор ГЭСН'!$C$19,ISNUMBER(E15),MOD(E15,1)=0,E15>'Выбор ГЭСН'!$E$19,E15<='Выбор ГЭСН'!$F$19),'Выбор ГЭСН'!$A$19,IF(AND(C15='Выбор ГЭСН'!$C$20,ISNUMBER(E15),MOD(E15,1)=0,E15>'Выбор ГЭСН'!$E$20,E15<='Выбор ГЭСН'!$F$20),'Выбор ГЭСН'!$A$20,IF(AND(C15='Выбор ГЭСН'!$C$21,ISNUMBER(G15),MOD(G15,1)=0,G15>'Выбор ГЭСН'!$H$21,G15<='Выбор ГЭСН'!$I$21,D15='Выбор ГЭСН'!$D$21,F15='Выбор ГЭСН'!$G$21),'Выбор ГЭСН'!$A$21,IF(AND(C15='Выбор ГЭСН'!$C$22,ISNUMBER(G15),MOD(G15,1)=0,G15>'Выбор ГЭСН'!$H$22,G15<='Выбор ГЭСН'!$I$22,D15='Выбор ГЭСН'!$D$22,F15='Выбор ГЭСН'!$G$22),'Выбор ГЭСН'!$A$22,IF(AND(C15='Выбор ГЭСН'!$C$23,ISNUMBER(G15),MOD(G15,1)=0,G15>'Выбор ГЭСН'!$H$23,G15<='Выбор ГЭСН'!$I$23,D15='Выбор ГЭСН'!$D$23,F15='Выбор ГЭСН'!$G$23),'Выбор ГЭСН'!$A$23,IF(AND(C15='Выбор ГЭСН'!$C$24,ISNUMBER(G15),MOD(G15,1)=0,G15>'Выбор ГЭСН'!$H$24,G15<='Выбор ГЭСН'!$I$24,D15='Выбор ГЭСН'!$D$24,F15='Выбор ГЭСН'!$G$24),'Выбор ГЭСН'!$A$24,IF(AND(C15='Выбор ГЭСН'!$C$25,ISNUMBER(G15),MOD(G15,1)=0,G15>'Выбор ГЭСН'!$H$25,G15<='Выбор ГЭСН'!$I$25,D15='Выбор ГЭСН'!$D$25,F15='Выбор ГЭСН'!$G$25),'Выбор ГЭСН'!$A$25,IF(AND(C15='Выбор ГЭСН'!$C$26,ISNUMBER(G15),MOD(G15,1)=0,G15>'Выбор ГЭСН'!$H$26,G15<='Выбор ГЭСН'!$I$26,D15='Выбор ГЭСН'!$D$26,F15='Выбор ГЭСН'!$G$26),'Выбор ГЭСН'!$A$26,IF(AND(C15='Выбор ГЭСН'!$C$27,ISNUMBER(G15),MOD(G15,1)=0,G15>'Выбор ГЭСН'!$H$27,G15<='Выбор ГЭСН'!$I$27,D15='Выбор ГЭСН'!$D$27,F15='Выбор ГЭСН'!$G$27),'Выбор ГЭСН'!$A$27,IF(AND(C15='Выбор ГЭСН'!$C$28,ISNUMBER(G15),MOD(G15,1)=0,G15>'Выбор ГЭСН'!$H$28,G15<='Выбор ГЭСН'!$I$28,D15='Выбор ГЭСН'!$D$28,F15='Выбор ГЭСН'!$G$28),'Выбор ГЭСН'!$A$28,IF(AND(C15='Выбор ГЭСН'!$C$29,ISNUMBER(G15),MOD(G15,1)=0,G15>'Выбор ГЭСН'!$H$29,G15<='Выбор ГЭСН'!$I$29,D15='Выбор ГЭСН'!$D$29,F15='Выбор ГЭСН'!$G$29),'Выбор ГЭСН'!$A$29,IF(AND(C15='Выбор ГЭСН'!$C$30,ISNUMBER(G15),MOD(G15,1)=0,G15>'Выбор ГЭСН'!$H$30,G15<='Выбор ГЭСН'!$I$30,D15='Выбор ГЭСН'!$D$30,F15='Выбор ГЭСН'!$G$30),'Выбор ГЭСН'!$A$30,IF(AND(C15='Выбор ГЭСН'!$C$31,ISNUMBER(G15),MOD(G15,1)=0,G15>'Выбор ГЭСН'!$H$31,G15<='Выбор ГЭСН'!$I$31,D15='Выбор ГЭСН'!$D$31,F15='Выбор ГЭСН'!$G$31),'Выбор ГЭСН'!$A$31,IF(AND(C15='Выбор ГЭСН'!$C$32,ISNUMBER(G15),MOD(G15,1)=0,G15>'Выбор ГЭСН'!$H$32,G15<='Выбор ГЭСН'!$I$32,D15='Выбор ГЭСН'!$D$32,F15='Выбор ГЭСН'!$G$32),'Выбор ГЭСН'!$A$32,IF(AND(C15='Выбор ГЭСН'!$C$33,ISNUMBER(G15),MOD(G15,1)=0,G15>'Выбор ГЭСН'!$H$33,G15<='Выбор ГЭСН'!$I$33,D15='Выбор ГЭСН'!$D$33,F15='Выбор ГЭСН'!$G$33),'Выбор ГЭСН'!$A$33,IF(AND(C15='Выбор ГЭСН'!$C$34,ISNUMBER(G15),MOD(G15,1)=0,G15>'Выбор ГЭСН'!$H$34,G15<='Выбор ГЭСН'!$I$34,D15='Выбор ГЭСН'!$D$34,F15='Выбор ГЭСН'!$G$34),'Выбор ГЭСН'!$A$34,IF(AND(C15='Выбор ГЭСН'!$C$35,ISNUMBER(G15),MOD(G15,1)=0,G15>'Выбор ГЭСН'!$H$35,G15<='Выбор ГЭСН'!$I$35,D15='Выбор ГЭСН'!$D$35,F15='Выбор ГЭСН'!$G$35),'Выбор ГЭСН'!$A$35,IF(AND(C15='Выбор ГЭСН'!$C$36,ISNUMBER(G15),MOD(G15,1)=0,G15>'Выбор ГЭСН'!$H$36,G15<='Выбор ГЭСН'!$I$36,D15='Выбор ГЭСН'!$D$36,F15='Выбор ГЭСН'!$G$36),'Выбор ГЭСН'!$A$36,"Проверка сметчиком"))))))))))))))))))))))))))))) | L15: =IF(OR(K15="",K15="Проверка сметчиком"),"","100 шт") | M15: =IF(AND(ISNUMBER(H15),H15>0,MOD(H15,1)=0,K15<>"",K15<>"Проверка сметчиком"),H15/100,"") | N15: =IF(C15="","",IF(K15="Проверка сметчиком",K15,IF(M15="","Уточните количество",IF(OR(B15="",I15="",J15=""),"Уточните марку и комплект","Сверьте норму и комплект"))))
A16: 8 | K16: =IF(C16="","",IF(AND(OR(C16="Алюминий",C16="Биметалл"),ISNUMBER(E16),MOD(E16,1)=0,E16>'Выбор ГЭСН'!$E$9,E16<='Выбор ГЭСН'!$F$9,D16='Выбор ГЭСН'!$D$9),'Выбор ГЭСН'!$A$9,IF(AND(OR(C16="Алюминий",C16="Биметалл"),ISNUMBER(E16),MOD(E16,1)=0,E16>'Выбор ГЭСН'!$E$10,E16<='Выбор ГЭСН'!$F$10,D16='Выбор ГЭСН'!$D$10),'Выбор ГЭСН'!$A$10,IF(AND(OR(C16="Алюминий",C16="Биметалл"),ISNUMBER(E16),MOD(E16,1)=0,E16>'Выбор ГЭСН'!$E$11,E16<='Выбор ГЭСН'!$F$11,D16='Выбор ГЭСН'!$D$11),'Выбор ГЭСН'!$A$11,IF(AND(OR(C16="Алюминий",C16="Биметалл"),ISNUMBER(E16),MOD(E16,1)=0,E16>'Выбор ГЭСН'!$E$12,E16<='Выбор ГЭСН'!$F$12,D16='Выбор ГЭСН'!$D$12),'Выбор ГЭСН'!$A$12,IF(AND(OR(C16="Алюминий",C16="Биметалл"),ISNUMBER(E16),MOD(E16,1)=0,E16>'Выбор ГЭСН'!$E$13,E16<='Выбор ГЭСН'!$F$13,D16='Выбор ГЭСН'!$D$13),'Выбор ГЭСН'!$A$13,IF(AND(OR(C16="Алюминий",C16="Биметалл"),ISNUMBER(E16),MOD(E16,1)=0,E16>'Выбор ГЭСН'!$E$14,E16<='Выбор ГЭСН'!$F$14,D16='Выбор ГЭСН'!$D$14),'Выбор ГЭСН'!$A$14,IF(AND(C16='Выбор ГЭСН'!$C$15,ISNUMBER(E16),MOD(E16,1)=0,E16>'Выбор ГЭСН'!$E$15,E16<='Выбор ГЭСН'!$F$15),'Выбор ГЭСН'!$A$15,IF(AND(C16='Выбор ГЭСН'!$C$16,ISNUMBER(E16),MOD(E16,1)=0,E16>'Выбор ГЭСН'!$E$16,E16<='Выбор ГЭСН'!$F$16),'Выбор ГЭСН'!$A$16,IF(AND(C16='Выбор ГЭСН'!$C$17,ISNUMBER(E16),MOD(E16,1)=0,E16>'Выбор ГЭСН'!$E$17,E16<='Выбор ГЭСН'!$F$17),'Выбор ГЭСН'!$A$17,IF(AND(C16='Выбор ГЭСН'!$C$18,ISNUMBER(E16),MOD(E16,1)=0,E16>'Выбор ГЭСН'!$E$18,E16<='Выбор ГЭСН'!$F$18),'Выбор ГЭСН'!$A$18,IF(AND(C16='Выбор ГЭСН'!$C$19,ISNUMBER(E16),MOD(E16,1)=0,E16>'Выбор ГЭСН'!$E$19,E16<='Выбор ГЭСН'!$F$19),'Выбор ГЭСН'!$A$19,IF(AND(C16='Выбор ГЭСН'!$C$20,ISNUMBER(E16),MOD(E16,1)=0,E16>'Выбор ГЭСН'!$E$20,E16<='Выбор ГЭСН'!$F$20),'Выбор ГЭСН'!$A$20,IF(AND(C16='Выбор ГЭСН'!$C$21,ISNUMBER(G16),MOD(G16,1)=0,G16>'Выбор ГЭСН'!$H$21,G16<='Выбор ГЭСН'!$I$21,D16='Выбор ГЭСН'!$D$21,F16='Выбор ГЭСН'!$G$21),'Выбор ГЭСН'!$A$21,IF(AND(C16='Выбор ГЭСН'!$C$22,ISNUMBER(G16),MOD(G16,1)=0,G16>'Выбор ГЭСН'!$H$22,G16<='Выбор ГЭСН'!$I$22,D16='Выбор ГЭСН'!$D$22,F16='Выбор ГЭСН'!$G$22),'Выбор ГЭСН'!$A$22,IF(AND(C16='Выбор ГЭСН'!$C$23,ISNUMBER(G16),MOD(G16,1)=0,G16>'Выбор ГЭСН'!$H$23,G16<='Выбор ГЭСН'!$I$23,D16='Выбор ГЭСН'!$D$23,F16='Выбор ГЭСН'!$G$23),'Выбор ГЭСН'!$A$23,IF(AND(C16='Выбор ГЭСН'!$C$24,ISNUMBER(G16),MOD(G16,1)=0,G16>'Выбор ГЭСН'!$H$24,G16<='Выбор ГЭСН'!$I$24,D16='Выбор ГЭСН'!$D$24,F16='Выбор ГЭСН'!$G$24),'Выбор ГЭСН'!$A$24,IF(AND(C16='Выбор ГЭСН'!$C$25,ISNUMBER(G16),MOD(G16,1)=0,G16>'Выбор ГЭСН'!$H$25,G16<='Выбор ГЭСН'!$I$25,D16='Выбор ГЭСН'!$D$25,F16='Выбор ГЭСН'!$G$25),'Выбор ГЭСН'!$A$25,IF(AND(C16='Выбор ГЭСН'!$C$26,ISNUMBER(G16),MOD(G16,1)=0,G16>'Выбор ГЭСН'!$H$26,G16<='Выбор ГЭСН'!$I$26,D16='Выбор ГЭСН'!$D$26,F16='Выбор ГЭСН'!$G$26),'Выбор ГЭСН'!$A$26,IF(AND(C16='Выбор ГЭСН'!$C$27,ISNUMBER(G16),MOD(G16,1)=0,G16>'Выбор ГЭСН'!$H$27,G16<='Выбор ГЭСН'!$I$27,D16='Выбор ГЭСН'!$D$27,F16='Выбор ГЭСН'!$G$27),'Выбор ГЭСН'!$A$27,IF(AND(C16='Выбор ГЭСН'!$C$28,ISNUMBER(G16),MOD(G16,1)=0,G16>'Выбор ГЭСН'!$H$28,G16<='Выбор ГЭСН'!$I$28,D16='Выбор ГЭСН'!$D$28,F16='Выбор ГЭСН'!$G$28),'Выбор ГЭСН'!$A$28,IF(AND(C16='Выбор ГЭСН'!$C$29,ISNUMBER(G16),MOD(G16,1)=0,G16>'Выбор ГЭСН'!$H$29,G16<='Выбор ГЭСН'!$I$29,D16='Выбор ГЭСН'!$D$29,F16='Выбор ГЭСН'!$G$29),'Выбор ГЭСН'!$A$29,IF(AND(C16='Выбор ГЭСН'!$C$30,ISNUMBER(G16),MOD(G16,1)=0,G16>'Выбор ГЭСН'!$H$30,G16<='Выбор ГЭСН'!$I$30,D16='Выбор ГЭСН'!$D$30,F16='Выбор ГЭСН'!$G$30),'Выбор ГЭСН'!$A$30,IF(AND(C16='Выбор ГЭСН'!$C$31,ISNUMBER(G16),MOD(G16,1)=0,G16>'Выбор ГЭСН'!$H$31,G16<='Выбор ГЭСН'!$I$31,D16='Выбор ГЭСН'!$D$31,F16='Выбор ГЭСН'!$G$31),'Выбор ГЭСН'!$A$31,IF(AND(C16='Выбор ГЭСН'!$C$32,ISNUMBER(G16),MOD(G16,1)=0,G16>'Выбор ГЭСН'!$H$32,G16<='Выбор ГЭСН'!$I$32,D16='Выбор ГЭСН'!$D$32,F16='Выбор ГЭСН'!$G$32),'Выбор ГЭСН'!$A$32,IF(AND(C16='Выбор ГЭСН'!$C$33,ISNUMBER(G16),MOD(G16,1)=0,G16>'Выбор ГЭСН'!$H$33,G16<='Выбор ГЭСН'!$I$33,D16='Выбор ГЭСН'!$D$33,F16='Выбор ГЭСН'!$G$33),'Выбор ГЭСН'!$A$33,IF(AND(C16='Выбор ГЭСН'!$C$34,ISNUMBER(G16),MOD(G16,1)=0,G16>'Выбор ГЭСН'!$H$34,G16<='Выбор ГЭСН'!$I$34,D16='Выбор ГЭСН'!$D$34,F16='Выбор ГЭСН'!$G$34),'Выбор ГЭСН'!$A$34,IF(AND(C16='Выбор ГЭСН'!$C$35,ISNUMBER(G16),MOD(G16,1)=0,G16>'Выбор ГЭСН'!$H$35,G16<='Выбор ГЭСН'!$I$35,D16='Выбор ГЭСН'!$D$35,F16='Выбор ГЭСН'!$G$35),'Выбор ГЭСН'!$A$35,IF(AND(C16='Выбор ГЭСН'!$C$36,ISNUMBER(G16),MOD(G16,1)=0,G16>'Выбор ГЭСН'!$H$36,G16<='Выбор ГЭСН'!$I$36,D16='Выбор ГЭСН'!$D$36,F16='Выбор ГЭСН'!$G$36),'Выбор ГЭСН'!$A$36,"Проверка сметчиком"))))))))))))))))))))))))))))) | L16: =IF(OR(K16="",K16="Проверка сметчиком"),"","100 шт") | M16: =IF(AND(ISNUMBER(H16),H16>0,MOD(H16,1)=0,K16<>"",K16<>"Проверка сметчиком"),H16/100,"") | N16: =IF(C16="","",IF(K16="Проверка сметчиком",K16,IF(M16="","Уточните количество",IF(OR(B16="",I16="",J16=""),"Уточните марку и комплект","Сверьте норму и комплект"))))
A17: 9 | K17: =IF(C17="","",IF(AND(OR(C17="Алюминий",C17="Биметалл"),ISNUMBER(E17),MOD(E17,1)=0,E17>'Выбор ГЭСН'!$E$9,E17<='Выбор ГЭСН'!$F$9,D17='Выбор ГЭСН'!$D$9),'Выбор ГЭСН'!$A$9,IF(AND(OR(C17="Алюминий",C17="Биметалл"),ISNUMBER(E17),MOD(E17,1)=0,E17>'Выбор ГЭСН'!$E$10,E17<='Выбор ГЭСН'!$F$10,D17='Выбор ГЭСН'!$D$10),'Выбор ГЭСН'!$A$10,IF(AND(OR(C17="Алюминий",C17="Биметалл"),ISNUMBER(E17),MOD(E17,1)=0,E17>'Выбор ГЭСН'!$E$11,E17<='Выбор ГЭСН'!$F$11,D17='Выбор ГЭСН'!$D$11),'Выбор ГЭСН'!$A$11,IF(AND(OR(C17="Алюминий",C17="Биметалл"),ISNUMBER(E17),MOD(E17,1)=0,E17>'Выбор ГЭСН'!$E$12,E17<='Выбор ГЭСН'!$F$12,D17='Выбор ГЭСН'!$D$12),'Выбор ГЭСН'!$A$12,IF(AND(OR(C17="Алюминий",C17="Биметалл"),ISNUMBER(E17),MOD(E17,1)=0,E17>'Выбор ГЭСН'!$E$13,E17<='Выбор ГЭСН'!$F$13,D17='Выбор ГЭСН'!$D$13),'Выбор ГЭСН'!$A$13,IF(AND(OR(C17="Алюминий",C17="Биметалл"),ISNUMBER(E17),MOD(E17,1)=0,E17>'Выбор ГЭСН'!$E$14,E17<='Выбор ГЭСН'!$F$14,D17='Выбор ГЭСН'!$D$14),'Выбор ГЭСН'!$A$14,IF(AND(C17='Выбор ГЭСН'!$C$15,ISNUMBER(E17),MOD(E17,1)=0,E17>'Выбор ГЭСН'!$E$15,E17<='Выбор ГЭСН'!$F$15),'Выбор ГЭСН'!$A$15,IF(AND(C17='Выбор ГЭСН'!$C$16,ISNUMBER(E17),MOD(E17,1)=0,E17>'Выбор ГЭСН'!$E$16,E17<='Выбор ГЭСН'!$F$16),'Выбор ГЭСН'!$A$16,IF(AND(C17='Выбор ГЭСН'!$C$17,ISNUMBER(E17),MOD(E17,1)=0,E17>'Выбор ГЭСН'!$E$17,E17<='Выбор ГЭСН'!$F$17),'Выбор ГЭСН'!$A$17,IF(AND(C17='Выбор ГЭСН'!$C$18,ISNUMBER(E17),MOD(E17,1)=0,E17>'Выбор ГЭСН'!$E$18,E17<='Выбор ГЭСН'!$F$18),'Выбор ГЭСН'!$A$18,IF(AND(C17='Выбор ГЭСН'!$C$19,ISNUMBER(E17),MOD(E17,1)=0,E17>'Выбор ГЭСН'!$E$19,E17<='Выбор ГЭСН'!$F$19),'Выбор ГЭСН'!$A$19,IF(AND(C17='Выбор ГЭСН'!$C$20,ISNUMBER(E17),MOD(E17,1)=0,E17>'Выбор ГЭСН'!$E$20,E17<='Выбор ГЭСН'!$F$20),'Выбор ГЭСН'!$A$20,IF(AND(C17='Выбор ГЭСН'!$C$21,ISNUMBER(G17),MOD(G17,1)=0,G17>'Выбор ГЭСН'!$H$21,G17<='Выбор ГЭСН'!$I$21,D17='Выбор ГЭСН'!$D$21,F17='Выбор ГЭСН'!$G$21),'Выбор ГЭСН'!$A$21,IF(AND(C17='Выбор ГЭСН'!$C$22,ISNUMBER(G17),MOD(G17,1)=0,G17>'Выбор ГЭСН'!$H$22,G17<='Выбор ГЭСН'!$I$22,D17='Выбор ГЭСН'!$D$22,F17='Выбор ГЭСН'!$G$22),'Выбор ГЭСН'!$A$22,IF(AND(C17='Выбор ГЭСН'!$C$23,ISNUMBER(G17),MOD(G17,1)=0,G17>'Выбор ГЭСН'!$H$23,G17<='Выбор ГЭСН'!$I$23,D17='Выбор ГЭСН'!$D$23,F17='Выбор ГЭСН'!$G$23),'Выбор ГЭСН'!$A$23,IF(AND(C17='Выбор ГЭСН'!$C$24,ISNUMBER(G17),MOD(G17,1)=0,G17>'Выбор ГЭСН'!$H$24,G17<='Выбор ГЭСН'!$I$24,D17='Выбор ГЭСН'!$D$24,F17='Выбор ГЭСН'!$G$24),'Выбор ГЭСН'!$A$24,IF(AND(C17='Выбор ГЭСН'!$C$25,ISNUMBER(G17),MOD(G17,1)=0,G17>'Выбор ГЭСН'!$H$25,G17<='Выбор ГЭСН'!$I$25,D17='Выбор ГЭСН'!$D$25,F17='Выбор ГЭСН'!$G$25),'Выбор ГЭСН'!$A$25,IF(AND(C17='Выбор ГЭСН'!$C$26,ISNUMBER(G17),MOD(G17,1)=0,G17>'Выбор ГЭСН'!$H$26,G17<='Выбор ГЭСН'!$I$26,D17='Выбор ГЭСН'!$D$26,F17='Выбор ГЭСН'!$G$26),'Выбор ГЭСН'!$A$26,IF(AND(C17='Выбор ГЭСН'!$C$27,ISNUMBER(G17),MOD(G17,1)=0,G17>'Выбор ГЭСН'!$H$27,G17<='Выбор ГЭСН'!$I$27,D17='Выбор ГЭСН'!$D$27,F17='Выбор ГЭСН'!$G$27),'Выбор ГЭСН'!$A$27,IF(AND(C17='Выбор ГЭСН'!$C$28,ISNUMBER(G17),MOD(G17,1)=0,G17>'Выбор ГЭСН'!$H$28,G17<='Выбор ГЭСН'!$I$28,D17='Выбор ГЭСН'!$D$28,F17='Выбор ГЭСН'!$G$28),'Выбор ГЭСН'!$A$28,IF(AND(C17='Выбор ГЭСН'!$C$29,ISNUMBER(G17),MOD(G17,1)=0,G17>'Выбор ГЭСН'!$H$29,G17<='Выбор ГЭСН'!$I$29,D17='Выбор ГЭСН'!$D$29,F17='Выбор ГЭСН'!$G$29),'Выбор ГЭСН'!$A$29,IF(AND(C17='Выбор ГЭСН'!$C$30,ISNUMBER(G17),MOD(G17,1)=0,G17>'Выбор ГЭСН'!$H$30,G17<='Выбор ГЭСН'!$I$30,D17='Выбор ГЭСН'!$D$30,F17='Выбор ГЭСН'!$G$30),'Выбор ГЭСН'!$A$30,IF(AND(C17='Выбор ГЭСН'!$C$31,ISNUMBER(G17),MOD(G17,1)=0,G17>'Выбор ГЭСН'!$H$31,G17<='Выбор ГЭСН'!$I$31,D17='Выбор ГЭСН'!$D$31,F17='Выбор ГЭСН'!$G$31),'Выбор ГЭСН'!$A$31,IF(AND(C17='Выбор ГЭСН'!$C$32,ISNUMBER(G17),MOD(G17,1)=0,G17>'Выбор ГЭСН'!$H$32,G17<='Выбор ГЭСН'!$I$32,D17='Выбор ГЭСН'!$D$32,F17='Выбор ГЭСН'!$G$32),'Выбор ГЭСН'!$A$32,IF(AND(C17='Выбор ГЭСН'!$C$33,ISNUMBER(G17),MOD(G17,1)=0,G17>'Выбор ГЭСН'!$H$33,G17<='Выбор ГЭСН'!$I$33,D17='Выбор ГЭСН'!$D$33,F17='Выбор ГЭСН'!$G$33),'Выбор ГЭСН'!$A$33,IF(AND(C17='Выбор ГЭСН'!$C$34,ISNUMBER(G17),MOD(G17,1)=0,G17>'Выбор ГЭСН'!$H$34,G17<='Выбор ГЭСН'!$I$34,D17='Выбор ГЭСН'!$D$34,F17='Выбор ГЭСН'!$G$34),'Выбор ГЭСН'!$A$34,IF(AND(C17='Выбор ГЭСН'!$C$35,ISNUMBER(G17),MOD(G17,1)=0,G17>'Выбор ГЭСН'!$H$35,G17<='Выбор ГЭСН'!$I$35,D17='Выбор ГЭСН'!$D$35,F17='Выбор ГЭСН'!$G$35),'Выбор ГЭСН'!$A$35,IF(AND(C17='Выбор ГЭСН'!$C$36,ISNUMBER(G17),MOD(G17,1)=0,G17>'Выбор ГЭСН'!$H$36,G17<='Выбор ГЭСН'!$I$36,D17='Выбор ГЭСН'!$D$36,F17='Выбор ГЭСН'!$G$36),'Выбор ГЭСН'!$A$36,"Проверка сметчиком"))))))))))))))))))))))))))))) | L17: =IF(OR(K17="",K17="Проверка сметчиком"),"","100 шт") | M17: =IF(AND(ISNUMBER(H17),H17>0,MOD(H17,1)=0,K17<>"",K17<>"Проверка сметчиком"),H17/100,"") | N17: =IF(C17="","",IF(K17="Проверка сметчиком",K17,IF(M17="","Уточните количество",IF(OR(B17="",I17="",J17=""),"Уточните марку и комплект","Сверьте норму и комплект"))))
A18: 10 | K18: =IF(C18="","",IF(AND(OR(C18="Алюминий",C18="Биметалл"),ISNUMBER(E18),MOD(E18,1)=0,E18>'Выбор ГЭСН'!$E$9,E18<='Выбор ГЭСН'!$F$9,D18='Выбор ГЭСН'!$D$9),'Выбор ГЭСН'!$A$9,IF(AND(OR(C18="Алюминий",C18="Биметалл"),ISNUMBER(E18),MOD(E18,1)=0,E18>'Выбор ГЭСН'!$E$10,E18<='Выбор ГЭСН'!$F$10,D18='Выбор ГЭСН'!$D$10),'Выбор ГЭСН'!$A$10,IF(AND(OR(C18="Алюминий",C18="Биметалл"),ISNUMBER(E18),MOD(E18,1)=0,E18>'Выбор ГЭСН'!$E$11,E18<='Выбор ГЭСН'!$F$11,D18='Выбор ГЭСН'!$D$11),'Выбор ГЭСН'!$A$11,IF(AND(OR(C18="Алюминий",C18="Биметалл"),ISNUMBER(E18),MOD(E18,1)=0,E18>'Выбор ГЭСН'!$E$12,E18<='Выбор ГЭСН'!$F$12,D18='Выбор ГЭСН'!$D$12),'Выбор ГЭСН'!$A$12,IF(AND(OR(C18="Алюминий",C18="Биметалл"),ISNUMBER(E18),MOD(E18,1)=0,E18>'Выбор ГЭСН'!$E$13,E18<='Выбор ГЭСН'!$F$13,D18='Выбор ГЭСН'!$D$13),'Выбор ГЭСН'!$A$13,IF(AND(OR(C18="Алюминий",C18="Биметалл"),ISNUMBER(E18),MOD(E18,1)=0,E18>'Выбор ГЭСН'!$E$14,E18<='Выбор ГЭСН'!$F$14,D18='Выбор ГЭСН'!$D$14),'Выбор ГЭСН'!$A$14,IF(AND(C18='Выбор ГЭСН'!$C$15,ISNUMBER(E18),MOD(E18,1)=0,E18>'Выбор ГЭСН'!$E$15,E18<='Выбор ГЭСН'!$F$15),'Выбор ГЭСН'!$A$15,IF(AND(C18='Выбор ГЭСН'!$C$16,ISNUMBER(E18),MOD(E18,1)=0,E18>'Выбор ГЭСН'!$E$16,E18<='Выбор ГЭСН'!$F$16),'Выбор ГЭСН'!$A$16,IF(AND(C18='Выбор ГЭСН'!$C$17,ISNUMBER(E18),MOD(E18,1)=0,E18>'Выбор ГЭСН'!$E$17,E18<='Выбор ГЭСН'!$F$17),'Выбор ГЭСН'!$A$17,IF(AND(C18='Выбор ГЭСН'!$C$18,ISNUMBER(E18),MOD(E18,1)=0,E18>'Выбор ГЭСН'!$E$18,E18<='Выбор ГЭСН'!$F$18),'Выбор ГЭСН'!$A$18,IF(AND(C18='Выбор ГЭСН'!$C$19,ISNUMBER(E18),MOD(E18,1)=0,E18>'Выбор ГЭСН'!$E$19,E18<='Выбор ГЭСН'!$F$19),'Выбор ГЭСН'!$A$19,IF(AND(C18='Выбор ГЭСН'!$C$20,ISNUMBER(E18),MOD(E18,1)=0,E18>'Выбор ГЭСН'!$E$20,E18<='Выбор ГЭСН'!$F$20),'Выбор ГЭСН'!$A$20,IF(AND(C18='Выбор ГЭСН'!$C$21,ISNUMBER(G18),MOD(G18,1)=0,G18>'Выбор ГЭСН'!$H$21,G18<='Выбор ГЭСН'!$I$21,D18='Выбор ГЭСН'!$D$21,F18='Выбор ГЭСН'!$G$21),'Выбор ГЭСН'!$A$21,IF(AND(C18='Выбор ГЭСН'!$C$22,ISNUMBER(G18),MOD(G18,1)=0,G18>'Выбор ГЭСН'!$H$22,G18<='Выбор ГЭСН'!$I$22,D18='Выбор ГЭСН'!$D$22,F18='Выбор ГЭСН'!$G$22),'Выбор ГЭСН'!$A$22,IF(AND(C18='Выбор ГЭСН'!$C$23,ISNUMBER(G18),MOD(G18,1)=0,G18>'Выбор ГЭСН'!$H$23,G18<='Выбор ГЭСН'!$I$23,D18='Выбор ГЭСН'!$D$23,F18='Выбор ГЭСН'!$G$23),'Выбор ГЭСН'!$A$23,IF(AND(C18='Выбор ГЭСН'!$C$24,ISNUMBER(G18),MOD(G18,1)=0,G18>'Выбор ГЭСН'!$H$24,G18<='Выбор ГЭСН'!$I$24,D18='Выбор ГЭСН'!$D$24,F18='Выбор ГЭСН'!$G$24),'Выбор ГЭСН'!$A$24,IF(AND(C18='Выбор ГЭСН'!$C$25,ISNUMBER(G18),MOD(G18,1)=0,G18>'Выбор ГЭСН'!$H$25,G18<='Выбор ГЭСН'!$I$25,D18='Выбор ГЭСН'!$D$25,F18='Выбор ГЭСН'!$G$25),'Выбор ГЭСН'!$A$25,IF(AND(C18='Выбор ГЭСН'!$C$26,ISNUMBER(G18),MOD(G18,1)=0,G18>'Выбор ГЭСН'!$H$26,G18<='Выбор ГЭСН'!$I$26,D18='Выбор ГЭСН'!$D$26,F18='Выбор ГЭСН'!$G$26),'Выбор ГЭСН'!$A$26,IF(AND(C18='Выбор ГЭСН'!$C$27,ISNUMBER(G18),MOD(G18,1)=0,G18>'Выбор ГЭСН'!$H$27,G18<='Выбор ГЭСН'!$I$27,D18='Выбор ГЭСН'!$D$27,F18='Выбор ГЭСН'!$G$27),'Выбор ГЭСН'!$A$27,IF(AND(C18='Выбор ГЭСН'!$C$28,ISNUMBER(G18),MOD(G18,1)=0,G18>'Выбор ГЭСН'!$H$28,G18<='Выбор ГЭСН'!$I$28,D18='Выбор ГЭСН'!$D$28,F18='Выбор ГЭСН'!$G$28),'Выбор ГЭСН'!$A$28,IF(AND(C18='Выбор ГЭСН'!$C$29,ISNUMBER(G18),MOD(G18,1)=0,G18>'Выбор ГЭСН'!$H$29,G18<='Выбор ГЭСН'!$I$29,D18='Выбор ГЭСН'!$D$29,F18='Выбор ГЭСН'!$G$29),'Выбор ГЭСН'!$A$29,IF(AND(C18='Выбор ГЭСН'!$C$30,ISNUMBER(G18),MOD(G18,1)=0,G18>'Выбор ГЭСН'!$H$30,G18<='Выбор ГЭСН'!$I$30,D18='Выбор ГЭСН'!$D$30,F18='Выбор ГЭСН'!$G$30),'Выбор ГЭСН'!$A$30,IF(AND(C18='Выбор ГЭСН'!$C$31,ISNUMBER(G18),MOD(G18,1)=0,G18>'Выбор ГЭСН'!$H$31,G18<='Выбор ГЭСН'!$I$31,D18='Выбор ГЭСН'!$D$31,F18='Выбор ГЭСН'!$G$31),'Выбор ГЭСН'!$A$31,IF(AND(C18='Выбор ГЭСН'!$C$32,ISNUMBER(G18),MOD(G18,1)=0,G18>'Выбор ГЭСН'!$H$32,G18<='Выбор ГЭСН'!$I$32,D18='Выбор ГЭСН'!$D$32,F18='Выбор ГЭСН'!$G$32),'Выбор ГЭСН'!$A$32,IF(AND(C18='Выбор ГЭСН'!$C$33,ISNUMBER(G18),MOD(G18,1)=0,G18>'Выбор ГЭСН'!$H$33,G18<='Выбор ГЭСН'!$I$33,D18='Выбор ГЭСН'!$D$33,F18='Выбор ГЭСН'!$G$33),'Выбор ГЭСН'!$A$33,IF(AND(C18='Выбор ГЭСН'!$C$34,ISNUMBER(G18),MOD(G18,1)=0,G18>'Выбор ГЭСН'!$H$34,G18<='Выбор ГЭСН'!$I$34,D18='Выбор ГЭСН'!$D$34,F18='Выбор ГЭСН'!$G$34),'Выбор ГЭСН'!$A$34,IF(AND(C18='Выбор ГЭСН'!$C$35,ISNUMBER(G18),MOD(G18,1)=0,G18>'Выбор ГЭСН'!$H$35,G18<='Выбор ГЭСН'!$I$35,D18='Выбор ГЭСН'!$D$35,F18='Выбор ГЭСН'!$G$35),'Выбор ГЭСН'!$A$35,IF(AND(C18='Выбор ГЭСН'!$C$36,ISNUMBER(G18),MOD(G18,1)=0,G18>'Выбор ГЭСН'!$H$36,G18<='Выбор ГЭСН'!$I$36,D18='Выбор ГЭСН'!$D$36,F18='Выбор ГЭСН'!$G$36),'Выбор ГЭСН'!$A$36,"Проверка сметчиком"))))))))))))))))))))))))))))) | L18: =IF(OR(K18="",K18="Проверка сметчиком"),"","100 шт") | M18: =IF(AND(ISNUMBER(H18),H18>0,MOD(H18,1)=0,K18<>"",K18<>"Проверка сметчиком"),H18/100,"") | N18: =IF(C18="","",IF(K18="Проверка сметчиком",K18,IF(M18="","Уточните количество",IF(OR(B18="",I18="",J18=""),"Уточните марку и комплект","Сверьте норму и комплект"))))
A19: 11 | K19: =IF(C19="","",IF(AND(OR(C19="Алюминий",C19="Биметалл"),ISNUMBER(E19),MOD(E19,1)=0,E19>'Выбор ГЭСН'!$E$9,E19<='Выбор ГЭСН'!$F$9,D19='Выбор ГЭСН'!$D$9),'Выбор ГЭСН'!$A$9,IF(AND(OR(C19="Алюминий",C19="Биметалл"),ISNUMBER(E19),MOD(E19,1)=0,E19>'Выбор ГЭСН'!$E$10,E19<='Выбор ГЭСН'!$F$10,D19='Выбор ГЭСН'!$D$10),'Выбор ГЭСН'!$A$10,IF(AND(OR(C19="Алюминий",C19="Биметалл"),ISNUMBER(E19),MOD(E19,1)=0,E19>'Выбор ГЭСН'!$E$11,E19<='Выбор ГЭСН'!$F$11,D19='Выбор ГЭСН'!$D$11),'Выбор ГЭСН'!$A$11,IF(AND(OR(C19="Алюминий",C19="Биметалл"),ISNUMBER(E19),MOD(E19,1)=0,E19>'Выбор ГЭСН'!$E$12,E19<='Выбор ГЭСН'!$F$12,D19='Выбор ГЭСН'!$D$12),'Выбор ГЭСН'!$A$12,IF(AND(OR(C19="Алюминий",C19="Биметалл"),ISNUMBER(E19),MOD(E19,1)=0,E19>'Выбор ГЭСН'!$E$13,E19<='Выбор ГЭСН'!$F$13,D19='Выбор ГЭСН'!$D$13),'Выбор ГЭСН'!$A$13,IF(AND(OR(C19="Алюминий",C19="Биметалл"),ISNUMBER(E19),MOD(E19,1)=0,E19>'Выбор ГЭСН'!$E$14,E19<='Выбор ГЭСН'!$F$14,D19='Выбор ГЭСН'!$D$14),'Выбор ГЭСН'!$A$14,IF(AND(C19='Выбор ГЭСН'!$C$15,ISNUMBER(E19),MOD(E19,1)=0,E19>'Выбор ГЭСН'!$E$15,E19<='Выбор ГЭСН'!$F$15),'Выбор ГЭСН'!$A$15,IF(AND(C19='Выбор ГЭСН'!$C$16,ISNUMBER(E19),MOD(E19,1)=0,E19>'Выбор ГЭСН'!$E$16,E19<='Выбор ГЭСН'!$F$16),'Выбор ГЭСН'!$A$16,IF(AND(C19='Выбор ГЭСН'!$C$17,ISNUMBER(E19),MOD(E19,1)=0,E19>'Выбор ГЭСН'!$E$17,E19<='Выбор ГЭСН'!$F$17),'Выбор ГЭСН'!$A$17,IF(AND(C19='Выбор ГЭСН'!$C$18,ISNUMBER(E19),MOD(E19,1)=0,E19>'Выбор ГЭСН'!$E$18,E19<='Выбор ГЭСН'!$F$18),'Выбор ГЭСН'!$A$18,IF(AND(C19='Выбор ГЭСН'!$C$19,ISNUMBER(E19),MOD(E19,1)=0,E19>'Выбор ГЭСН'!$E$19,E19<='Выбор ГЭСН'!$F$19),'Выбор ГЭСН'!$A$19,IF(AND(C19='Выбор ГЭСН'!$C$20,ISNUMBER(E19),MOD(E19,1)=0,E19>'Выбор ГЭСН'!$E$20,E19<='Выбор ГЭСН'!$F$20),'Выбор ГЭСН'!$A$20,IF(AND(C19='Выбор ГЭСН'!$C$21,ISNUMBER(G19),MOD(G19,1)=0,G19>'Выбор ГЭСН'!$H$21,G19<='Выбор ГЭСН'!$I$21,D19='Выбор ГЭСН'!$D$21,F19='Выбор ГЭСН'!$G$21),'Выбор ГЭСН'!$A$21,IF(AND(C19='Выбор ГЭСН'!$C$22,ISNUMBER(G19),MOD(G19,1)=0,G19>'Выбор ГЭСН'!$H$22,G19<='Выбор ГЭСН'!$I$22,D19='Выбор ГЭСН'!$D$22,F19='Выбор ГЭСН'!$G$22),'Выбор ГЭСН'!$A$22,IF(AND(C19='Выбор ГЭСН'!$C$23,ISNUMBER(G19),MOD(G19,1)=0,G19>'Выбор ГЭСН'!$H$23,G19<='Выбор ГЭСН'!$I$23,D19='Выбор ГЭСН'!$D$23,F19='Выбор ГЭСН'!$G$23),'Выбор ГЭСН'!$A$23,IF(AND(C19='Выбор ГЭСН'!$C$24,ISNUMBER(G19),MOD(G19,1)=0,G19>'Выбор ГЭСН'!$H$24,G19<='Выбор ГЭСН'!$I$24,D19='Выбор ГЭСН'!$D$24,F19='Выбор ГЭСН'!$G$24),'Выбор ГЭСН'!$A$24,IF(AND(C19='Выбор ГЭСН'!$C$25,ISNUMBER(G19),MOD(G19,1)=0,G19>'Выбор ГЭСН'!$H$25,G19<='Выбор ГЭСН'!$I$25,D19='Выбор ГЭСН'!$D$25,F19='Выбор ГЭСН'!$G$25),'Выбор ГЭСН'!$A$25,IF(AND(C19='Выбор ГЭСН'!$C$26,ISNUMBER(G19),MOD(G19,1)=0,G19>'Выбор ГЭСН'!$H$26,G19<='Выбор ГЭСН'!$I$26,D19='Выбор ГЭСН'!$D$26,F19='Выбор ГЭСН'!$G$26),'Выбор ГЭСН'!$A$26,IF(AND(C19='Выбор ГЭСН'!$C$27,ISNUMBER(G19),MOD(G19,1)=0,G19>'Выбор ГЭСН'!$H$27,G19<='Выбор ГЭСН'!$I$27,D19='Выбор ГЭСН'!$D$27,F19='Выбор ГЭСН'!$G$27),'Выбор ГЭСН'!$A$27,IF(AND(C19='Выбор ГЭСН'!$C$28,ISNUMBER(G19),MOD(G19,1)=0,G19>'Выбор ГЭСН'!$H$28,G19<='Выбор ГЭСН'!$I$28,D19='Выбор ГЭСН'!$D$28,F19='Выбор ГЭСН'!$G$28),'Выбор ГЭСН'!$A$28,IF(AND(C19='Выбор ГЭСН'!$C$29,ISNUMBER(G19),MOD(G19,1)=0,G19>'Выбор ГЭСН'!$H$29,G19<='Выбор ГЭСН'!$I$29,D19='Выбор ГЭСН'!$D$29,F19='Выбор ГЭСН'!$G$29),'Выбор ГЭСН'!$A$29,IF(AND(C19='Выбор ГЭСН'!$C$30,ISNUMBER(G19),MOD(G19,1)=0,G19>'Выбор ГЭСН'!$H$30,G19<='Выбор ГЭСН'!$I$30,D19='Выбор ГЭСН'!$D$30,F19='Выбор ГЭСН'!$G$30),'Выбор ГЭСН'!$A$30,IF(AND(C19='Выбор ГЭСН'!$C$31,ISNUMBER(G19),MOD(G19,1)=0,G19>'Выбор ГЭСН'!$H$31,G19<='Выбор ГЭСН'!$I$31,D19='Выбор ГЭСН'!$D$31,F19='Выбор ГЭСН'!$G$31),'Выбор ГЭСН'!$A$31,IF(AND(C19='Выбор ГЭСН'!$C$32,ISNUMBER(G19),MOD(G19,1)=0,G19>'Выбор ГЭСН'!$H$32,G19<='Выбор ГЭСН'!$I$32,D19='Выбор ГЭСН'!$D$32,F19='Выбор ГЭСН'!$G$32),'Выбор ГЭСН'!$A$32,IF(AND(C19='Выбор ГЭСН'!$C$33,ISNUMBER(G19),MOD(G19,1)=0,G19>'Выбор ГЭСН'!$H$33,G19<='Выбор ГЭСН'!$I$33,D19='Выбор ГЭСН'!$D$33,F19='Выбор ГЭСН'!$G$33),'Выбор ГЭСН'!$A$33,IF(AND(C19='Выбор ГЭСН'!$C$34,ISNUMBER(G19),MOD(G19,1)=0,G19>'Выбор ГЭСН'!$H$34,G19<='Выбор ГЭСН'!$I$34,D19='Выбор ГЭСН'!$D$34,F19='Выбор ГЭСН'!$G$34),'Выбор ГЭСН'!$A$34,IF(AND(C19='Выбор ГЭСН'!$C$35,ISNUMBER(G19),MOD(G19,1)=0,G19>'Выбор ГЭСН'!$H$35,G19<='Выбор ГЭСН'!$I$35,D19='Выбор ГЭСН'!$D$35,F19='Выбор ГЭСН'!$G$35),'Выбор ГЭСН'!$A$35,IF(AND(C19='Выбор ГЭСН'!$C$36,ISNUMBER(G19),MOD(G19,1)=0,G19>'Выбор ГЭСН'!$H$36,G19<='Выбор ГЭСН'!$I$36,D19='Выбор ГЭСН'!$D$36,F19='Выбор ГЭСН'!$G$36),'Выбор ГЭСН'!$A$36,"Проверка сметчиком"))))))))))))))))))))))))))))) | L19: =IF(OR(K19="",K19="Проверка сметчиком"),"","100 шт") | M19: =IF(AND(ISNUMBER(H19),H19>0,MOD(H19,1)=0,K19<>"",K19<>"Проверка сметчиком"),H19/100,"") | N19: =IF(C19="","",IF(K19="Проверка сметчиком",K19,IF(M19="","Уточните количество",IF(OR(B19="",I19="",J19=""),"Уточните марку и комплект","Сверьте норму и комплект"))))
A20: 12 | K20: =IF(C20="","",IF(AND(OR(C20="Алюминий",C20="Биметалл"),ISNUMBER(E20),MOD(E20,1)=0,E20>'Выбор ГЭСН'!$E$9,E20<='Выбор ГЭСН'!$F$9,D20='Выбор ГЭСН'!$D$9),'Выбор ГЭСН'!$A$9,IF(AND(OR(C20="Алюминий",C20="Биметалл"),ISNUMBER(E20),MOD(E20,1)=0,E20>'Выбор ГЭСН'!$E$10,E20<='Выбор ГЭСН'!$F$10,D20='Выбор ГЭСН'!$D$10),'Выбор ГЭСН'!$A$10,IF(AND(OR(C20="Алюминий",C20="Биметалл"),ISNUMBER(E20),MOD(E20,1)=0,E20>'Выбор ГЭСН'!$E$11,E20<='Выбор ГЭСН'!$F$11,D20='Выбор ГЭСН'!$D$11),'Выбор ГЭСН'!$A$11,IF(AND(OR(C20="Алюминий",C20="Биметалл"),ISNUMBER(E20),MOD(E20,1)=0,E20>'Выбор ГЭСН'!$E$12,E20<='Выбор ГЭСН'!$F$12,D20='Выбор ГЭСН'!$D$12),'Выбор ГЭСН'!$A$12,IF(AND(OR(C20="Алюминий",C20="Биметалл"),ISNUMBER(E20),MOD(E20,1)=0,E20>'Выбор ГЭСН'!$E$13,E20<='Выбор ГЭСН'!$F$13,D20='Выбор ГЭСН'!$D$13),'Выбор ГЭСН'!$A$13,IF(AND(OR(C20="Алюминий",C20="Биметалл"),ISNUMBER(E20),MOD(E20,1)=0,E20>'Выбор ГЭСН'!$E$14,E20<='Выбор ГЭСН'!$F$14,D20='Выбор ГЭСН'!$D$14),'Выбор ГЭСН'!$A$14,IF(AND(C20='Выбор ГЭСН'!$C$15,ISNUMBER(E20),MOD(E20,1)=0,E20>'Выбор ГЭСН'!$E$15,E20<='Выбор ГЭСН'!$F$15),'Выбор ГЭСН'!$A$15,IF(AND(C20='Выбор ГЭСН'!$C$16,ISNUMBER(E20),MOD(E20,1)=0,E20>'Выбор ГЭСН'!$E$16,E20<='Выбор ГЭСН'!$F$16),'Выбор ГЭСН'!$A$16,IF(AND(C20='Выбор ГЭСН'!$C$17,ISNUMBER(E20),MOD(E20,1)=0,E20>'Выбор ГЭСН'!$E$17,E20<='Выбор ГЭСН'!$F$17),'Выбор ГЭСН'!$A$17,IF(AND(C20='Выбор ГЭСН'!$C$18,ISNUMBER(E20),MOD(E20,1)=0,E20>'Выбор ГЭСН'!$E$18,E20<='Выбор ГЭСН'!$F$18),'Выбор ГЭСН'!$A$18,IF(AND(C20='Выбор ГЭСН'!$C$19,ISNUMBER(E20),MOD(E20,1)=0,E20>'Выбор ГЭСН'!$E$19,E20<='Выбор ГЭСН'!$F$19),'Выбор ГЭСН'!$A$19,IF(AND(C20='Выбор ГЭСН'!$C$20,ISNUMBER(E20),MOD(E20,1)=0,E20>'Выбор ГЭСН'!$E$20,E20<='Выбор ГЭСН'!$F$20),'Выбор ГЭСН'!$A$20,IF(AND(C20='Выбор ГЭСН'!$C$21,ISNUMBER(G20),MOD(G20,1)=0,G20>'Выбор ГЭСН'!$H$21,G20<='Выбор ГЭСН'!$I$21,D20='Выбор ГЭСН'!$D$21,F20='Выбор ГЭСН'!$G$21),'Выбор ГЭСН'!$A$21,IF(AND(C20='Выбор ГЭСН'!$C$22,ISNUMBER(G20),MOD(G20,1)=0,G20>'Выбор ГЭСН'!$H$22,G20<='Выбор ГЭСН'!$I$22,D20='Выбор ГЭСН'!$D$22,F20='Выбор ГЭСН'!$G$22),'Выбор ГЭСН'!$A$22,IF(AND(C20='Выбор ГЭСН'!$C$23,ISNUMBER(G20),MOD(G20,1)=0,G20>'Выбор ГЭСН'!$H$23,G20<='Выбор ГЭСН'!$I$23,D20='Выбор ГЭСН'!$D$23,F20='Выбор ГЭСН'!$G$23),'Выбор ГЭСН'!$A$23,IF(AND(C20='Выбор ГЭСН'!$C$24,ISNUMBER(G20),MOD(G20,1)=0,G20>'Выбор ГЭСН'!$H$24,G20<='Выбор ГЭСН'!$I$24,D20='Выбор ГЭСН'!$D$24,F20='Выбор ГЭСН'!$G$24),'Выбор ГЭСН'!$A$24,IF(AND(C20='Выбор ГЭСН'!$C$25,ISNUMBER(G20),MOD(G20,1)=0,G20>'Выбор ГЭСН'!$H$25,G20<='Выбор ГЭСН'!$I$25,D20='Выбор ГЭСН'!$D$25,F20='Выбор ГЭСН'!$G$25),'Выбор ГЭСН'!$A$25,IF(AND(C20='Выбор ГЭСН'!$C$26,ISNUMBER(G20),MOD(G20,1)=0,G20>'Выбор ГЭСН'!$H$26,G20<='Выбор ГЭСН'!$I$26,D20='Выбор ГЭСН'!$D$26,F20='Выбор ГЭСН'!$G$26),'Выбор ГЭСН'!$A$26,IF(AND(C20='Выбор ГЭСН'!$C$27,ISNUMBER(G20),MOD(G20,1)=0,G20>'Выбор ГЭСН'!$H$27,G20<='Выбор ГЭСН'!$I$27,D20='Выбор ГЭСН'!$D$27,F20='Выбор ГЭСН'!$G$27),'Выбор ГЭСН'!$A$27,IF(AND(C20='Выбор ГЭСН'!$C$28,ISNUMBER(G20),MOD(G20,1)=0,G20>'Выбор ГЭСН'!$H$28,G20<='Выбор ГЭСН'!$I$28,D20='Выбор ГЭСН'!$D$28,F20='Выбор ГЭСН'!$G$28),'Выбор ГЭСН'!$A$28,IF(AND(C20='Выбор ГЭСН'!$C$29,ISNUMBER(G20),MOD(G20,1)=0,G20>'Выбор ГЭСН'!$H$29,G20<='Выбор ГЭСН'!$I$29,D20='Выбор ГЭСН'!$D$29,F20='Выбор ГЭСН'!$G$29),'Выбор ГЭСН'!$A$29,IF(AND(C20='Выбор ГЭСН'!$C$30,ISNUMBER(G20),MOD(G20,1)=0,G20>'Выбор ГЭСН'!$H$30,G20<='Выбор ГЭСН'!$I$30,D20='Выбор ГЭСН'!$D$30,F20='Выбор ГЭСН'!$G$30),'Выбор ГЭСН'!$A$30,IF(AND(C20='Выбор ГЭСН'!$C$31,ISNUMBER(G20),MOD(G20,1)=0,G20>'Выбор ГЭСН'!$H$31,G20<='Выбор ГЭСН'!$I$31,D20='Выбор ГЭСН'!$D$31,F20='Выбор ГЭСН'!$G$31),'Выбор ГЭСН'!$A$31,IF(AND(C20='Выбор ГЭСН'!$C$32,ISNUMBER(G20),MOD(G20,1)=0,G20>'Выбор ГЭСН'!$H$32,G20<='Выбор ГЭСН'!$I$32,D20='Выбор ГЭСН'!$D$32,F20='Выбор ГЭСН'!$G$32),'Выбор ГЭСН'!$A$32,IF(AND(C20='Выбор ГЭСН'!$C$33,ISNUMBER(G20),MOD(G20,1)=0,G20>'Выбор ГЭСН'!$H$33,G20<='Выбор ГЭСН'!$I$33,D20='Выбор ГЭСН'!$D$33,F20='Выбор ГЭСН'!$G$33),'Выбор ГЭСН'!$A$33,IF(AND(C20='Выбор ГЭСН'!$C$34,ISNUMBER(G20),MOD(G20,1)=0,G20>'Выбор ГЭСН'!$H$34,G20<='Выбор ГЭСН'!$I$34,D20='Выбор ГЭСН'!$D$34,F20='Выбор ГЭСН'!$G$34),'Выбор ГЭСН'!$A$34,IF(AND(C20='Выбор ГЭСН'!$C$35,ISNUMBER(G20),MOD(G20,1)=0,G20>'Выбор ГЭСН'!$H$35,G20<='Выбор ГЭСН'!$I$35,D20='Выбор ГЭСН'!$D$35,F20='Выбор ГЭСН'!$G$35),'Выбор ГЭСН'!$A$35,IF(AND(C20='Выбор ГЭСН'!$C$36,ISNUMBER(G20),MOD(G20,1)=0,G20>'Выбор ГЭСН'!$H$36,G20<='Выбор ГЭСН'!$I$36,D20='Выбор ГЭСН'!$D$36,F20='Выбор ГЭСН'!$G$36),'Выбор ГЭСН'!$A$36,"Проверка сметчиком"))))))))))))))))))))))))))))) | L20: =IF(OR(K20="",K20="Проверка сметчиком"),"","100 шт") | M20: =IF(AND(ISNUMBER(H20),H20>0,MOD(H20,1)=0,K20<>"",K20<>"Проверка сметчиком"),H20/100,"") | N20: =IF(C20="","",IF(K20="Проверка сметчиком",K20,IF(M20="","Уточните количество",IF(OR(B20="",I20="",J20=""),"Уточните марку и комплект","Сверьте норму и комплект"))))
G21: Всего приборов | H21: =SUM(H9:H20) -> 0 | K21: Сумма объёмов | M21: =SUM(M9:M20) -> 0
A23: Одна строка ВОР содержит приборы с одинаковыми признаками выбора. При выходе за диапазоны, другом типе прибора или неполных характеристиках требуется проверка сметчиком. Сумма объёмов разных норм не служит основанием для объединения позиций.

Sheet Выбор ГЭСН
A1: 28 вариантов установки радиаторов
A2: ГЭСН ФСНБ-2022. Нижняя граница «свыше» исключается, верхняя «до» включается. Пустой признак не участвует в выборе. Все параметры сверяют с применяемой редакцией сборника 18.
A8: Шифр | B8: Полное наименование нормы | C8: Тип | D8: Крепление | E8: Секции: свыше | F8: Секции: до | G8: Рядность | H8: Длина: свыше, мм | I8: Длина: до, мм | J8: Измеритель
A9: 18-03-006-01 | B9: Установка радиаторов алюминиевых и биметаллических с креплением к стене с числом секций: до 4 | C9: Алюминий/биметалл | D9: Стена | E9: 0 | F9: 4 | J9: 100 шт
A10: 18-03-006-02 | B10: Установка радиаторов алюминиевых и биметаллических с креплением к стене с числом секций: свыше 4 до 10 | C10: Алюминий/биметалл | D10: Стена | E10: 4 | F10: 10 | J10: 100 шт
A11: 18-03-006-03 | B11: Установка радиаторов алюминиевых и биметаллических с креплением к стене с числом секций: свыше 10 до 16 | C11: Алюминий/биметалл | D11: Стена | E11: 10 | F11: 16 | J11: 100 шт
A12: 18-03-006-04 | B12: Установка радиаторов алюминиевых и биметаллических с креплением к полу с числом секций: до 4 | C12: Алюминий/биметалл | D12: Пол | E12: 0 | F12: 4 | J12: 100 шт
A13: 18-03-006-05 | B13: Установка радиаторов алюминиевых и биметаллических с креплением к полу с числом секций: свыше 4 до 10 | C13: Алюминий/биметалл | D13: Пол | E13: 4 | F13: 10 | J13: 100 шт
A14: 18-03-006-06 | B14: Установка радиаторов алюминиевых и биметаллических с креплением к полу с числом секций: свыше 10 до 16 | C14: Алюминий/биметалл | D14: Пол | E14: 10 | F14: 16 | J14: 100 шт
A15: 18-03-007-01 | B15: Установка радиаторов чугунных с числом секций: до 2 | C15: Чугун | E15: 0 | F15: 2 | J15: 100 шт
A16: 18-03-007-02 | B16: Установка радиаторов чугунных с числом секций: свыше 2 до 4 | C16: Чугун | E16: 2 | F16: 4 | J16: 100 шт
A17: 18-03-007-03 | B17: Установка радиаторов чугунных с числом секций: свыше 4 до 7 | C17: Чугун | E17: 4 | F17: 7 | J17: 100 шт
A18: 18-03-007-04 | B18: Установка радиаторов чугунных с числом секций: свыше 7 до 10 | C18: Чугун | E18: 7 | F18: 10 | J18: 100 шт
A19: 18-03-007-05 | B19: Установка радиаторов чугунных с числом секций: свыше 10 до 13 | C19: Чугун | E19: 10 | F19: 13 | J19: 100 шт
A20: 18-03-007-06 | B20: Установка радиаторов чугунных с числом секций: свыше 13 до 16 | C20: Чугун | E20: 13 | F20: 16 | J20: 100 шт
A21: 18-03-008-01 | B21: Установка радиаторов стальных панельных однорядных с креплением к стене длиной: до 1600 мм | C21: Стальная панель | D21: Стена | G21: 1 | H21: 0 | I21: 1600 | J21: 100 шт
A22: 18-03-008-02 | B22: Установка радиаторов стальных панельных однорядных с креплением к стене длиной: свыше 1600 до 2000 мм | C22: Стальная панель | D22: Стена | G22: 1 | H22: 1600 | I22: 2000 | J22: 100 шт
A23: 18-03-008-03 | B23: Установка радиаторов стальных панельных двухрядных с креплением к стене длиной: до 1000 мм | C23: Стальная панель | D23: Стена | G23: 2 | H23: 0 | I23: 1000 | J23: 100 шт
A24: 18-03-008-04 | B24: Установка радиаторов стальных панельных двухрядных с креплением к стене длиной: свыше 1000 до 1600 мм | C24: Стальная панель | D24: Стена | G24: 2 | H24: 1000 | I24: 1600 | J24: 100 шт
A25: 18-03-008-05 | B25: Установка радиаторов стальных панельных двухрядных с креплением к стене длиной: свыше 1600 до 2000 мм | C25: Стальная панель | D25: Стена | G25: 2 | H25: 1600 | I25: 2000 | J25: 100 шт
A26: 18-03-008-06 | B26: Установка радиаторов стальных панельных трехрядных с креплением к стене длиной: до 1000 мм | C26: Стальная панель | D26: Стена | G26: 3 | H26: 0 | I26: 1000 | J26: 100 шт
A27: 18-03-008-07 | B27: Установка радиаторов стальных панельных трехрядных с креплением к стене длиной: свыше 1000 до 1600 мм | C27: Стальная панель | D27: Стена | G27: 3 | H27: 1000 | I27: 1600 | J27: 100 шт
A28: 18-03-008-08 | B28: Установка радиаторов стальных панельных трехрядных с креплением к стене длиной: свыше 1600 до 2000 мм | C28: Стальная панель | D28: Стена | G28: 3 | H28: 1600 | I28: 2000 | J28: 100 шт
A29: 18-03-008-09 | B29: Установка радиаторов стальных панельных однорядных с креплением к полу длиной: до 1600 мм | C29: Стальная панель | D29: Пол | G29: 1 | H29: 0 | I29: 1600 | J29: 100 шт
A30: 18-03-008-10 | B30: Установка радиаторов стальных панельных однорядных с креплением к полу длиной: свыше 1600 до 2000 мм | C30: Стальная панель | D30: Пол | G30: 1 | H30: 1600 | I30: 2000 | J30: 100 шт
A31: 18-03-008-11 | B31: Установка радиаторов стальных панельных двухрядных с креплением к полу длиной: до 1000 мм | C31: Стальная панель | D31: Пол | G31: 2 | H31: 0 | I31: 1000 | J31: 100 шт
A32: 18-03-008-12 | B32: Установка радиаторов стальных панельных двухрядных с креплением к полу длиной: свыше 1000 до 1600 мм | C32: Стальная панель | D32: Пол | G32: 2 | H32: 1000 | I32: 1600 | J32: 100 шт
... A36: 18-03-008-16 | B36: Установка радиаторов стальных панельных трехрядных с креплением к полу длиной: свыше 1600 до 2000 мм | C36: Стальная панель | D36: Пол | G36: 3 | H36: 1600 | I36: 2000 | J36: 100 шт

Sheet Ресурсы примера
A1: Ресурсы трёх групп учебного примера
A2: Расход на 100 шт умножается на объём позиции. При изменении шифра исходной группы ресурсы требуется пересмотреть. Время машин не является продолжительностью монтажа. Рублёвый итог не рассчитывается.
A8: Шифр примера | B8: Выбранный шифр | C8: Код ресурса | D8: Ресурс | E8: Единица ресурса | F8: Расход на 100 шт | G8: Объём позиции | H8: Расход по строке
A9: 18-03-006-02 | B9: ='ВОР'!K9 | C9: 01.7.03.04-0001 | D9: Электроэнергия | E9: кВт-ч | F9: 4.048 | G9: =IF(B9=A9,IF(ISNUMBER('ВОР'!M9),'ВОР'!M9,""),"") | H9: =IF(AND(B9<>"",B9<>A9),"Уточните норму ресурса",IF(ISNUMBER(G9),F9*G9,""))
A10: 18-03-006-02 | B10: ='ВОР'!K9 | C10: 01.7.17.09-1013 | D10: Бур с наконечником из твердого сплава, с хвостовиком специального типа для ударного сверления отверстий в твердых материалах, общая длина 160 мм, диаметр 10 мм | E10: шт | F10: 0.1847 | G10: =IF(B10=A10,IF(ISNUMBER('ВОР'!M9),'ВОР'!M9,""),"") | H10: =IF(AND(B10<>"",B10<>A10),"Уточните норму ресурса",IF(ISNUMBER(G10),F10*G10,""))
A11: 18-03-006-02 | B11: ='ВОР'!K9 | C11: 1-100-32 | D11: Средний разряд работы 3,2 | E11: чел.-ч | F11: 59.98 | G11: =IF(B11=A11,IF(ISNUMBER('ВОР'!M9),'ВОР'!M9,""),"") | H11: =IF(AND(B11<>"",B11<>A11),"Уточните норму ресурса",IF(ISNUMBER(G11),F11*G11,""))
A12: 18-03-006-02 | B12: ='ВОР'!K9 | C12: 91.05.05-015 | D12: Краны на автомобильном ходу, грузоподъемность 16 т | E12: маш.-ч | F12: 0.32 | G12: =IF(B12=A12,IF(ISNUMBER('ВОР'!M9),'ВОР'!M9,""),"") | H12: =IF(AND(B12<>"",B12<>A12),"Уточните норму ресурса",IF(ISNUMBER(G12),F12*G12,""))
A13: 18-03-006-02 | B13: ='ВОР'!K9 | C13: 91.06.06-048 | D13: Подъемники одномачтовые, грузоподъемность до 500 кг, высота подъема 45 м | E13: маш.-ч | F13: 0.18 | G13: =IF(B13=A13,IF(ISNUMBER('ВОР'!M9),'ВОР'!M9,""),"") | H13: =IF(AND(B13<>"",B13<>A13),"Уточните норму ресурса",IF(ISNUMBER(G13),F13*G13,""))
A14: 18-03-006-02 | B14: ='ВОР'!K9 | C14: 91.14.02-001 | D14: Автомобили бортовые, грузоподъемность до 5 т | E14: маш.-ч | F14: 0.28 | G14: =IF(B14=A14,IF(ISNUMBER('ВОР'!M9),'ВОР'!M9,""),"") | H14: =IF(AND(B14<>"",B14<>A14),"Уточните норму ресурса",IF(ISNUMBER(G14),F14*G14,""))
A15: 18-03-006-06 | B15: ='ВОР'!K10 | C15: 01.7.03.04-0001 | D15: Электроэнергия | E15: кВт-ч | F15: 22.704 | G15: =IF(B15=A15,IF(ISNUMBER('ВОР'!M10),'ВОР'!M10,""),"") | H15: =IF(AND(B15<>"",B15<>A15),"Уточните норму ресурса",IF(ISNUMBER(G15),F15*G15,""))
A16: 18-03-006-06 | B16: ='ВОР'!K10 | C16: 01.7.15.07-0008 | D16: Дюбели пластмассовые с шурупами, диаметр 8 мм, длина 40 мм, диаметр шурупа 5 мм, длина шурупа 40 мм | E16: 100 шт | F16: 12.12 | G16: =IF(B16=A16,IF(ISNUMBER('ВОР'!M10),'ВОР'!M10,""),"") | H16: =IF(AND(B16<>"",B16<>A16),"Уточните норму ресурса",IF(ISNUMBER(G16),F16*G16,""))
A17: 18-03-006-06 | B17: ='ВОР'!K10 | C17: 01.7.17.09-1090 | D17: Сверло спиральное с цилиндрическим хвостовиком, оснащенное пластинами из твердого сплава карбида вольфрама, диаметр 8 мм, длина 120 мм | E17: шт | F17: 0.4927 | G17: =IF(B17=A17,IF(ISNUMBER('ВОР'!M10),'ВОР'!M10,""),"") | H17: =IF(AND(B17<>"",B17<>A17),"Уточните норму ресурса",IF(ISNUMBER(G17),F17*G17,""))
A18: 18-03-006-06 | B18: ='ВОР'!K10 | C18: 1-100-31 | D18: Средний разряд работы 3,1 | E18: чел.-ч | F18: 144.58 | G18: =IF(B18=A18,IF(ISNUMBER('ВОР'!M10),'ВОР'!M10,""),"") | H18: =IF(AND(B18<>"",B18<>A18),"Уточните норму ресурса",IF(ISNUMBER(G18),F18*G18,""))
A19: 18-03-006-06 | B19: ='ВОР'!K10 | C19: 91.05.05-015 | D19: Краны на автомобильном ходу, грузоподъемность 16 т | E19: маш.-ч | F19: 0.58 | G19: =IF(B19=A19,IF(ISNUMBER('ВОР'!M10),'ВОР'!M10,""),"") | H19: =IF(AND(B19<>"",B19<>A19),"Уточните норму ресурса",IF(ISNUMBER(G19),F19*G19,""))
A20: 18-03-006-06 | B20: ='ВОР'!K10 | C20: 91.06.06-048 | D20: Подъемники одномачтовые, грузоподъемность до 500 кг, высота подъема 45 м | E20: маш.-ч | F20: 0.36 | G20: =IF(B20=A20,IF(ISNUMBER('ВОР'!M10),'ВОР'!M10,""),"") | H20: =IF(AND(B20<>"",B20<>A20),"Уточните норму ресурса",IF(ISNUMBER(G20),F20*G20,""))
A21: 18-03-006-06 | B21: ='ВОР'!K10 | C21: 91.14.02-001 | D21: Автомобили бортовые, грузоподъемность до 5 т | E21: маш.-ч | F21: 0.68 | G21: =IF(B21=A21,IF(ISNUMBER('ВОР'!M10),'ВОР'!M10,""),"") | H21: =IF(AND(B21<>"",B21<>A21),"Уточните норму ресурса",IF(ISNUMBER(G21),F21*G21,""))
A22: 18-03-008-04 | B22: ='ВОР'!K11 | C22: 01.7.03.04-0001 | D22: Электроэнергия | E22: кВт-ч | F22: 5.3973 | G22: =IF(B22=A22,IF(ISNUMBER('ВОР'!M11),'ВОР'!M11,""),"") | H22: =IF(AND(B22<>"",B22<>A22),"Уточните норму ресурса",IF(ISNUMBER(G22),F22*G22,""))
A23: 18-03-008-04 | B23: ='ВОР'!K11 | C23: 01.7.15.07-0009 | D23: Дюбели пластмассовые с шурупами, диаметр 8 мм, длина 60 мм, диаметр шурупа 5 мм, длина шурупа 60 мм | E23: 100 шт | F23: 4.04 | G23: =IF(B23=A23,IF(ISNUMBER('ВОР'!M11),'ВОР'!M11,""),"") | H23: =IF(AND(B23<>"",B23<>A23),"Уточните норму ресурса",IF(ISNUMBER(G23),F23*G23,""))
A24: 18-03-008-04 | B24: ='ВОР'!K11 | C24: 01.7.17.09-1090 | D24: Сверло спиральное с цилиндрическим хвостовиком, оснащенное пластинами из твердого сплава карбида вольфрама, диаметр 8 мм, длина 120 мм | E24: шт | F24: 0.2463 | G24: =IF(B24=A24,IF(ISNUMBER('ВОР'!M11),'ВОР'!M11,""),"") | H24: =IF(AND(B24<>"",B24<>A24),"Уточните норму ресурса",IF(ISNUMBER(G24),F24*G24,""))
A25: 18-03-008-04 | B25: ='ВОР'!K11 | C25: 1-100-32 | D25: Средний разряд работы 3,2 | E25: чел.-ч | F25: 75.43 | G25: =IF(B25=A25,IF(ISNUMBER('ВОР'!M11),'ВОР'!M11,""),"") | H25: =IF(AND(B25<>"",B25<>A25),"Уточните норму ресурса",IF(ISNUMBER(G25),F25*G25,""))
A26: 18-03-008-04 | B26: ='ВОР'!K11 | C26: 91.05.05-015 | D26: Краны на автомобильном ходу, грузоподъемность 16 т | E26: маш.-ч | F26: 0.96 | G26: =IF(B26=A26,IF(ISNUMBER('ВОР'!M11),'ВОР'!M11,""),"") | H26: =IF(AND(B26<>"",B26<>A26),"Уточните норму ресурса",IF(ISNUMBER(G26),F26*G26,""))
A27: 18-03-008-04 | B27: ='ВОР'!K11 | C27: 91.06.06-048 | D27: Подъемники одномачтовые, грузоподъемность до 500 кг, высота подъема 45 м | E27: маш.-ч | F27: 0.51 | G27: =IF(B27=A27,IF(ISNUMBER('ВОР'!M11),'ВОР'!M11,""),"") | H27: =IF(AND(B27<>"",B27<>A27),"Уточните норму ресурса",IF(ISNUMBER(G27),F27*G27,""))
A28: 18-03-008-04 | B28: ='ВОР'!K11 | C28: 91.14.02-001 | D28: Автомобили бортовые, грузоподъемность до 5 т | E28: маш.-ч | F28: 0.74 | G28: =IF(B28=A28,IF(ISNUMBER('ВОР'!M11),'ВОР'!M11,""),"") | H28: =IF(AND(B28<>"",B28<>A28),"Уточните норму ресурса",IF(ISNUMBER(G28),F28*G28,""))
D29: Труд рабочих, всего | E29: чел.-ч | H29: =SUM(H11,H18,H25) -> 0
D30: Время машин, всего | E30: маш.-ч | H30: =SUM(H12,H13,H14,H19,H20,H21,H26,H27,H28) -> 0
D31: Материалы по проекту и комплект поставки
A32: 18-03-006-02 | D32: Секционные радиаторы; настенные анкерные кронштейны; монтажные комплекты | H32: Уточнить по проекту
A33: 18-03-006-06 | D33: Секционные радиаторы; напольные кронштейны; монтажные комплекты | H33: Уточнить по проекту
A34: 18-03-008-04 | D34: Стальные панели; настенные кронштейны | H34: Уточнить по проекту
D35: Конкретные дюбели сверяют с комплектом поставки; количества проектных групп определяют по полной норме и спецификации.

Sheet Источники
A1: Нормативные источники и исходные данные
A2: Файл служит для выбора нормы и пересчёта объёмов. Применяемую редакцию, ресурсы по проекту и комплектацию проверяет сметчик. Бланк не является установленной формой сметной документации.
A8: Документ | B8: Что подтверждает | C8: Адрес | D8: Дата проверки
A9: Приказ Минстроя от 26.08.2022 № 703/пр | B9: Изменения в приказ об утверждении сметных нормативов | C9: https://minstroyrf.gov.ru/docs/226787/ | D9: 46302
A10: Обзор ФСНБ-2022 Главгосэкспертизы | B10: Введение таблиц установки алюминиевых, биметаллических, чугунных и стальных панельных радиаторов | C10: https://gge.ru/upload/iblock/0ae/8zndrcr5ilkjcvpi5usug6w0sdvb5rur/2_2-R.A.-Karpov-_Osobennosti-perekhoda-na-RIM.-Obzor-FSNB_2022_.pdf | D10: 46302
A11: ГЭСН ФСНБ-2022, сборник 18 | B11: 28 вариантов, измеритель 100 шт, состав работ и ресурсные расходы | C11: /spravochnik/gesn-2022/18-03-006/; /spravochnik/gesn-2022/18-03-007/; /spravochnik/gesn-2022/18-03-008/ | D11: 46302
A12: Учебная ВОР | B12: 20 настенных биметаллических, 6 напольных алюминиевых и 8 настенных стальных панельных приборов; числа условные | D12: 46302
