Workbook

Sheet ВОР
A2: ВОР: переход методом ГНБ
A4: Объект | D4: Проект / лист | H4: Дата
A5: Участок | D5: База / редакция
A7: № | B7: Работа | C7: Технология | D7: Материал трубы | E7: Конструкция трубы | F7: Диаметр: обозначение, мм | G7: Длина, м | H7: Группа грунта | I7: Усилие, тс | J7: Единица исходного объёма | K7: Количество по ВОР | L7: Источник объёма | M7: Примечание | N7: Количество операций / комплектов
K8: =IF(J8="м",IF(G8="","",G8),IF(OR(J8="шт",J8="компл"),IF(N8="","",N8),""))
K9: =IF(J9="м",IF(G9="","",G9),IF(OR(J9="шт",J9="компл"),IF(N9="","",N9),""))
K10: =IF(J10="м",IF(G10="","",G10),IF(OR(J10="шт",J10="компл"),IF(N10="","",N10),""))
K11: =IF(J11="м",IF(G11="","",G11),IF(OR(J11="шт",J11="компл"),IF(N11="","",N11),""))
K12: =IF(J12="м",IF(G12="","",G12),IF(OR(J12="шт",J12="компл"),IF(N12="","",N12),""))
K13: =IF(J13="м",IF(G13="","",G13),IF(OR(J13="шт",J13="компл"),IF(N13="","",N13),""))
K14: =IF(J14="м",IF(G14="","",G14),IF(OR(J14="шт",J14="компл"),IF(N14="","",N14),""))
K15: =IF(J15="м",IF(G15="","",G15),IF(OR(J15="шт",J15="компл"),IF(N15="","",N15),""))
K16: =IF(J16="м",IF(G16="","",G16),IF(OR(J16="шт",J16="компл"),IF(N16="","",N16),""))
K17: =IF(J17="м",IF(G17="","",G17),IF(OR(J17="шт",J17="компл"),IF(N17="","",N17),""))

Sheet Выбор нормы
A2: Карточка выбора нормы ГНБ
A4: Объект | D4: Проект / лист | H4: Дата
A5: Участок | D5: База / редакция
A7: Строка ВОР | B7: База | C7: Шифр | D7: Название нормы | E7: Измеритель | F7: Исходный объём | G7: Объём нормы | H7: Размер измерителя | I7: Совпавшие признаки | J7: Проверка технической части | K7: Проверяющий
F8: =IF('ВОР'!K8="","",'ВОР'!K8) | G8: =IF(OR(F8="",H8=""),"",F8/H8) | H8: =IF(E8="100 м",100,IF(OR(E8="м",E8="шт",E8="компл"),1,""))
F9: =IF('ВОР'!K9="","",'ВОР'!K9) | G9: =IF(OR(F9="",H9=""),"",F9/H9) | H9: =IF(E9="100 м",100,IF(OR(E9="м",E9="шт",E9="компл"),1,""))
F10: =IF('ВОР'!K10="","",'ВОР'!K10) | G10: =IF(OR(F10="",H10=""),"",F10/H10) | H10: =IF(E10="100 м",100,IF(OR(E10="м",E10="шт",E10="компл"),1,""))
F11: =IF('ВОР'!K11="","",'ВОР'!K11) | G11: =IF(OR(F11="",H11=""),"",F11/H11) | H11: =IF(E11="100 м",100,IF(OR(E11="м",E11="шт",E11="компл"),1,""))
F12: =IF('ВОР'!K12="","",'ВОР'!K12) | G12: =IF(OR(F12="",H12=""),"",F12/H12) | H12: =IF(E12="100 м",100,IF(OR(E12="м",E12="шт",E12="компл"),1,""))
F13: =IF('ВОР'!K13="","",'ВОР'!K13) | G13: =IF(OR(F13="",H13=""),"",F13/H13) | H13: =IF(E13="100 м",100,IF(OR(E13="м",E13="шт",E13="компл"),1,""))
F14: =IF('ВОР'!K14="","",'ВОР'!K14) | G14: =IF(OR(F14="",H14=""),"",F14/H14) | H14: =IF(E14="100 м",100,IF(OR(E14="м",E14="шт",E14="компл"),1,""))
F15: =IF('ВОР'!K15="","",'ВОР'!K15) | G15: =IF(OR(F15="",H15=""),"",F15/H15) | H15: =IF(E15="100 м",100,IF(OR(E15="м",E15="шт",E15="компл"),1,""))
F16: =IF('ВОР'!K16="","",'ВОР'!K16) | G16: =IF(OR(F16="",H16=""),"",F16/H16) | H16: =IF(E16="100 м",100,IF(OR(E16="м",E16="шт",E16="компл"),1,""))
F17: =IF('ВОР'!K17="","",'ВОР'!K17) | G17: =IF(OR(F17="",H17=""),"",F17/H17) | H17: =IF(E17="100 м",100,IF(OR(E17="м",E17="шт",E17="компл"),1,""))

Sheet Ресурсы
A2: Ресурсы: норматив × объём нормы
A4: Объект | D4: Проект / лист | H4: Дата
A5: Участок | D5: База / редакция
A7: Шифр нормы | B7: Шифр ресурса | C7: Наименование | D7: Единица | E7: Норматив на измеритель | F7: Объём нормы | G7: Потребность | H7: Источник | I7: Отметка проекта
G8: =IF(OR(E8="",F8=""),"",E8*F8)
G9: =IF(OR(E9="",F9=""),"",E9*F9)
G10: =IF(OR(E10="",F10=""),"",E10*F10)
G11: =IF(OR(E11="",F11=""),"",E11*F11)
G12: =IF(OR(E12="",F12=""),"",E12*F12)
G13: =IF(OR(E13="",F13=""),"",E13*F13)
G14: =IF(OR(E14="",F14=""),"",E14*F14)
G15: =IF(OR(E15="",F15=""),"",E15*F15)
G16: =IF(OR(E16="",F16=""),"",E16*F16)
G17: =IF(OR(E17="",F17=""),"",E17*F17)
C19: Итого установка, маш.-ч | G19: =IF(SUM(E8:E17)=0,"",SUMIF(B8:B17,"91.04.02-031",G8:G17))
C20: Итого смесительный комплекс, маш.-ч | G20: =IF(SUM(E8:E17)=0,"",SUMIF(B8:B17,"91.07.06-001",G8:G17))
C21: Итого вода по строкам, м³ | G21: =IF(SUM(E8:E17)=0,"",SUMIF(B8:B17,"01.7.03.01-0001",G8:G17))
C23: Вода по одной строке не определяет полный объём и рецептуру бурового раствора.

Sheet Контроль
A2: Проверка подбора перед согласованием
A4: Объект | D4: Проект / лист | H4: Дата
A5: Участок | D5: База / редакция
A7: № | B7: Предмет проверки | C7: Проектные данные / основание | D7: Результат / замечание | E7: Проверяющий
A8: 1 | B8: Технология: ГНБ, продавливание или другой способ
A9: 2 | B9: Материал и конструкция: труба, пакет, футляр
A10: 3 | B10: Обозначение диаметра и характеристика нормы
A11: 4 | B11: Группа грунта по проектным данным
A12: 5 | B12: Длина перехода и предел выбранной нормы
A13: 6 | B13: Тяговое усилие проектной установки
A14: 7 | B14: Измеритель и пересчёт объёма нормы
A15: 8 | B15: Количество монтажей, демонтажей и комплектов инструмента
A16: 9 | B16: Пилотное бурение, расширение и протаскивание без повторного учёта
A17: 10 | B17: Труба, подготовка плети, котлованы и обращение со шламом
A18: 11 | B18: Полный расход и состав бурового раствора
A19: 12 | B19: Нормативная база и редакция
... A22: 15 | B22: Результат проверки и утверждение сметчиком
B25: Составил: ФИО | D25: Дата
B26: Проверил: ФИО | D26: Дата
B28: Рабочая карточка подбора; проектные основания и подписи заполняет сметчик.
